From mboxrd@z Thu Jan  1 00:00:00 1970
Return-Path: <test-report-bounces@dpdk.org>
Received: from mails.dpdk.org (mails.dpdk.org [217.70.189.124])
	by inbox.dpdk.org (Postfix) with ESMTP id 48B5843095
	for <public@inbox.dpdk.org>; Fri, 18 Aug 2023 13:12:31 +0200 (CEST)
Received: from mails.dpdk.org (localhost [127.0.0.1])
	by mails.dpdk.org (Postfix) with ESMTP id 4491D40223;
	Fri, 18 Aug 2023 13:12:31 +0200 (CEST)
Received: from mail-yw1-f225.google.com (mail-yw1-f225.google.com
 [209.85.128.225])
 by mails.dpdk.org (Postfix) with ESMTP id E25DB40223
 for <test-report@dpdk.org>; Fri, 18 Aug 2023 13:12:29 +0200 (CEST)
Received: by mail-yw1-f225.google.com with SMTP id
 00721157ae682-58c4f61ca12so7521947b3.3
 for <test-report@dpdk.org>; Fri, 18 Aug 2023 04:12:29 -0700 (PDT)
DKIM-Signature: v=1; a=rsa-sha256; c=relaxed/relaxed;
 d=iol.unh.edu; s=unh-iol; t=1692357149; x=1692961949;
 h=cc:to:from:subject:message-id:date:from:to:cc:subject:date
 :message-id:reply-to;
 bh=BU30hDcU4DcMhksYqROyFkAiWNZaWTssymKm2f3NQ/Y=;
 b=TQH4FN6bpwXwilX2kg2pkVg9wVp61B7Il9igwwQKuWEmv2OfnnqsfJo+5fMkP4JYOA
 wedSFi77UbJcvvptcQQFHyHGs1tCMcjmIxgJ1CTUrexzTW60QsARdwrurMrL8KixBnKn
 7YECt6IymGG2hD4pQ/cpmSAj+/PgOPG4GVRyw=
X-Google-DKIM-Signature: v=1; a=rsa-sha256; c=relaxed/relaxed;
 d=1e100.net; s=20221208; t=1692357149; x=1692961949;
 h=cc:to:from:subject:message-id:date:x-gm-message-state:from:to:cc
 :subject:date:message-id:reply-to;
 bh=BU30hDcU4DcMhksYqROyFkAiWNZaWTssymKm2f3NQ/Y=;
 b=ZLLthN6/bgQRQI9xpJdXfUS9Al94CB34kNIuOu/l/XRBxIMv+nAveFT6u9tFGQeglR
 N1H301nN07Yn1KBoIs+iVZCyZH7qZAGYvJttkPuVGF0X1IX02aarOn38vG7t8xLUYeC0
 rqvkv2UtL/rXpAOb8t1td/ealNQDXUt91rmgg/hCaR4Tf+22ATa+RKshqN7t/wu7H/Ll
 kQ5hPgd8lTMbKWtbca1QGG8ysdkjUvckWBXexpTduCk19cFRN6AMq2PM5zqR2OARFBUh
 0uT5kWIRmI1vCNPUN8LL7bmRGtkFHNxSbIJM2P6n5gqH3COtCz62B1db/0mfKoiaAb0L
 t9fw==
X-Gm-Message-State: AOJu0Yycav0S+o3jxfEfJclG7+vs9C/LTza0mJVYwSJ4Jat+fc8UjIBm
 vtoA1L8aN24GPPbW+O0luU6G6CJyxkfhqUqh/+yx3eHcJ+cgqXcfFF8KvaS7I1KUpZZDgnh/oQ=
 =
X-Google-Smtp-Source: AGHT+IGfld8vUKpbGAD5oZOds+thYE2p9qOH5s7JBK6lCUdmYZZvsw1DXRnYJ1n5BiNNjcP6+WMDi6NS2xsS
X-Received: by 2002:a0d:d457:0:b0:589:e713:3752 with SMTP id
 w84-20020a0dd457000000b00589e7133752mr2165714ywd.4.1692357149371; 
 Fri, 18 Aug 2023 04:12:29 -0700 (PDT)
Received: from postal.iol.unh.edu (postal.iol.unh.edu.
 [2606:4100:3880:1234::84]) by smtp-relay.gmail.com with ESMTPS id
 g3-20020a0dc403000000b0058c57c004e5sm163937ywd.69.2023.08.18.04.12.29
 (version=TLS1_2 cipher=ECDHE-ECDSA-AES128-GCM-SHA256 bits=128/128);
 Fri, 18 Aug 2023 04:12:29 -0700 (PDT)
X-Relaying-Domain: iol.unh.edu
Date: Fri, 18 Aug 2023 04:12:29 -0700 (PDT)
Message-ID: <64df521d.0d0a0220.d8270.85cbSMTPIN_ADDED_MISSING@mx.google.com>
Received: from [172.21.0.3] (unknown [172.18.0.240])
 by postal.iol.unh.edu (Postfix) with ESMTP id F17386052471;
 Fri, 18 Aug 2023 07:12:28 -0400 (EDT)
Subject: |SUCCESS| pw130499 [PATCH] common/cnxk: fix ROC naming convention
From: dpdklab@iol.unh.edu
To: Test Report <test-report@dpdk.org>
Cc: dpdk-test-reports@iol.unh.edu
Content-Type: text/plain
X-BeenThere: test-report@dpdk.org
X-Mailman-Version: 2.1.29
Precedence: list
List-Id: automatic DPDK test reports <test-report.dpdk.org>
List-Unsubscribe: <https://mails.dpdk.org/options/test-report>,
 <mailto:test-report-request@dpdk.org?subject=unsubscribe>
List-Archive: <http://mails.dpdk.org/archives/test-report/>
List-Post: <mailto:test-report@dpdk.org>
List-Help: <mailto:test-report-request@dpdk.org?subject=help>
List-Subscribe: <https://mails.dpdk.org/listinfo/test-report>,
 <mailto:test-report-request@dpdk.org?subject=subscribe>
Errors-To: test-report-bounces@dpdk.org

Test-Label: iol-compile-amd64-testing
Test-Status: SUCCESS
http://dpdk.org/patch/130499

_Testing PASS_

Submitter: Satheesh Paul Antonysamy <psatheesh@marvell.com>
Date: Friday, August 18 2023 04:01:39 
DPDK git baseline: Repo:dpdk-next-net-mrvl
  Branch: master
  CommitID:67196a9c023e18168b3c58d8b379235be7337e0f

130499 --> testing pass

Test environment and result as below:

+---------------------+--------------------+----------------------+
|     Environment     | dpdk_meson_compile | dpdk_mingw64_compile |
+=====================+====================+======================+
| FreeBSD 13          | PASS               | SKIPPED              |
+---------------------+--------------------+----------------------+
| Windows Server 2019 | PASS               | PASS                 |
+---------------------+--------------------+----------------------+
| Debian Buster       | PASS               | SKIPPED              |
+---------------------+--------------------+----------------------+
| CentOS Stream 9     | PASS               | SKIPPED              |
+---------------------+--------------------+----------------------+
| Debian Bullseye     | PASS               | SKIPPED              |
+---------------------+--------------------+----------------------+
| CentOS Stream 8     | PASS               | SKIPPED              |
+---------------------+--------------------+----------------------+
| Fedora 38           | PASS               | SKIPPED              |
+---------------------+--------------------+----------------------+
| Fedora 37           | PASS               | SKIPPED              |
+---------------------+--------------------+----------------------+
| RHEL8               | PASS               | SKIPPED              |
+---------------------+--------------------+----------------------+
| Ubuntu 20.04        | PASS               | SKIPPED              |
+---------------------+--------------------+----------------------+


FreeBSD 13
	Kernel: 13.0
	Compiler: clang 11.0.1

Windows Server 2019
	Kernel: 10.0
	Compiler: clang 14.0 and gcc 8.1.0 (MinGW)

Debian Buster
	Kernel: 5.4.0-122-generic
	Compiler: gcc 8.3.0-6

CentOS Stream 9
	Kernel: 4.18.0-240.10.1.el8_3.x86_64
	Compiler: gcc 11.3.1 20220421

Debian Bullseye
	Kernel: 5.4.0-122-generic
	Compiler: gcc 10.2.1-6

CentOS Stream 8
	Kernel: 4.18.0-240.10.1.el8_3.x86_64
	Compiler: gcc 8.4.1 20200928

Fedora 38
	Kernel: Depends on container host
	Compiler: clang 16.0.3

Fedora 37
	Kernel: Depends on container host system
	Compiler: gcc 12.3.1

RHEL8
	Kernel: 4.18.0-240.10.1.el8_3.x86_64
	Compiler: gcc 8.3.1 20191121 (Red Hat 8.3.1-5)

Ubuntu 20.04
	Kernel: 5.4.0-153-generic
	Compiler: gcc 9.4.0-1ubuntu1~20.04.1

To view detailed results, visit:
https://lab.dpdk.org/results/dashboard/patchsets/27377/

UNH-IOL DPDK Community Lab

To manage your email subscriptions, visit: 
https://lab.dpdk.org/results/dashboard/preferences/subscriptions/