From mboxrd@z Thu Jan  1 00:00:00 1970
Return-Path: <test-report-bounces@dpdk.org>
Received: from mails.dpdk.org (mails.dpdk.org [217.70.189.124])
	by inbox.dpdk.org (Postfix) with ESMTP id 5B2094309B
	for <public@inbox.dpdk.org>; Fri, 18 Aug 2023 13:51:55 +0200 (CEST)
Received: from mails.dpdk.org (localhost [127.0.0.1])
	by mails.dpdk.org (Postfix) with ESMTP id 588AE40395;
	Fri, 18 Aug 2023 13:51:55 +0200 (CEST)
Received: from mail-qv1-f99.google.com (mail-qv1-f99.google.com
 [209.85.219.99]) by mails.dpdk.org (Postfix) with ESMTP id 168A740395
 for <test-report@dpdk.org>; Fri, 18 Aug 2023 13:51:54 +0200 (CEST)
Received: by mail-qv1-f99.google.com with SMTP id
 6a1803df08f44-6459a5919cdso4392276d6.3
 for <test-report@dpdk.org>; Fri, 18 Aug 2023 04:51:54 -0700 (PDT)
DKIM-Signature: v=1; a=rsa-sha256; c=relaxed/relaxed;
 d=iol.unh.edu; s=unh-iol; t=1692359513; x=1692964313;
 h=cc:to:from:subject:message-id:date:from:to:cc:subject:date
 :message-id:reply-to;
 bh=qeCaz2WocWi0TfrL9Tmk2pcamEEtJ69niXAibPZWVZo=;
 b=h5hrkbpbHUGwzKjkMj35sqHt2F4UL9tlGLXr5Rhy1YGSi8exxrwxQFEL0vEqoMn1NF
 Y9BkDzSW8NI4QzwGP3XW/adZ9L3EpzpR8dl+t6KBFQ1avEpK7/TAGfcdZ44A5vgoJUMD
 kGMGPPGZr2h7TU4sxLSSPlZfNLVkMyeY27324=
X-Google-DKIM-Signature: v=1; a=rsa-sha256; c=relaxed/relaxed;
 d=1e100.net; s=20221208; t=1692359513; x=1692964313;
 h=cc:to:from:subject:message-id:date:x-gm-message-state:from:to:cc
 :subject:date:message-id:reply-to;
 bh=qeCaz2WocWi0TfrL9Tmk2pcamEEtJ69niXAibPZWVZo=;
 b=DS3O432AUkN8X92+TBKIhz6/UQpZowPss1uMy/u7Mk4EnLS/62QH2iXrvqVtm4BZLD
 /2n1a84e9bYK1WvxK2vBEbPDKUugAxxiMvioCR3UKYzIvDXGVmrICgVb/HiLRU1L1y97
 Gtpoub4HTz0egs+TmAjJWTv8PO7qxtjDRxW9NYds0QT+VFHA+FCydvmbkrh0GoWXo9gY
 M85urc9FmIProzHXkIzPBw0QITOYHHidryRymuz4oeSkQYFTCP3tMldHWM4eYc/ob57U
 KugQ9vgbig3oHHQOnWs8PpdgXZMqKoYgV+XK3PAywCqo8MriKWXhbXYDhiMbR7Y/k0Z2
 XR0Q==
X-Gm-Message-State: AOJu0Yz+uQgmMrF86XK1xYBG+3acjpjvslWg8M3wN55qQWF8WD4HmmSb
 UGFSDWOxUX39zkzQHjlFo0jT+MndjOktFVF9/9OSckr6cFZuSDz9TCfo4A==
X-Google-Smtp-Source: AGHT+IGMRNiQMpyMyn//PP0GySet4ZiN8zodMpkQXB0qRPJX/DnZ1XUn+AnCvSqk4dfRmCGPg+4N5w3DfdOk
X-Received: by 2002:a0c:e509:0:b0:64b:f3c:8a4b with SMTP id
 l9-20020a0ce509000000b0064b0f3c8a4bmr2782913qvm.19.1692359513453; 
 Fri, 18 Aug 2023 04:51:53 -0700 (PDT)
Received: from postal.iol.unh.edu (postal.iol.unh.edu. [132.177.123.84])
 by smtp-relay.gmail.com with ESMTPS id
 a17-20020a0cca91000000b0064729e5b2c7sm109100qvk.44.2023.08.18.04.51.53
 (version=TLS1_2 cipher=ECDHE-ECDSA-AES128-GCM-SHA256 bits=128/128);
 Fri, 18 Aug 2023 04:51:53 -0700 (PDT)
X-Relaying-Domain: iol.unh.edu
Date: Fri, 18 Aug 2023 04:51:53 -0700 (PDT)
Message-ID: <64df5b59.0c0a0220.abc5c.4824SMTPIN_ADDED_MISSING@mx.google.com>
Received: from [172.21.0.2] (unknown [172.18.0.240])
 by postal.iol.unh.edu (Postfix) with ESMTP id 2C0786052471;
 Fri, 18 Aug 2023 07:51:53 -0400 (EDT)
Subject: |SUCCESS| pw130499 [PATCH] common/cnxk: fix ROC naming convention
From: dpdklab@iol.unh.edu
To: Test Report <test-report@dpdk.org>
Cc: dpdk-test-reports@iol.unh.edu
Content-Type: text/plain
X-BeenThere: test-report@dpdk.org
X-Mailman-Version: 2.1.29
Precedence: list
List-Id: automatic DPDK test reports <test-report.dpdk.org>
List-Unsubscribe: <https://mails.dpdk.org/options/test-report>,
 <mailto:test-report-request@dpdk.org?subject=unsubscribe>
List-Archive: <http://mails.dpdk.org/archives/test-report/>
List-Post: <mailto:test-report@dpdk.org>
List-Help: <mailto:test-report-request@dpdk.org?subject=help>
List-Subscribe: <https://mails.dpdk.org/listinfo/test-report>,
 <mailto:test-report-request@dpdk.org?subject=subscribe>
Errors-To: test-report-bounces@dpdk.org

Test-Label: iol-unit-arm64-testing
Test-Status: SUCCESS
http://dpdk.org/patch/130499

_Testing PASS_

Submitter: Satheesh Paul Antonysamy <psatheesh@marvell.com>
Date: Friday, August 18 2023 04:01:39 
DPDK git baseline: Repo:dpdk-next-net-mrvl
  Branch: master
  CommitID:67196a9c023e18168b3c58d8b379235be7337e0f

130499 --> testing pass

Test environment and result as below:

+-----------------------------+---------------------------+----------------+------------------------------+--------------+
|         Environment         | cryptodev_sw_zuc_autotest | dpdk_unit_test | cryptodev_sw_snow3g_autotest | lpm_autotest |
+=============================+===========================+================+==============================+==============+
| Debian 11 (arm)             | PASS                      | SKIPPED        | PASS                         | SKIPPED      |
+-----------------------------+---------------------------+----------------+------------------------------+--------------+
| 32-bit Ubuntu 20.04.4 (ARM) | SKIPPED                   | PASS           | SKIPPED                      | SKIPPED      |
+-----------------------------+---------------------------+----------------+------------------------------+--------------+
| CentOS Stream 9 (ARM)       | SKIPPED                   | PASS           | SKIPPED                      | SKIPPED      |
+-----------------------------+---------------------------+----------------+------------------------------+--------------+
| Debian 11 (Buster) (ARM)    | SKIPPED                   | PASS           | SKIPPED                      | SKIPPED      |
+-----------------------------+---------------------------+----------------+------------------------------+--------------+
| Ubuntu 20.04 ARM SVE        | SKIPPED                   | SKIPPED        | SKIPPED                      | PASS         |
+-----------------------------+---------------------------+----------------+------------------------------+--------------+


Debian 11 (arm)
	Kernel: Container Host Kernel
	Compiler: gcc 10.2.1

32-bit Ubuntu 20.04.4 (ARM)
	Kernel: 5.4.0-148-generic aarch64
	Compiler: gcc 9.4

CentOS Stream 9 (ARM)
	Kernel: Container Host Kernel
	Compiler: gcc 11.3.1

Debian 11 (Buster) (ARM)
	Kernel: Container Host Kernel
	Compiler: gcc 10.2.1

Ubuntu 20.04 ARM SVE
	Kernel: 5.4.0-80-generic
	Compiler: gcc 10.3.0 (Ubuntu 10.3.0-1ubuntu1~20.04)

To view detailed results, visit:
https://lab.dpdk.org/results/dashboard/patchsets/27377/

UNH-IOL DPDK Community Lab

To manage your email subscriptions, visit: 
https://lab.dpdk.org/results/dashboard/preferences/subscriptions/