From mboxrd@z Thu Jan  1 00:00:00 1970
Return-Path: <test-report-bounces@dpdk.org>
Received: from mails.dpdk.org (mails.dpdk.org [217.70.189.124])
	by inbox.dpdk.org (Postfix) with ESMTP id 78D164309C
	for <public@inbox.dpdk.org>; Fri, 18 Aug 2023 14:02:42 +0200 (CEST)
Received: from mails.dpdk.org (localhost [127.0.0.1])
	by mails.dpdk.org (Postfix) with ESMTP id 7620240395;
	Fri, 18 Aug 2023 14:02:42 +0200 (CEST)
Received: from mail-io1-f98.google.com (mail-io1-f98.google.com
 [209.85.166.98]) by mails.dpdk.org (Postfix) with ESMTP id 0504B40395
 for <test-report@dpdk.org>; Fri, 18 Aug 2023 14:02:41 +0200 (CEST)
Received: by mail-io1-f98.google.com with SMTP id
 ca18e2360f4ac-790ab117bd5so25546339f.0
 for <test-report@dpdk.org>; Fri, 18 Aug 2023 05:02:40 -0700 (PDT)
DKIM-Signature: v=1; a=rsa-sha256; c=relaxed/relaxed;
 d=iol.unh.edu; s=unh-iol; t=1692360160; x=1692964960;
 h=cc:to:from:subject:message-id:date:from:to:cc:subject:date
 :message-id:reply-to;
 bh=1phUiTs683AtW0jFbEQbMXPWXLKhkiic4761z1su8Aw=;
 b=ACJFcwO4XR17PAowx+gX0BQ2CVmlB5KcDcRnjMhoH/34siZEGNs8kZhmY5PSJZJ+2I
 0NP3mYkBGKRucExOEPU876GBdeHrLrHiD2H2+gRS7wIjYSvBqoClTq1Puyf3Ens65JNu
 WokKvEs7JF4qlOyzyMB/z8aNhDL9FyL5vYey0=
X-Google-DKIM-Signature: v=1; a=rsa-sha256; c=relaxed/relaxed;
 d=1e100.net; s=20221208; t=1692360160; x=1692964960;
 h=cc:to:from:subject:message-id:date:x-gm-message-state:from:to:cc
 :subject:date:message-id:reply-to;
 bh=1phUiTs683AtW0jFbEQbMXPWXLKhkiic4761z1su8Aw=;
 b=dakDzl2bExyLFO+Xg2BMkzQKWR07OTf+YeB9fSa9OZ5xNuOclvDB9rxJqOBLUOBL9p
 bx0l9Ulu91CjGAv4QAuAZsp6l16/ZEqmNs5BMYqE/lWmYaKuSTMz0Gl5i74uKJl45TQx
 6mWOctJ3rFJgZK+BbhTLNt6U7JJKTaL7Hp6n9LCGjY3ePchFb8uxR71A/Mj7FbHsAUI/
 JEBBcpOmpvOFOJ0wNS2/0Veohlnhtlr/DmBZPug1PqQVKL3/hF005wlvGqVfaAAj6a/w
 x20eWAnk168ORNJS+j+jRKxAVMjHvZ0Y79xq4rqYfs0X5ELwTlavo1N9Nnj3vc9zMpLl
 gXZA==
X-Gm-Message-State: AOJu0YwWBR+FYfg76mjsoKlEto/Cg8iJzTnFS1/BymYS3ZcWornmogai
 9rcEQhQbazmQLQqAPIGynOpmWIZ2IsqGpdpZfAFQWKUgaArXTw4ldzgnlA==
X-Google-Smtp-Source: AGHT+IFCzjTYdFvjGzQsHUu900ygfD4stSH209Y6KPfZBUcqnnQGpob0ibWGeypLI8DXHBvVBG0qgl4XTOGV
X-Received: by 2002:a6b:d819:0:b0:790:c3d0:8f87 with SMTP id
 y25-20020a6bd819000000b00790c3d08f87mr2817233iob.19.1692360160429; 
 Fri, 18 Aug 2023 05:02:40 -0700 (PDT)
Received: from postal.iol.unh.edu (postal.iol.unh.edu. [132.177.123.84])
 by smtp-relay.gmail.com with ESMTPS id
 t13-20020a02c48d000000b0042b480b9eedsm75044jam.61.2023.08.18.05.02.40
 (version=TLS1_2 cipher=ECDHE-ECDSA-AES128-GCM-SHA256 bits=128/128);
 Fri, 18 Aug 2023 05:02:40 -0700 (PDT)
X-Relaying-Domain: iol.unh.edu
Date: Fri, 18 Aug 2023 05:02:40 -0700 (PDT)
Message-ID: <64df5de0.020a0220.6de2a.38bdSMTPIN_ADDED_MISSING@mx.google.com>
Received: from [172.21.0.2] (unknown [172.18.0.240])
 by postal.iol.unh.edu (Postfix) with ESMTP id F0A1A6052471;
 Fri, 18 Aug 2023 08:02:39 -0400 (EDT)
Subject: |SUCCESS| pw130499 [PATCH] common/cnxk: fix ROC naming convention
From: dpdklab@iol.unh.edu
To: Test Report <test-report@dpdk.org>
Cc: dpdk-test-reports@iol.unh.edu
Content-Type: text/plain
X-BeenThere: test-report@dpdk.org
X-Mailman-Version: 2.1.29
Precedence: list
List-Id: automatic DPDK test reports <test-report.dpdk.org>
List-Unsubscribe: <https://mails.dpdk.org/options/test-report>,
 <mailto:test-report-request@dpdk.org?subject=unsubscribe>
List-Archive: <http://mails.dpdk.org/archives/test-report/>
List-Post: <mailto:test-report@dpdk.org>
List-Help: <mailto:test-report-request@dpdk.org?subject=help>
List-Subscribe: <https://mails.dpdk.org/listinfo/test-report>,
 <mailto:test-report-request@dpdk.org?subject=subscribe>
Errors-To: test-report-bounces@dpdk.org

Test-Label: iol-compile-arm64-testing
Test-Status: SUCCESS
http://dpdk.org/patch/130499

_Testing PASS_

Submitter: Satheesh Paul Antonysamy <psatheesh@marvell.com>
Date: Friday, August 18 2023 04:01:39 
DPDK git baseline: Repo:dpdk-next-net-mrvl
  Branch: master
  CommitID:67196a9c023e18168b3c58d8b379235be7337e0f

130499 --> testing pass

Test environment and result as below:

+----------------------------------------+--------------------+
|              Environment               | dpdk_meson_compile |
+========================================+====================+
| Ubuntu 20.04 ARM SVE                   | PASS               |
+----------------------------------------+--------------------+
| Ubuntu 20.04 aarch32 GCC Cross Compile | PASS               |
+----------------------------------------+--------------------+
| Ubuntu 20.04 ARM Clang Cross Compile   | PASS               |
+----------------------------------------+--------------------+
| Fedora 38 (ARM Clang)                  | PASS               |
+----------------------------------------+--------------------+
| Fedora 38 (ARM)                        | PASS               |
+----------------------------------------+--------------------+
| Debian 11 (Buster) (ARM)               | PASS               |
+----------------------------------------+--------------------+
| Ubuntu 20.04 ARM GCC Cross Compile     | PASS               |
+----------------------------------------+--------------------+
| Fedora 37 (ARM)                        | PASS               |
+----------------------------------------+--------------------+
| Ubuntu 20.04 (ARM)                     | PASS               |
+----------------------------------------+--------------------+


Ubuntu 20.04 ARM SVE
	Kernel: 5.4.0-80-generic
	Compiler: gcc 10.3.0 (Ubuntu 10.3.0-1ubuntu1~20.04)

Ubuntu 20.04 aarch32 GCC Cross Compile
	Kernel: 5.4.0-72-generic
	Compiler: gcc 9.3.0

Ubuntu 20.04 ARM Clang Cross Compile
	Kernel: 5.4.0-72-generic
	Compiler: clang version 10.0.0-4ubuntu1

Fedora 38 (ARM Clang)
	Kernel: Depends on container host
	Compiler: clang 16.0.3

Fedora 38 (ARM)
	Kernel: Depends on container host
	Compiler: gcc 13.1.1

Debian 11 (Buster) (ARM)
	Kernel: Container Host Kernel
	Compiler: gcc 10.2.1

Ubuntu 20.04 ARM GCC Cross Compile
	Kernel: 5.4.0-72-generic
	Compiler: aarch64-linux-gnu-gcc (Ubuntu 9.3.0-17ubuntu1~20.04) 9.3.0

Fedora 37 (ARM)
	Kernel: Depends on container host
	Compiler: gcc 12.3.1

Ubuntu 20.04 (ARM)
	Kernel: Container Host Kernel
	Compiler: gcc 9.4.0

To view detailed results, visit:
https://lab.dpdk.org/results/dashboard/patchsets/27377/

UNH-IOL DPDK Community Lab

To manage your email subscriptions, visit: 
https://lab.dpdk.org/results/dashboard/preferences/subscriptions/