From mboxrd@z Thu Jan  1 00:00:00 1970
Return-Path: <test-report-bounces@dpdk.org>
Received: from mails.dpdk.org (mails.dpdk.org [217.70.189.124])
	by inbox.dpdk.org (Postfix) with ESMTP id 043C24309A
	for <public@inbox.dpdk.org>; Fri, 18 Aug 2023 18:50:09 +0200 (CEST)
Received: from mails.dpdk.org (localhost [127.0.0.1])
	by mails.dpdk.org (Postfix) with ESMTP id 01E5F40395;
	Fri, 18 Aug 2023 18:50:09 +0200 (CEST)
Received: from mail-ot1-f97.google.com (mail-ot1-f97.google.com
 [209.85.210.97]) by mails.dpdk.org (Postfix) with ESMTP id 4D9E640395
 for <test-report@dpdk.org>; Fri, 18 Aug 2023 18:50:07 +0200 (CEST)
Received: by mail-ot1-f97.google.com with SMTP id
 46e09a7af769-6bcd4b5ebbaso872982a34.1
 for <test-report@dpdk.org>; Fri, 18 Aug 2023 09:50:07 -0700 (PDT)
DKIM-Signature: v=1; a=rsa-sha256; c=relaxed/relaxed;
 d=iol.unh.edu; s=unh-iol; t=1692377406; x=1692982206;
 h=cc:to:from:subject:message-id:date:from:to:cc:subject:date
 :message-id:reply-to;
 bh=GS74C/BKJHUl72rEtngpVH7oqoFrSfh/LQSPuUTZGQ0=;
 b=WriaYB1nax+xQwkiUXNvLqu1sjRJhoQyrXq7AEkJUcYnb3HqH7fQfKJBphQM2ToORZ
 TS0l68LDd64/QLyJ/JHDuYL7Lsg6o1kHuRGOwWeNIiQTmUcrvnHdH2NmIKD1IckVZIvW
 riZbdjZQkfpmIaiVOZVVMDeSqol+VEVFlxBog=
X-Google-DKIM-Signature: v=1; a=rsa-sha256; c=relaxed/relaxed;
 d=1e100.net; s=20221208; t=1692377406; x=1692982206;
 h=cc:to:from:subject:message-id:date:x-gm-message-state:from:to:cc
 :subject:date:message-id:reply-to;
 bh=GS74C/BKJHUl72rEtngpVH7oqoFrSfh/LQSPuUTZGQ0=;
 b=lVaLJIle27T0HYQvDHHn8IGP62MFtJ3Z1n962WmmV/Ui4IBXzkyaeqra3206E+J7dQ
 I9Ks9kH59KjU7/kDfi1XDY1UDM6GqvGZCPIuyEBWeYPKZ6jlRAFCIRKf2wcVB5/QGBNs
 HbKLwsxkrxpi6H6dEBItibAQ/umH6gRhOJSZs/9n9Pf09IFHwBnFyZukw2omjUkG+l+O
 jQKMRISW5yarB0cTIxAGEDT9Z0eCm5dZcyAfs6BMYDRXAkoO3baJTkRmzR7v5y1FVLZ0
 YlTGFVsXRhspGgiYdRvzOEdrRcCZ5Rl7vcGLZzEfj8b0rkrinD2PpXL+LyqiNADZZ3kJ
 ZZaw==
X-Gm-Message-State: AOJu0YzohXaCyGfr+xrx7CuGgnMHroVH0wYY3yBXcpzCXcI7JIta14Dc
 mMaDNuNcvVIvtcNSpSX9sUgH2wSATFX9xcp9MBFdOUVMrEYmuGIiuirOpA==
X-Google-Smtp-Source: AGHT+IFsS7clDwT6j/WkzM0raKN+Qqo3qPsr2u4cNmU3VfkuyFShqxSBlq3dLXaVAfErwwO6kl4j7nKMtRgB
X-Received: by 2002:a05:6870:170f:b0:1bf:5d1a:41f5 with SMTP id
 h15-20020a056870170f00b001bf5d1a41f5mr3592685oae.26.1692377406695; 
 Fri, 18 Aug 2023 09:50:06 -0700 (PDT)
Received: from postal.iol.unh.edu (postal.iol.unh.edu. [132.177.123.84])
 by smtp-relay.gmail.com with ESMTPS id
 fn8-20020a056638640800b0042af5268e48sm100433jab.35.2023.08.18.09.50.06
 (version=TLS1_2 cipher=ECDHE-ECDSA-AES128-GCM-SHA256 bits=128/128);
 Fri, 18 Aug 2023 09:50:06 -0700 (PDT)
X-Relaying-Domain: iol.unh.edu
Date: Fri, 18 Aug 2023 09:50:06 -0700 (PDT)
Message-ID: <64dfa13e.050a0220.43850.4cd6SMTPIN_ADDED_MISSING@mx.google.com>
Received: from [172.21.0.2] (unknown [172.18.0.240])
 by postal.iol.unh.edu (Postfix) with ESMTP id 39E3B6052471;
 Fri, 18 Aug 2023 12:50:06 -0400 (EDT)
Subject: |SUCCESS| pw130511-130512 [PATCH] [2/2] doc: update security guide
From: dpdklab@iol.unh.edu
To: Test Report <test-report@dpdk.org>
Cc: dpdk-test-reports@iol.unh.edu
Content-Type: text/plain
X-BeenThere: test-report@dpdk.org
X-Mailman-Version: 2.1.29
Precedence: list
List-Id: automatic DPDK test reports <test-report.dpdk.org>
List-Unsubscribe: <https://mails.dpdk.org/options/test-report>,
 <mailto:test-report-request@dpdk.org?subject=unsubscribe>
List-Archive: <http://mails.dpdk.org/archives/test-report/>
List-Post: <mailto:test-report@dpdk.org>
List-Help: <mailto:test-report-request@dpdk.org?subject=help>
List-Subscribe: <https://mails.dpdk.org/listinfo/test-report>,
 <mailto:test-report-request@dpdk.org?subject=subscribe>
Errors-To: test-report-bounces@dpdk.org

Test-Label: iol-compile-amd64-testing
Test-Status: SUCCESS
http://dpdk.org/patch/130512

_Testing PASS_

Submitter: Anoob Joseph <anoobj@marvell.com>
Date: Friday, August 18 2023 09:29:43 
DPDK git baseline: Repo:dpdk
  Branch: master
  CommitID:971d2b57972919527e27ed683032a71864a2eb56

130511-130512 --> testing pass

Test environment and result as below:

+---------------------+--------------------+
|     Environment     | dpdk_meson_compile |
+=====================+====================+
| Debian Buster       | PASS               |
+---------------------+--------------------+
| CentOS Stream 8     | PASS               |
+---------------------+--------------------+
| Debian Bullseye     | PASS               |
+---------------------+--------------------+
| FreeBSD 13          | PASS               |
+---------------------+--------------------+
| CentOS Stream 9     | PASS               |
+---------------------+--------------------+
| Fedora 38           | PASS               |
+---------------------+--------------------+
| Fedora 37           | PASS               |
+---------------------+--------------------+
| openSUSE Leap 15    | PASS               |
+---------------------+--------------------+
| Ubuntu 22.04        | PASS               |
+---------------------+--------------------+
| Ubuntu 20.04        | PASS               |
+---------------------+--------------------+
| RHEL8               | PASS               |
+---------------------+--------------------+
| Windows Server 2019 | PASS               |
+---------------------+--------------------+


Debian Buster
	Kernel: 5.4.0-122-generic
	Compiler: gcc 8.3.0-6

CentOS Stream 8
	Kernel: 4.18.0-240.10.1.el8_3.x86_64
	Compiler: gcc 8.4.1 20200928

Debian Bullseye
	Kernel: 5.4.0-122-generic
	Compiler: gcc 10.2.1-6

FreeBSD 13
	Kernel: 13.0
	Compiler: clang 11.0.1

CentOS Stream 9
	Kernel: 4.18.0-240.10.1.el8_3.x86_64
	Compiler: gcc 11.3.1 20220421

Fedora 38
	Kernel: Depends on container host
	Compiler: gcc 13.1.1

Fedora 37
	Kernel: Depends on container host system
	Compiler: gcc 12.3.1

openSUSE Leap 15
	Kernel: 4.18.0-240.10.1.el8_3.x86_64
	Compiler: gcc 7.5.0

Ubuntu 22.04
	Kernel: 4.18.0-240.10.1.el8_3.x86_64
	Compiler: gcc 11.3.0

Ubuntu 20.04
	Kernel: 5.4.0-153-generic
	Compiler: gcc 9.4.0-1ubuntu1~20.04.1

RHEL8
	Kernel: 4.18.0-240.10.1.el8_3.x86_64
	Compiler: gcc 8.3.1 20191121 (Red Hat 8.3.1-5)

Windows Server 2019
	Kernel: 10.0
	Compiler: clang 14.0 and gcc 8.1.0 (MinGW)

To view detailed results, visit:
https://lab.dpdk.org/results/dashboard/patchsets/27381/

UNH-IOL DPDK Community Lab

To manage your email subscriptions, visit: 
https://lab.dpdk.org/results/dashboard/preferences/subscriptions/