From mboxrd@z Thu Jan  1 00:00:00 1970
Return-Path: <test-report-bounces@dpdk.org>
Received: from mails.dpdk.org (mails.dpdk.org [217.70.189.124])
	by inbox.dpdk.org (Postfix) with ESMTP id 067D44309A
	for <public@inbox.dpdk.org>; Fri, 18 Aug 2023 19:18:33 +0200 (CEST)
Received: from mails.dpdk.org (localhost [127.0.0.1])
	by mails.dpdk.org (Postfix) with ESMTP id 01D1840395;
	Fri, 18 Aug 2023 19:18:33 +0200 (CEST)
Received: from mail-io1-f99.google.com (mail-io1-f99.google.com
 [209.85.166.99]) by mails.dpdk.org (Postfix) with ESMTP id 84B4640395
 for <test-report@dpdk.org>; Fri, 18 Aug 2023 19:18:31 +0200 (CEST)
Received: by mail-io1-f99.google.com with SMTP id
 ca18e2360f4ac-790bed44880so38902639f.0
 for <test-report@dpdk.org>; Fri, 18 Aug 2023 10:18:31 -0700 (PDT)
DKIM-Signature: v=1; a=rsa-sha256; c=relaxed/relaxed;
 d=iol.unh.edu; s=unh-iol; t=1692379111; x=1692983911;
 h=cc:to:from:subject:message-id:date:from:to:cc:subject:date
 :message-id:reply-to;
 bh=EviI3EDl3vHc6Mw1PpCg9BSc5xv1f/M2EZAAnPtKUdU=;
 b=Q+0ClfudhwNDCv/C8Gfr/IbC/6tfeZx3Y2M5jROfAJj7jeQuDIgsbvW45B1fSStmkL
 B3r33z9E/8hTqDhA1LBhhc5nnjnUj3oxzJi+qsvlRWDNyL8SFJTVb2w6qMdyPcSER5Ct
 skIFlnOU4c5eEvIZEFfykO53d+qxTL7MzGfuY=
X-Google-DKIM-Signature: v=1; a=rsa-sha256; c=relaxed/relaxed;
 d=1e100.net; s=20221208; t=1692379111; x=1692983911;
 h=cc:to:from:subject:message-id:date:x-gm-message-state:from:to:cc
 :subject:date:message-id:reply-to;
 bh=EviI3EDl3vHc6Mw1PpCg9BSc5xv1f/M2EZAAnPtKUdU=;
 b=k1n6F940mlDP2j6hWTzi8TcjdX+1PLnqRQiYyFjq+rQ2boKwpmbMwFL2UJnpfl6i8B
 zY6Idg6+S4dN0/H6IOORbOj90VmYxiHRaSmkz0jREONSqH4bHpo9iqOclk9ygUiyShBw
 8jenfUzhoGrABjpTMpK3XLW6o9s0098PQrevw9WMTZOpNINW9ned31IetTgudbaFrmq/
 Ku8lMKiGSfojSraF/DhGBnvP3wtvUwlfy10EjtWIRtgiAe06gE+goWgj/dxAl0K57hxD
 qrHNO78UOIRWPmnM7Xgy0RNA9f9qZzv3CWEdU8fG6ufMP2X88t91sQg3jnreqoq5VVn4
 ZEhw==
X-Gm-Message-State: AOJu0YyCo2whUzixMYRIVu7aF/3eH568Yaj4tyYll946OyAVQ4V/2jhk
 /u/ZTWGtn//4ElO2p/WBT+MuqqquxQ/RA0WIs/nys3xzCh9sJ2e1Q9Jzl1TU2fNdhBxwVGFfmw=
 =
X-Google-Smtp-Source: AGHT+IGwGkRIl2tiYdu+cH8ZoZkGgZGt5U0BoaYzD37QotdSzsnsOlP4bnxzB3NevOKd/T+sZOsCEL13tRyt
X-Received: by 2002:a05:6e02:d4e:b0:349:77c7:2ab6 with SMTP id
 h14-20020a056e020d4e00b0034977c72ab6mr3460319ilj.2.1692379110971; 
 Fri, 18 Aug 2023 10:18:30 -0700 (PDT)
Received: from postal.iol.unh.edu (postal.iol.unh.edu.
 [2606:4100:3880:1234::84]) by smtp-relay.gmail.com with ESMTPS id
 x5-20020a92dc45000000b00348ccb6cc84sm102031ilq.43.2023.08.18.10.18.30
 (version=TLS1_2 cipher=ECDHE-ECDSA-AES128-GCM-SHA256 bits=128/128);
 Fri, 18 Aug 2023 10:18:30 -0700 (PDT)
X-Relaying-Domain: iol.unh.edu
Date: Fri, 18 Aug 2023 10:18:30 -0700 (PDT)
Message-ID: <64dfa7e6.920a0220.e4f02.49d1SMTPIN_ADDED_MISSING@mx.google.com>
Received: from [172.21.0.2] (unknown [172.18.0.240])
 by postal.iol.unh.edu (Postfix) with ESMTP id 7E0336052471;
 Fri, 18 Aug 2023 13:18:30 -0400 (EDT)
Subject: |SUCCESS| pw130525 [PATCH] test/security: fix IPv6 next header field
From: dpdklab@iol.unh.edu
To: Test Report <test-report@dpdk.org>
Cc: dpdk-test-reports@iol.unh.edu
Content-Type: text/plain
X-BeenThere: test-report@dpdk.org
X-Mailman-Version: 2.1.29
Precedence: list
List-Id: automatic DPDK test reports <test-report.dpdk.org>
List-Unsubscribe: <https://mails.dpdk.org/options/test-report>,
 <mailto:test-report-request@dpdk.org?subject=unsubscribe>
List-Archive: <http://mails.dpdk.org/archives/test-report/>
List-Post: <mailto:test-report@dpdk.org>
List-Help: <mailto:test-report-request@dpdk.org?subject=help>
List-Subscribe: <https://mails.dpdk.org/listinfo/test-report>,
 <mailto:test-report-request@dpdk.org?subject=subscribe>
Errors-To: test-report-bounces@dpdk.org

Test-Label: iol-unit-amd64-testing
Test-Status: SUCCESS
http://dpdk.org/patch/130525

_Testing PASS_

Submitter: Rahul Bhansali <rbhansali@marvell.com>
Date: Friday, August 18 2023 14:32:29 
DPDK git baseline: Repo:dpdk
  Branch: master
  CommitID:971d2b57972919527e27ed683032a71864a2eb56

130525 --> testing pass

Test environment and result as below:

+------------------+----------------+
|   Environment    | dpdk_unit_test |
+==================+================+
| CentOS Stream 8  | PASS           |
+------------------+----------------+
| CentOS Stream 9  | PASS           |
+------------------+----------------+
| Debian Bullseye  | PASS           |
+------------------+----------------+
| Debian Buster    | PASS           |
+------------------+----------------+
| Fedora 38        | PASS           |
+------------------+----------------+
| Fedora 37        | PASS           |
+------------------+----------------+
| RHEL8            | PASS           |
+------------------+----------------+
| openSUSE Leap 15 | PASS           |
+------------------+----------------+


CentOS Stream 8
	Kernel: 4.18.0-240.10.1.el8_3.x86_64
	Compiler: gcc 8.4.1 20200928

CentOS Stream 9
	Kernel: 4.18.0-240.10.1.el8_3.x86_64
	Compiler: gcc 11.3.1 20220421

Debian Bullseye
	Kernel: 5.4.0-122-generic
	Compiler: gcc 10.2.1-6

Debian Buster
	Kernel: 5.4.0-122-generic
	Compiler: gcc 8.3.0-6

Fedora 38
	Kernel: Depends on container host
	Compiler: gcc 13.1.1

Fedora 37
	Kernel: Depends on container host system
	Compiler: gcc 12.3.1

RHEL8
	Kernel: 4.18.0-240.10.1.el8_3.x86_64
	Compiler: gcc 8.3.1 20191121 (Red Hat 8.3.1-5)

openSUSE Leap 15
	Kernel: 4.18.0-240.10.1.el8_3.x86_64
	Compiler: gcc 7.5.0

To view detailed results, visit:
https://lab.dpdk.org/results/dashboard/patchsets/27386/

UNH-IOL DPDK Community Lab

To manage your email subscriptions, visit: 
https://lab.dpdk.org/results/dashboard/preferences/subscriptions/