From mboxrd@z Thu Jan  1 00:00:00 1970
Return-Path: <test-report-bounces@dpdk.org>
Received: from mails.dpdk.org (mails.dpdk.org [217.70.189.124])
	by inbox.dpdk.org (Postfix) with ESMTP id 8E770430C1
	for <public@inbox.dpdk.org>; Mon, 21 Aug 2023 14:38:57 +0200 (CEST)
Received: from mails.dpdk.org (localhost [127.0.0.1])
	by mails.dpdk.org (Postfix) with ESMTP id 87D5940DF5;
	Mon, 21 Aug 2023 14:38:57 +0200 (CEST)
Received: from mail-yw1-f228.google.com (mail-yw1-f228.google.com
 [209.85.128.228])
 by mails.dpdk.org (Postfix) with ESMTP id A961E40DF5
 for <test-report@dpdk.org>; Mon, 21 Aug 2023 14:38:54 +0200 (CEST)
Received: by mail-yw1-f228.google.com with SMTP id
 00721157ae682-58d40c2debeso36721867b3.2
 for <test-report@dpdk.org>; Mon, 21 Aug 2023 05:38:54 -0700 (PDT)
DKIM-Signature: v=1; a=rsa-sha256; c=relaxed/relaxed;
 d=iol.unh.edu; s=unh-iol; t=1692621534; x=1693226334;
 h=cc:to:from:subject:message-id:date:from:to:cc:subject:date
 :message-id:reply-to;
 bh=GBxm4mDx4fEB8791gW44U8UDM5KBKeciGGD6NpYhInc=;
 b=AdJLnOhyIhm8fGIixOwOpmRStvYpeet0UOvwsDBVIWZrM1NLZagPzI+aTBzaMZdkB5
 ntM9/uE8wr5wyZ7JYO3YVIPMLeWxe9hEv6Ir1V15RAthUXoHjAJWOOsnlTpj0GMIXWvz
 pCsVBOpGDxNCMAZ5cE7EPdAP7FfDvKGsygeb4=
X-Google-DKIM-Signature: v=1; a=rsa-sha256; c=relaxed/relaxed;
 d=1e100.net; s=20221208; t=1692621534; x=1693226334;
 h=cc:to:from:subject:message-id:date:x-gm-message-state:from:to:cc
 :subject:date:message-id:reply-to;
 bh=GBxm4mDx4fEB8791gW44U8UDM5KBKeciGGD6NpYhInc=;
 b=LUBzKplyPfiSgBokJVkvXYet/jOfmfd8lEEhrAM3AHIPaWUAqfJs1b/smQcp3st+AX
 NzfFH4evPQUG9B2prPdew6GMwVXgQ+FlqXryt1TAMsu/RnFmXAdxeofSy0619Wv35PjR
 stfiQe5JQVW+8oh6WtlgFMmiSqtUmd6boh+rCTucPSVbbB1ZHiT98S+czBh5OTBbznNX
 P+Rp/LvpcOSe0BZNRrjqQVyVxV/BaTSzLjmchKYABq4roYqHpTltCbmLR4n+D6DJBUby
 vzp4MLlDCN/ifyKxVBlU7+HzkMdhqtRNzmAZOBjgonFSz/VD8J+2iZX7o+3tlH6r5oL5
 Mcew==
X-Gm-Message-State: AOJu0YzsSeXxNS6aUzyr5738QiN09SjuwBIsYVyg36PuiuyRxzkENEk2
 JKSMcAqKiSLf2h9WXZMFlpkcRhVQgh6mfk68WOHOd2oNFZOO22m3/kPiPQ==
X-Google-Smtp-Source: AGHT+IGz+8eQasjwaz3Uh1LbKku+BfnpmVoQ7iQN7KkqdfRBDu1Sx5l3kC1S4PkBXFBNbhXA0zL/3RBvNEj5
X-Received: by 2002:a81:71d7:0:b0:576:bfc7:1e43 with SMTP id
 m206-20020a8171d7000000b00576bfc71e43mr5233773ywc.25.1692621534032; 
 Mon, 21 Aug 2023 05:38:54 -0700 (PDT)
Received: from postal.iol.unh.edu (postal.iol.unh.edu. [132.177.123.84])
 by smtp-relay.gmail.com with ESMTPS id
 x7-20020a814a07000000b00584590028f4sm859715ywa.9.2023.08.21.05.38.53
 (version=TLS1_2 cipher=ECDHE-ECDSA-AES128-GCM-SHA256 bits=128/128);
 Mon, 21 Aug 2023 05:38:54 -0700 (PDT)
X-Relaying-Domain: iol.unh.edu
Date: Mon, 21 Aug 2023 05:38:54 -0700 (PDT)
Message-ID: <64e35ade.810a0220.87fc9.1d11SMTPIN_ADDED_MISSING@mx.google.com>
Received: from [172.21.0.3] (unknown [172.18.0.240])
 by postal.iol.unh.edu (Postfix) with ESMTP id AD7646052471;
 Mon, 21 Aug 2023 08:38:53 -0400 (EDT)
Subject: |SUCCESS| pw130554 [PATCH] [v2] common/qat: enable QAT 2.0c devices
From: dpdklab@iol.unh.edu
To: Test Report <test-report@dpdk.org>
Cc: dpdk-test-reports@iol.unh.edu
Content-Type: text/plain
X-BeenThere: test-report@dpdk.org
X-Mailman-Version: 2.1.29
Precedence: list
List-Id: automatic DPDK test reports <test-report.dpdk.org>
List-Unsubscribe: <https://mails.dpdk.org/options/test-report>,
 <mailto:test-report-request@dpdk.org?subject=unsubscribe>
List-Archive: <http://mails.dpdk.org/archives/test-report/>
List-Post: <mailto:test-report@dpdk.org>
List-Help: <mailto:test-report-request@dpdk.org?subject=help>
List-Subscribe: <https://mails.dpdk.org/listinfo/test-report>,
 <mailto:test-report-request@dpdk.org?subject=subscribe>
Errors-To: test-report-bounces@dpdk.org

Test-Label: iol-compile-amd64-testing
Test-Status: SUCCESS
http://dpdk.org/patch/130554

_Testing PASS_

Submitter: Power, Ciara <ciara.power@intel.com>
Date: Monday, August 21 2023 09:33:49 
DPDK git baseline: Repo:dpdk
  Branch: master
  CommitID:971d2b57972919527e27ed683032a71864a2eb56

130554 --> testing pass

Test environment and result as below:

+-----------------+--------------------+
|   Environment   | dpdk_meson_compile |
+=================+====================+
| FreeBSD 13      | PASS               |
+-----------------+--------------------+
| Debian Bullseye | PASS               |
+-----------------+--------------------+
| Debian Buster   | PASS               |
+-----------------+--------------------+
| Fedora 37       | PASS               |
+-----------------+--------------------+
| Fedora 38       | PASS               |
+-----------------+--------------------+


FreeBSD 13
	Kernel: 13.0
	Compiler: clang 11.0.1

Debian Bullseye
	Kernel: 5.4.0-122-generic
	Compiler: gcc 10.2.1-6

Debian Buster
	Kernel: 5.4.0-122-generic
	Compiler: gcc 8.3.0-6

Fedora 37
	Kernel: Depends on container host system
	Compiler: gcc 12.3.1

Fedora 38
	Kernel: Depends on container host
	Compiler: gcc 13.1.1

To view detailed results, visit:
https://lab.dpdk.org/results/dashboard/patchsets/27394/

UNH-IOL DPDK Community Lab

To manage your email subscriptions, visit: 
https://lab.dpdk.org/results/dashboard/preferences/subscriptions/