From mboxrd@z Thu Jan  1 00:00:00 1970
Return-Path: <test-report-bounces@dpdk.org>
Received: from mails.dpdk.org (mails.dpdk.org [217.70.189.124])
	by inbox.dpdk.org (Postfix) with ESMTP id 8BDA7430D5
	for <public@inbox.dpdk.org>; Tue, 22 Aug 2023 23:03:25 +0200 (CEST)
Received: from mails.dpdk.org (localhost [127.0.0.1])
	by mails.dpdk.org (Postfix) with ESMTP id 822E54323A;
	Tue, 22 Aug 2023 23:03:25 +0200 (CEST)
Received: from mail-il1-f228.google.com (mail-il1-f228.google.com
 [209.85.166.228])
 by mails.dpdk.org (Postfix) with ESMTP id AB17C4021D
 for <test-report@dpdk.org>; Tue, 22 Aug 2023 23:03:24 +0200 (CEST)
Received: by mail-il1-f228.google.com with SMTP id
 e9e14a558f8ab-34cb979c9b9so4074885ab.1
 for <test-report@dpdk.org>; Tue, 22 Aug 2023 14:03:24 -0700 (PDT)
DKIM-Signature: v=1; a=rsa-sha256; c=relaxed/relaxed;
 d=iol.unh.edu; s=unh-iol; t=1692738204; x=1693343004;
 h=cc:to:from:subject:message-id:date:from:to:cc:subject:date
 :message-id:reply-to;
 bh=s/6RT3b0xta20pE3fp0830wN8vpAvEBoh7Zrk40jAYI=;
 b=d/Ay13TexnSRcqWzq4c61AS8I8mXtU9/6MIwSwwvjtJH8PepSw/TI0KZWFSLszBiYk
 LGCFNoz3R/irCrHKx2uVIwlQMNAKWezmhsnO2dyXJEjPls1bNva+wjfF3/XchW1XMGMk
 5ppvslPFrH03uirmAOW3oq0HCFl3c4B9WTbxA=
X-Google-DKIM-Signature: v=1; a=rsa-sha256; c=relaxed/relaxed;
 d=1e100.net; s=20221208; t=1692738204; x=1693343004;
 h=cc:to:from:subject:message-id:date:x-gm-message-state:from:to:cc
 :subject:date:message-id:reply-to;
 bh=s/6RT3b0xta20pE3fp0830wN8vpAvEBoh7Zrk40jAYI=;
 b=Ck6GU3hWXYXnY4HBxV9fmwhW6CCOOUGQvfCHOPS1h1Gp8QcwTxhWyD/I//a9k9Qfc4
 XiyPjYHR4XSZeh62NfsesB+iV2UN3zwYvSlI3IvltRPZ6fZ09KwIEamUTDWHq/3ByziE
 E4DXbSt0chgddOkShArTgH96MTG/qAaegplbK+OYQZtstPSksc0lWNhWprLGjYVNhAKO
 SdgsM337wXZnJFgPzXBTnm59AjnkMT1D1qoBbYDBxkp8FW+3Ug34lay9zBuM7pa7UuGy
 3L9j5h1B7LyC/WkT8qqdro9pbGH4+Xoy4uxnwnKY1zr/Awyfh0Ku3v25jWDpmf80Jtbq
 2fNQ==
X-Gm-Message-State: AOJu0Yylptc8JKcwk11G9ACOgRJmXtFju4LC5klQezYFklT875zkZTfy
 3WkKDGDg1Z0pgZRWDO14TLLzcJDK2BhD6tCrVqb2A2cNYjvbOixphIbLRg==
X-Google-Smtp-Source: AGHT+IHZQ8HIzbfa2ArBkzz3zdboKFDFqzy7BOEAY2oTKNaJXQjdf0q9x+jDOt0iPvV/Sitn/rwuHFVqEK7G
X-Received: by 2002:a92:c5a2:0:b0:348:c57f:b016 with SMTP id
 r2-20020a92c5a2000000b00348c57fb016mr772970ilt.3.1692738204142; 
 Tue, 22 Aug 2023 14:03:24 -0700 (PDT)
Received: from postal.iol.unh.edu (postal.iol.unh.edu. [132.177.123.84])
 by smtp-relay.gmail.com with ESMTPS id
 t15-20020a92c90f000000b0034622ab0d45sm462688ilp.64.2023.08.22.14.03.24
 (version=TLS1_2 cipher=ECDHE-ECDSA-AES128-GCM-SHA256 bits=128/128);
 Tue, 22 Aug 2023 14:03:24 -0700 (PDT)
X-Relaying-Domain: iol.unh.edu
Date: Tue, 22 Aug 2023 14:03:24 -0700 (PDT)
Message-ID: <64e5229c.920a0220.5c28a.5e2cSMTPIN_ADDED_MISSING@mx.google.com>
Received: from [172.21.0.2] (unknown [172.18.0.240])
 by postal.iol.unh.edu (Postfix) with ESMTP id A68366052471;
 Tue, 22 Aug 2023 17:03:23 -0400 (EDT)
Subject: |SUCCESS| pw130627 [PATCH] net/tap: fix L4 checksum
From: dpdklab@iol.unh.edu
To: Test Report <test-report@dpdk.org>
Cc: dpdk-test-reports@iol.unh.edu
Content-Type: text/plain
X-BeenThere: test-report@dpdk.org
X-Mailman-Version: 2.1.29
Precedence: list
List-Id: automatic DPDK test reports <test-report.dpdk.org>
List-Unsubscribe: <https://mails.dpdk.org/options/test-report>,
 <mailto:test-report-request@dpdk.org?subject=unsubscribe>
List-Archive: <http://mails.dpdk.org/archives/test-report/>
List-Post: <mailto:test-report@dpdk.org>
List-Help: <mailto:test-report-request@dpdk.org?subject=help>
List-Subscribe: <https://mails.dpdk.org/listinfo/test-report>,
 <mailto:test-report-request@dpdk.org?subject=subscribe>
Errors-To: test-report-bounces@dpdk.org

Test-Label: iol-unit-arm64-testing
Test-Status: SUCCESS
http://dpdk.org/patch/130627

_Testing PASS_

Submitter: David Marchand <david.marchand@redhat.com>
Date: Tuesday, August 22 2023 07:32:44 
DPDK git baseline: Repo:dpdk
  Branch: master
  CommitID:971d2b57972919527e27ed683032a71864a2eb56

130627 --> testing pass

Test environment and result as below:

+--------------------------+---------------------------+------------------------------+----------------+
|       Environment        | cryptodev_sw_zuc_autotest | cryptodev_sw_snow3g_autotest | dpdk_unit_test |
+==========================+===========================+==============================+================+
| Debian 11 (arm)          | PASS                      | PASS                         | SKIPPED        |
+--------------------------+---------------------------+------------------------------+----------------+
| CentOS Stream 9 (ARM)    | SKIPPED                   | SKIPPED                      | PASS           |
+--------------------------+---------------------------+------------------------------+----------------+
| Debian 11 (Buster) (ARM) | SKIPPED                   | SKIPPED                      | PASS           |
+--------------------------+---------------------------+------------------------------+----------------+
| Fedora 38 (ARM)          | SKIPPED                   | SKIPPED                      | PASS           |
+--------------------------+---------------------------+------------------------------+----------------+
| Fedora 37 (ARM)          | SKIPPED                   | SKIPPED                      | PASS           |
+--------------------------+---------------------------+------------------------------+----------------+
| Ubuntu 20.04 (ARM)       | SKIPPED                   | SKIPPED                      | PASS           |
+--------------------------+---------------------------+------------------------------+----------------+


Debian 11 (arm)
	Kernel: Container Host Kernel
	Compiler: gcc 10.2.1

CentOS Stream 9 (ARM)
	Kernel: Container Host Kernel
	Compiler: gcc 11.3.1

Debian 11 (Buster) (ARM)
	Kernel: Container Host Kernel
	Compiler: gcc 10.2.1

Fedora 38 (ARM)
	Kernel: Depends on container host
	Compiler: gcc 13.1.1

Fedora 37 (ARM)
	Kernel: Depends on container host
	Compiler: gcc 12.3.1

Ubuntu 20.04 (ARM)
	Kernel: Container Host Kernel
	Compiler: gcc 9.4.0

To view detailed results, visit:
https://lab.dpdk.org/results/dashboard/patchsets/27409/

UNH-IOL DPDK Community Lab

To manage your email subscriptions, visit: 
https://lab.dpdk.org/results/dashboard/preferences/subscriptions/