From mboxrd@z Thu Jan  1 00:00:00 1970
Return-Path: <test-report-bounces@dpdk.org>
Received: from mails.dpdk.org (mails.dpdk.org [217.70.189.124])
	by inbox.dpdk.org (Postfix) with ESMTP id 037D7430DF
	for <public@inbox.dpdk.org>; Wed, 23 Aug 2023 13:05:14 +0200 (CEST)
Received: from mails.dpdk.org (localhost [127.0.0.1])
	by mails.dpdk.org (Postfix) with ESMTP id D6477410F1;
	Wed, 23 Aug 2023 13:05:14 +0200 (CEST)
Received: from mail-yw1-f228.google.com (mail-yw1-f228.google.com
 [209.85.128.228])
 by mails.dpdk.org (Postfix) with ESMTP id 333EE410F1
 for <test-report@dpdk.org>; Wed, 23 Aug 2023 13:05:13 +0200 (CEST)
Received: by mail-yw1-f228.google.com with SMTP id
 00721157ae682-58dfe2d5b9aso74376487b3.1
 for <test-report@dpdk.org>; Wed, 23 Aug 2023 04:05:13 -0700 (PDT)
DKIM-Signature: v=1; a=rsa-sha256; c=relaxed/relaxed;
 d=iol.unh.edu; s=unh-iol; t=1692788712; x=1693393512;
 h=cc:to:from:subject:message-id:date:from:to:cc:subject:date
 :message-id:reply-to;
 bh=xfS/IXmvtOfhkSCAthH8Foaj2dTCd4vP1IVofL0VO5s=;
 b=hatKumgNFJtLVTMU6hYaCI40BO3yBj6cR523YvUaJ5FcnefkVdLvaI0o4kaPtQvAm/
 wridDDdmHcKcqJPOs0pn42keXlxQEX556lHk3vEM/WQnc5H0GRDAagC4jNDTTIWuE8J1
 Gh8AoBiQ2BQzfEaNymzJ/xWL7igH+khzgezog=
X-Google-DKIM-Signature: v=1; a=rsa-sha256; c=relaxed/relaxed;
 d=1e100.net; s=20221208; t=1692788712; x=1693393512;
 h=cc:to:from:subject:message-id:date:x-gm-message-state:from:to:cc
 :subject:date:message-id:reply-to;
 bh=xfS/IXmvtOfhkSCAthH8Foaj2dTCd4vP1IVofL0VO5s=;
 b=bKsEjT74hmvY0KU6k5b/hHDiq41J2iOZ7Tk8BOC8vUvvIf70k0vOQhDm8+rlyEy9Wm
 PjtNs6RG9BNbpGSxhgk/iKv1vGOFnrqjXTabf9GjRAyAx8oet6/S4gi4OazVt0KoS2NC
 MVwNDHgnPdodU37AMBxOeqza278hYhgE5aG2SBLgsYYnVTTvR4Ya/iqDSOHyPWawCAXo
 tvyYzN9ltlv3C00Ek/Gc5BgeK7B/bS61v4lslVF4jJ2oZJNqA2v2J7L6W4wNdTXfdE2x
 ZC8suVvXT8phUW5Cp32EeBGRdiAGOZ7FihfTsx6VI/rL0dmGhI/HVkasc/U2TY/YGDIj
 +EHQ==
X-Gm-Message-State: AOJu0Yw9WvIlsECnYjSjLvk1Ejm206YDQPiMyUxfnxlUsRouwHukTukh
 bMm4ML3GGDPA+fl4eu4eisaLmoPJLtFxZuTpvM85xQUHrm8Q3rWxbzEeniLsTYUrNmhMxkCf7w=
 =
X-Google-Smtp-Source: AGHT+IF2MBXuSA9AVOSkB7yzcQfnHSEY9ErbYR8ZY+vR8QZq3NOY1l4a38k986jTWE4DjTAGLJ3hsA9cO1Pe
X-Received: by 2002:a0d:cb96:0:b0:583:821b:603a with SMTP id
 n144-20020a0dcb96000000b00583821b603amr10398995ywd.20.1692788712229; 
 Wed, 23 Aug 2023 04:05:12 -0700 (PDT)
Received: from postal.iol.unh.edu (postal.iol.unh.edu.
 [2606:4100:3880:1234::84]) by smtp-relay.gmail.com with ESMTPS id
 y192-20020a81a1c9000000b005924359319fsm456449ywg.22.2023.08.23.04.05.12
 (version=TLS1_2 cipher=ECDHE-ECDSA-AES128-GCM-SHA256 bits=128/128);
 Wed, 23 Aug 2023 04:05:12 -0700 (PDT)
X-Relaying-Domain: iol.unh.edu
Date: Wed, 23 Aug 2023 04:05:12 -0700 (PDT)
Message-ID: <64e5e7e8.810a0220.39099.3251SMTPIN_ADDED_MISSING@mx.google.com>
Received: from [172.21.0.5] (unknown [172.18.0.240])
 by postal.iol.unh.edu (Postfix) with ESMTP id DDF916052471;
 Wed, 23 Aug 2023 07:05:11 -0400 (EDT)
Subject: |SUCCESS| pw130676 [PATCH] [v1,1/1] test: fix named test macro
From: dpdklab@iol.unh.edu
To: Test Report <test-report@dpdk.org>
Cc: dpdk-test-reports@iol.unh.edu
Content-Type: text/plain
X-BeenThere: test-report@dpdk.org
X-Mailman-Version: 2.1.29
Precedence: list
List-Id: automatic DPDK test reports <test-report.dpdk.org>
List-Unsubscribe: <https://mails.dpdk.org/options/test-report>,
 <mailto:test-report-request@dpdk.org?subject=unsubscribe>
List-Archive: <http://mails.dpdk.org/archives/test-report/>
List-Post: <mailto:test-report@dpdk.org>
List-Help: <mailto:test-report-request@dpdk.org?subject=help>
List-Subscribe: <https://mails.dpdk.org/listinfo/test-report>,
 <mailto:test-report-request@dpdk.org?subject=subscribe>
Errors-To: test-report-bounces@dpdk.org

Test-Label: iol-unit-amd64-testing
Test-Status: SUCCESS
http://dpdk.org/patch/130676

_Testing PASS_

Submitter: Anatoly Burakov <anatoly.burakov@intel.com>
Date: Wednesday, August 23 2023 10:00:31 
DPDK git baseline: Repo:dpdk
  Branch: master
  CommitID:971d2b57972919527e27ed683032a71864a2eb56

130676 --> testing pass

Test environment and result as below:

+---------------------+----------------+
|     Environment     | dpdk_unit_test |
+=====================+================+
| CentOS Stream 8     | PASS           |
+---------------------+----------------+
| Debian Buster       | PASS           |
+---------------------+----------------+
| Debian Bullseye     | PASS           |
+---------------------+----------------+
| Fedora 38           | PASS           |
+---------------------+----------------+
| CentOS Stream 9     | PASS           |
+---------------------+----------------+
| RHEL8               | PASS           |
+---------------------+----------------+
| Ubuntu 20.04        | PASS           |
+---------------------+----------------+
| Windows Server 2019 | PASS           |
+---------------------+----------------+
| openSUSE Leap 15    | PASS           |
+---------------------+----------------+
| Ubuntu 22.04        | PASS           |
+---------------------+----------------+
| Fedora 37           | PASS           |
+---------------------+----------------+


CentOS Stream 8
	Kernel: 4.18.0-240.10.1.el8_3.x86_64
	Compiler: gcc 8.4.1 20200928

Debian Buster
	Kernel: 5.4.0-122-generic
	Compiler: gcc 8.3.0-6

Debian Bullseye
	Kernel: 5.4.0-122-generic
	Compiler: gcc 10.2.1-6

Fedora 38
	Kernel: Depends on container host
	Compiler: gcc 13.1.1

CentOS Stream 9
	Kernel: 4.18.0-240.10.1.el8_3.x86_64
	Compiler: gcc 11.3.1 20220421

RHEL8
	Kernel: 4.18.0-240.10.1.el8_3.x86_64
	Compiler: gcc 8.3.1 20191121 (Red Hat 8.3.1-5)

Ubuntu 20.04
	Kernel: 5.4.0-153-generic
	Compiler: gcc 9.4.0-1ubuntu1~20.04.1

Windows Server 2019
	Kernel: 10.0
	Compiler: clang 14.0 and gcc 8.1.0 (MinGW)

openSUSE Leap 15
	Kernel: 4.18.0-240.10.1.el8_3.x86_64
	Compiler: gcc 7.5.0

Ubuntu 22.04
	Kernel: 4.18.0-240.10.1.el8_3.x86_64
	Compiler: gcc 11.3.0

Fedora 37
	Kernel: Depends on container host system
	Compiler: gcc 12.3.1

To view detailed results, visit:
https://lab.dpdk.org/results/dashboard/patchsets/27428/

UNH-IOL DPDK Community Lab

To manage your email subscriptions, visit: 
https://lab.dpdk.org/results/dashboard/preferences/subscriptions/