From mboxrd@z Thu Jan  1 00:00:00 1970
Return-Path: <test-report-bounces@dpdk.org>
Received: from mails.dpdk.org (mails.dpdk.org [217.70.189.124])
	by inbox.dpdk.org (Postfix) with ESMTP id 4685A43101
	for <public@inbox.dpdk.org>; Fri, 25 Aug 2023 16:53:31 +0200 (CEST)
Received: from mails.dpdk.org (localhost [127.0.0.1])
	by mails.dpdk.org (Postfix) with ESMTP id 43DB940695;
	Fri, 25 Aug 2023 16:53:31 +0200 (CEST)
Received: from mail-oa1-f99.google.com (mail-oa1-f99.google.com
 [209.85.160.99]) by mails.dpdk.org (Postfix) with ESMTP id 8854D40695
 for <test-report@dpdk.org>; Fri, 25 Aug 2023 16:53:30 +0200 (CEST)
Received: by mail-oa1-f99.google.com with SMTP id
 586e51a60fabf-1c0fa9dd74fso616221fac.3
 for <test-report@dpdk.org>; Fri, 25 Aug 2023 07:53:30 -0700 (PDT)
DKIM-Signature: v=1; a=rsa-sha256; c=relaxed/relaxed;
 d=iol.unh.edu; s=unh-iol; t=1692975210; x=1693580010;
 h=cc:to:from:subject:message-id:date:from:to:cc:subject:date
 :message-id:reply-to;
 bh=WlwalOGFS7WOWKZavp6HG4E9HSq0v+jAYNVqlYajE7Y=;
 b=KiKFtLPHUitb/ZLGF9NOefW5b0hsTFHzv9kEvfuX8j1A3qw0v/TRXvbVy7Alpq/lve
 Q5pcePYrgs/m7ZsbJ5Y9wVmjVAjARgwB6Iy0RHa8YvYJwHzDRfuTHeeZaeEBf5yY1YQ0
 0dVjjQEIidCG4v8MKzEwmoDvw3aqHsF5fXl10=
X-Google-DKIM-Signature: v=1; a=rsa-sha256; c=relaxed/relaxed;
 d=1e100.net; s=20221208; t=1692975210; x=1693580010;
 h=cc:to:from:subject:message-id:date:x-gm-message-state:from:to:cc
 :subject:date:message-id:reply-to;
 bh=WlwalOGFS7WOWKZavp6HG4E9HSq0v+jAYNVqlYajE7Y=;
 b=VEhemF/z/pX+Tuj0LT+tLuHs8UoZUFAuVXm+bfULOGUgIyZ8+0GMxMGinbPtWnVwGe
 z5MfA79uCwG5A6+3xUN0aD799ZTxguogp8OUzlT23jQJD3k83kjHL0n0QrPX082g3Jto
 myHvj6L9wbXIMldD14iRCGMbJI+y9l+gXjovJ1qYiMfvM68TrubZraHn5M5oOXsFo7fD
 oRfJfxnJ5kjjLNmtrT+wRlhjqY4dTCnFHWhTwOEYm3s2SvxVhLyA5MJFKZ3qTMLi1cof
 vRPm1LNVs79LzsMeBbezGYzGNZGfyCY7V7PUnu48rlwo78GqBVkMmfl+C22GtjoY5I3j
 32Mw==
X-Gm-Message-State: AOJu0YyFSwhOxCEiuUDMVMfZzAUf5K//Jcu0wy+iETRotQnZrhU7gfx5
 i3gmJpq20rSUS3spka/N1AUkJbP3koVwLa0b2SDxf8zQMUbY+dgIMCEU0Q==
X-Google-Smtp-Source: AGHT+IH8QuOXXCRfXqG9CpKVVeoQ5HtRA2UCBQzbcxX6nZYvxaUsDPcoEjvZ7FIOgkzklpbwWXcxNPIgEjAF
X-Received: by 2002:a05:6870:5620:b0:1bb:583a:db4a with SMTP id
 m32-20020a056870562000b001bb583adb4amr3445823oao.44.1692975209889; 
 Fri, 25 Aug 2023 07:53:29 -0700 (PDT)
Received: from postal.iol.unh.edu (postal.iol.unh.edu. [132.177.123.84])
 by smtp-relay.gmail.com with ESMTPS id
 y19-20020a056870429300b001bbd8728e2bsm120035oah.14.2023.08.25.07.53.29
 (version=TLS1_2 cipher=ECDHE-ECDSA-AES128-GCM-SHA256 bits=128/128);
 Fri, 25 Aug 2023 07:53:29 -0700 (PDT)
X-Relaying-Domain: iol.unh.edu
Date: Fri, 25 Aug 2023 07:53:29 -0700 (PDT)
Message-ID: <64e8c069.050a0220.44909.7f18SMTPIN_ADDED_MISSING@mx.google.com>
Received: from [172.21.0.2] (unknown [172.18.0.240])
 by postal.iol.unh.edu (Postfix) with ESMTP id 5C9466052471;
 Fri, 25 Aug 2023 10:53:29 -0400 (EDT)
Subject: |SUCCESS| pw130768 [PATCH] build: add pdcp to optional libs
From: dpdklab@iol.unh.edu
To: Test Report <test-report@dpdk.org>
Cc: dpdk-test-reports@iol.unh.edu
Content-Type: text/plain
X-BeenThere: test-report@dpdk.org
X-Mailman-Version: 2.1.29
Precedence: list
List-Id: automatic DPDK test reports <test-report.dpdk.org>
List-Unsubscribe: <https://mails.dpdk.org/options/test-report>,
 <mailto:test-report-request@dpdk.org?subject=unsubscribe>
List-Archive: <http://mails.dpdk.org/archives/test-report/>
List-Post: <mailto:test-report@dpdk.org>
List-Help: <mailto:test-report-request@dpdk.org?subject=help>
List-Subscribe: <https://mails.dpdk.org/listinfo/test-report>,
 <mailto:test-report-request@dpdk.org?subject=subscribe>
Errors-To: test-report-bounces@dpdk.org

Test-Label: iol-compile-amd64-testing
Test-Status: SUCCESS
http://dpdk.org/patch/130768

_Testing PASS_

Submitter: Bruce Richardson <bruce.richardson@intel.com>
Date: Friday, August 25 2023 14:18:54 
DPDK git baseline: Repo:dpdk
  Branch: master
  CommitID:934c0ccbfe881d861d749a9f8fb146d5f134c04c

130768 --> testing pass

Test environment and result as below:

+---------------------+--------------------+----------------------+
|     Environment     | dpdk_meson_compile | dpdk_mingw64_compile |
+=====================+====================+======================+
| FreeBSD 13          | PASS               | SKIPPED              |
+---------------------+--------------------+----------------------+
| CentOS Stream 9     | PASS               | SKIPPED              |
+---------------------+--------------------+----------------------+
| Debian Bullseye     | PASS               | SKIPPED              |
+---------------------+--------------------+----------------------+
| Debian Buster       | PASS               | SKIPPED              |
+---------------------+--------------------+----------------------+
| openSUSE Leap 15    | PASS               | SKIPPED              |
+---------------------+--------------------+----------------------+
| RHEL8               | PASS               | SKIPPED              |
+---------------------+--------------------+----------------------+
| Ubuntu 22.04        | PASS               | SKIPPED              |
+---------------------+--------------------+----------------------+
| Windows Server 2019 | SKIPPED            | PASS                 |
+---------------------+--------------------+----------------------+


FreeBSD 13
	Kernel: 13.0
	Compiler: clang 11.0.1

CentOS Stream 9
	Kernel: 4.18.0-240.10.1.el8_3.x86_64
	Compiler: gcc 11.3.1 20220421

Debian Bullseye
	Kernel: 5.4.0-122-generic
	Compiler: gcc 10.2.1-6

Debian Buster
	Kernel: 5.4.0-122-generic
	Compiler: gcc 8.3.0-6

openSUSE Leap 15
	Kernel: 4.18.0-240.10.1.el8_3.x86_64
	Compiler: gcc 7.5.0

RHEL8
	Kernel: 4.18.0-240.10.1.el8_3.x86_64
	Compiler: gcc 8.3.1 20191121 (Red Hat 8.3.1-5)

Ubuntu 22.04
	Kernel: 4.18.0-240.10.1.el8_3.x86_64
	Compiler: gcc 11.3.0

Windows Server 2019
	Kernel: 10.0
	Compiler: clang 14.0 and gcc 8.1.0 (MinGW)

To view detailed results, visit:
https://lab.dpdk.org/results/dashboard/patchsets/27446/

UNH-IOL DPDK Community Lab

To manage your email subscriptions, visit: 
https://lab.dpdk.org/results/dashboard/preferences/subscriptions/