From mboxrd@z Thu Jan  1 00:00:00 1970
Return-Path: <test-report-bounces@dpdk.org>
Received: from mails.dpdk.org (mails.dpdk.org [217.70.189.124])
	by inbox.dpdk.org (Postfix) with ESMTP id 8CACC43101
	for <public@inbox.dpdk.org>; Fri, 25 Aug 2023 16:57:13 +0200 (CEST)
Received: from mails.dpdk.org (localhost [127.0.0.1])
	by mails.dpdk.org (Postfix) with ESMTP id 7F38A43245;
	Fri, 25 Aug 2023 16:57:13 +0200 (CEST)
Received: from mail-oo1-f99.google.com (mail-oo1-f99.google.com
 [209.85.161.99]) by mails.dpdk.org (Postfix) with ESMTP id 13F0B43259
 for <test-report@dpdk.org>; Fri, 25 Aug 2023 16:57:12 +0200 (CEST)
Received: by mail-oo1-f99.google.com with SMTP id
 006d021491bc7-56e16e4aba7so617338eaf.2
 for <test-report@dpdk.org>; Fri, 25 Aug 2023 07:57:12 -0700 (PDT)
DKIM-Signature: v=1; a=rsa-sha256; c=relaxed/relaxed;
 d=iol.unh.edu; s=unh-iol; t=1692975431; x=1693580231;
 h=cc:to:from:subject:message-id:date:from:to:cc:subject:date
 :message-id:reply-to;
 bh=Iy38oODyU28LX1qIkmecgVeYvQhi1Sjp1THji1K9/vg=;
 b=L9m4IMy2167KlJOjs8Th67A6ShN30MXt1YnTtxwRb7hcJ7gb9NsJEoOdLtFWPDBRaN
 f0uPtW53Sq8wzqagXIfg4yx3vyJHRf9qP/UdJV+ajIoPY4q74qh6TjKyzph3nOdkw7py
 eGX0hpmZhARbv94BOn6uj0T4M/WdG22ByliuE=
X-Google-DKIM-Signature: v=1; a=rsa-sha256; c=relaxed/relaxed;
 d=1e100.net; s=20221208; t=1692975431; x=1693580231;
 h=cc:to:from:subject:message-id:date:x-gm-message-state:from:to:cc
 :subject:date:message-id:reply-to;
 bh=Iy38oODyU28LX1qIkmecgVeYvQhi1Sjp1THji1K9/vg=;
 b=mHXmEeQ2pvOwhQeOrktPvywK/FpgHc5LUbX2ekQR1wapb4FvybK/fmiG65HmrTOrrI
 fkUctb56ApkFabeLpFqmTmWL95XCs/mq1nIz5hScxxjKEr8C9lCeAejG+G/emVZZ0jRl
 K5k+8gwKb3xVCqSaxXhdgXmW2tfgcUMJ9BlMsZtI+bdHMtFrQQElHLvoeKvsxlmbgQdk
 CCy0KWBHIFn5uqa1v64x5+X5XOBa/wqhVQp0VAzyGizc8muKUX6Aizej4cPB1iy7v4zN
 TBYT68FARzvB4xN6RjS+uxXr6YCyPRTWdM6VNwqruTZ3t3+fWqWaCAh0D7L0nWLAI+Ns
 8qyQ==
X-Gm-Message-State: AOJu0Yyidbyv5Gp31CN6NIGpfE9EZp4gnv+blPsGWqNIMHI29tEWqsiU
 vrHyc3b76DBtqBWl+vkbvRC2pGY4pHORzQ50xk4CUkq9pckQc/lhEPwQaw==
X-Google-Smtp-Source: AGHT+IEYZudF2unROCt60dtWeuOkscC9fUjM6hliF+sMaS+zUp68A4tfr7LmAN7OYhE5Y6Bq63jhEauAbsqd
X-Received: by 2002:a4a:6151:0:b0:56e:4ddd:e333 with SMTP id
 u17-20020a4a6151000000b0056e4ddde333mr5275555ooe.9.1692975431484; 
 Fri, 25 Aug 2023 07:57:11 -0700 (PDT)
Received: from postal.iol.unh.edu (postal.iol.unh.edu. [132.177.123.84])
 by smtp-relay.gmail.com with ESMTPS id
 n19-20020a4ad633000000b0056cd455542fsm46272oon.0.2023.08.25.07.57.11
 (version=TLS1_2 cipher=ECDHE-ECDSA-AES128-GCM-SHA256 bits=128/128);
 Fri, 25 Aug 2023 07:57:11 -0700 (PDT)
X-Relaying-Domain: iol.unh.edu
Date: Fri, 25 Aug 2023 07:57:11 -0700 (PDT)
Message-ID: <64e8c147.4a0a0220.8094.2cebSMTPIN_ADDED_MISSING@mx.google.com>
Received: from [172.21.0.2] (unknown [172.18.0.240])
 by postal.iol.unh.edu (Postfix) with ESMTP id 0FE4A6052471;
 Fri, 25 Aug 2023 10:57:11 -0400 (EDT)
Subject: |SUCCESS| pw130768 [PATCH] build: add pdcp to optional libs
From: dpdklab@iol.unh.edu
To: Test Report <test-report@dpdk.org>
Cc: dpdk-test-reports@iol.unh.edu
Content-Type: text/plain
X-BeenThere: test-report@dpdk.org
X-Mailman-Version: 2.1.29
Precedence: list
List-Id: automatic DPDK test reports <test-report.dpdk.org>
List-Unsubscribe: <https://mails.dpdk.org/options/test-report>,
 <mailto:test-report-request@dpdk.org?subject=unsubscribe>
List-Archive: <http://mails.dpdk.org/archives/test-report/>
List-Post: <mailto:test-report@dpdk.org>
List-Help: <mailto:test-report-request@dpdk.org?subject=help>
List-Subscribe: <https://mails.dpdk.org/listinfo/test-report>,
 <mailto:test-report-request@dpdk.org?subject=subscribe>
Errors-To: test-report-bounces@dpdk.org

Test-Label: iol-compile-arm64-testing
Test-Status: SUCCESS
http://dpdk.org/patch/130768

_Testing PASS_

Submitter: Bruce Richardson <bruce.richardson@intel.com>
Date: Friday, August 25 2023 14:18:54 
DPDK git baseline: Repo:dpdk
  Branch: master
  CommitID:934c0ccbfe881d861d749a9f8fb146d5f134c04c

130768 --> testing pass

Test environment and result as below:

+--------------------------------------+--------------------+
|             Environment              | dpdk_meson_compile |
+======================================+====================+
| Ubuntu 20.04 ARM SVE                 | PASS               |
+--------------------------------------+--------------------+
| Fedora 37 (ARM)                      | PASS               |
+--------------------------------------+--------------------+
| Ubuntu 20.04 ARM Clang Cross Compile | PASS               |
+--------------------------------------+--------------------+
| Ubuntu 20.04 (ARM)                   | PASS               |
+--------------------------------------+--------------------+
| Debian 11 (Buster) (ARM)             | PASS               |
+--------------------------------------+--------------------+
| CentOS Stream 9 (ARM)                | PASS               |
+--------------------------------------+--------------------+


Ubuntu 20.04 ARM SVE
	Kernel: 5.4.0-80-generic
	Compiler: gcc 10.3.0 (Ubuntu 10.3.0-1ubuntu1~20.04)

Fedora 37 (ARM)
	Kernel: Depends on container host
	Compiler: gcc 12.3.1

Ubuntu 20.04 ARM Clang Cross Compile
	Kernel: 5.4.0-72-generic
	Compiler: clang version 10.0.0-4ubuntu1

Ubuntu 20.04 (ARM)
	Kernel: Container Host Kernel
	Compiler: gcc 9.4.0

Debian 11 (Buster) (ARM)
	Kernel: Container Host Kernel
	Compiler: gcc 10.2.1

CentOS Stream 9 (ARM)
	Kernel: Container Host Kernel
	Compiler: gcc 11.3.1

To view detailed results, visit:
https://lab.dpdk.org/results/dashboard/patchsets/27446/

UNH-IOL DPDK Community Lab

To manage your email subscriptions, visit: 
https://lab.dpdk.org/results/dashboard/preferences/subscriptions/