From mboxrd@z Thu Jan  1 00:00:00 1970
Return-Path: <test-report-bounces@dpdk.org>
Received: from mails.dpdk.org (mails.dpdk.org [217.70.189.124])
	by inbox.dpdk.org (Postfix) with ESMTP id A498943101
	for <public@inbox.dpdk.org>; Fri, 25 Aug 2023 16:57:39 +0200 (CEST)
Received: from mails.dpdk.org (localhost [127.0.0.1])
	by mails.dpdk.org (Postfix) with ESMTP id A1B3941140;
	Fri, 25 Aug 2023 16:57:39 +0200 (CEST)
Received: from mail-oo1-f100.google.com (mail-oo1-f100.google.com
 [209.85.161.100])
 by mails.dpdk.org (Postfix) with ESMTP id 3D36841140
 for <test-report@dpdk.org>; Fri, 25 Aug 2023 16:57:38 +0200 (CEST)
Received: by mail-oo1-f100.google.com with SMTP id
 006d021491bc7-56e0d6651fbso1062642eaf.1
 for <test-report@dpdk.org>; Fri, 25 Aug 2023 07:57:38 -0700 (PDT)
DKIM-Signature: v=1; a=rsa-sha256; c=relaxed/relaxed;
 d=iol.unh.edu; s=unh-iol; t=1692975457; x=1693580257;
 h=cc:to:from:subject:message-id:date:from:to:cc:subject:date
 :message-id:reply-to;
 bh=Iy38oODyU28LX1qIkmecgVeYvQhi1Sjp1THji1K9/vg=;
 b=OnBktbkX7x8PWW3UOPxgBve5B1+/p7FXH2fn3Ywu6ygamCnK8BJpyDlreNJrZ8s/cK
 U4Trny1o6PnlxiFoPJJj0cKqr+nsVxRZdykMJUkBLi5zvXJs8wyVlZJNyDAYeP7DX8rg
 peQ60w+YY5sZF9WvkWjbeI2bLDh8xCgwcbVnE=
X-Google-DKIM-Signature: v=1; a=rsa-sha256; c=relaxed/relaxed;
 d=1e100.net; s=20221208; t=1692975457; x=1693580257;
 h=cc:to:from:subject:message-id:date:x-gm-message-state:from:to:cc
 :subject:date:message-id:reply-to;
 bh=Iy38oODyU28LX1qIkmecgVeYvQhi1Sjp1THji1K9/vg=;
 b=D8EmvW+tfpdWio9FslEINi+z7t3PezORR6uomLBbya/DdN1kWFwwv2iMEScIVbtsw5
 jeYNdFpFHlMFzLzwn8TwctwECAOZgfV8JcBLhljD184u0JBf2GjnBEbdku2h66C0Jk7X
 B6EytojnUbd7fwAX4Xu8d2+ctw93uMlLa8wmwtQx22j1VTnVX7kPQS+zwsef7fvPLHyY
 F2NROWSGQ1NDMaUvWS/5jIi+23eU+w5usPoMwQXzGR0HvWhe4FNO3gmE+H7afallJlNu
 XMgTHEHEVAQ5Eku4v1ti2mhML/uJutjzPWXqBfstt9uhQZlpIxCu9C44z/F8dIdn9GAn
 xYTQ==
X-Gm-Message-State: AOJu0Yw6ilKM2lAge6hfV0ZaxO13WeVynbYcjUQT2QvynJSEEFpIG5qV
 ZPZYZi1tHjZjWxC4xgTAPoZv5oQ2C3HGDFwL5JTyhCqYddBby/1U4oGS/A==
X-Google-Smtp-Source: AGHT+IGCrRg5YtdxdwADWpRiHSfaDUNftS2ZQNp3ve0+qS1Vc/xQAElWedn5m+YvVZiGeENOZhTAmuy14tSs
X-Received: by 2002:a4a:765b:0:b0:56e:a037:3827 with SMTP id
 w27-20020a4a765b000000b0056ea0373827mr3896310ooe.0.1692975457618; 
 Fri, 25 Aug 2023 07:57:37 -0700 (PDT)
Received: from postal.iol.unh.edu (postal.iol.unh.edu. [132.177.123.84])
 by smtp-relay.gmail.com with ESMTPS id
 u124-20020a4a5782000000b00565a7243016sm129410ooa.11.2023.08.25.07.57.37
 (version=TLS1_2 cipher=ECDHE-ECDSA-AES128-GCM-SHA256 bits=128/128);
 Fri, 25 Aug 2023 07:57:37 -0700 (PDT)
X-Relaying-Domain: iol.unh.edu
Date: Fri, 25 Aug 2023 07:57:37 -0700 (PDT)
Message-ID: <64e8c161.4a0a0220.240fa.8278SMTPIN_ADDED_MISSING@mx.google.com>
Received: from [172.21.0.3] (unknown [172.18.0.240])
 by postal.iol.unh.edu (Postfix) with ESMTP id 3DEAF6052471;
 Fri, 25 Aug 2023 10:57:37 -0400 (EDT)
Subject: |SUCCESS| pw130768 [PATCH] build: add pdcp to optional libs
From: dpdklab@iol.unh.edu
To: Test Report <test-report@dpdk.org>
Cc: dpdk-test-reports@iol.unh.edu
Content-Type: text/plain
X-BeenThere: test-report@dpdk.org
X-Mailman-Version: 2.1.29
Precedence: list
List-Id: automatic DPDK test reports <test-report.dpdk.org>
List-Unsubscribe: <https://mails.dpdk.org/options/test-report>,
 <mailto:test-report-request@dpdk.org?subject=unsubscribe>
List-Archive: <http://mails.dpdk.org/archives/test-report/>
List-Post: <mailto:test-report@dpdk.org>
List-Help: <mailto:test-report-request@dpdk.org?subject=help>
List-Subscribe: <https://mails.dpdk.org/listinfo/test-report>,
 <mailto:test-report-request@dpdk.org?subject=subscribe>
Errors-To: test-report-bounces@dpdk.org

Test-Label: iol-compile-arm64-testing
Test-Status: SUCCESS
http://dpdk.org/patch/130768

_Testing PASS_

Submitter: Bruce Richardson <bruce.richardson@intel.com>
Date: Friday, August 25 2023 14:18:54 
DPDK git baseline: Repo:dpdk
  Branch: master
  CommitID:934c0ccbfe881d861d749a9f8fb146d5f134c04c

130768 --> testing pass

Test environment and result as below:

+--------------------------------------+--------------------+
|             Environment              | dpdk_meson_compile |
+======================================+====================+
| Ubuntu 20.04 ARM SVE                 | PASS               |
+--------------------------------------+--------------------+
| Fedora 37 (ARM)                      | PASS               |
+--------------------------------------+--------------------+
| Ubuntu 20.04 ARM Clang Cross Compile | PASS               |
+--------------------------------------+--------------------+
| Ubuntu 20.04 (ARM)                   | PASS               |
+--------------------------------------+--------------------+
| Debian 11 (Buster) (ARM)             | PASS               |
+--------------------------------------+--------------------+
| CentOS Stream 9 (ARM)                | PASS               |
+--------------------------------------+--------------------+


Ubuntu 20.04 ARM SVE
	Kernel: 5.4.0-80-generic
	Compiler: gcc 10.3.0 (Ubuntu 10.3.0-1ubuntu1~20.04)

Fedora 37 (ARM)
	Kernel: Depends on container host
	Compiler: gcc 12.3.1

Ubuntu 20.04 ARM Clang Cross Compile
	Kernel: 5.4.0-72-generic
	Compiler: clang version 10.0.0-4ubuntu1

Ubuntu 20.04 (ARM)
	Kernel: Container Host Kernel
	Compiler: gcc 9.4.0

Debian 11 (Buster) (ARM)
	Kernel: Container Host Kernel
	Compiler: gcc 10.2.1

CentOS Stream 9 (ARM)
	Kernel: Container Host Kernel
	Compiler: gcc 11.3.1

To view detailed results, visit:
https://lab.dpdk.org/results/dashboard/patchsets/27446/

UNH-IOL DPDK Community Lab

To manage your email subscriptions, visit: 
https://lab.dpdk.org/results/dashboard/preferences/subscriptions/