From mboxrd@z Thu Jan  1 00:00:00 1970
Return-Path: <test-report-bounces@dpdk.org>
Received: from mails.dpdk.org (mails.dpdk.org [217.70.189.124])
	by inbox.dpdk.org (Postfix) with ESMTP id D543F43101
	for <public@inbox.dpdk.org>; Fri, 25 Aug 2023 17:21:22 +0200 (CEST)
Received: from mails.dpdk.org (localhost [127.0.0.1])
	by mails.dpdk.org (Postfix) with ESMTP id D6CE540A7A;
	Fri, 25 Aug 2023 17:21:22 +0200 (CEST)
Received: from mail-pj1-f100.google.com (mail-pj1-f100.google.com
 [209.85.216.100])
 by mails.dpdk.org (Postfix) with ESMTP id 1839D40A7A
 for <test-report@dpdk.org>; Fri, 25 Aug 2023 17:21:22 +0200 (CEST)
Received: by mail-pj1-f100.google.com with SMTP id
 98e67ed59e1d1-26d0d376ec7so660258a91.2
 for <test-report@dpdk.org>; Fri, 25 Aug 2023 08:21:22 -0700 (PDT)
DKIM-Signature: v=1; a=rsa-sha256; c=relaxed/relaxed;
 d=iol.unh.edu; s=unh-iol; t=1692976881; x=1693581681;
 h=cc:to:from:subject:message-id:date:from:to:cc:subject:date
 :message-id:reply-to;
 bh=AznRsakf1nDmtU9i3SrDJwakUkE89QzlW2e1muV9YbA=;
 b=TrPt1QOnCVqml6ef4R5lGQhPR9d+PkWeFYfElTt6/F+IMaIc3CiZY1B9K5HkgVbRId
 jj+I7z9UXXNdCjtd6gkojBZ+YfOh/LUIAK3RjApyQ7kJJcJPCbsRNJFnDJPS06k63VbK
 UPkkpMrGiW04LlZmN7PoJBUgVzq8A880p0G2M=
X-Google-DKIM-Signature: v=1; a=rsa-sha256; c=relaxed/relaxed;
 d=1e100.net; s=20221208; t=1692976881; x=1693581681;
 h=cc:to:from:subject:message-id:date:x-gm-message-state:from:to:cc
 :subject:date:message-id:reply-to;
 bh=AznRsakf1nDmtU9i3SrDJwakUkE89QzlW2e1muV9YbA=;
 b=ZgzYAUpV+KAc2+jQxPqYeZRKD/WMuLW0/BvwJGHw2ejkj6c3J15Pi57tmff/y00KHm
 GCeaRpPxoyprkQKdwijarMFRKoTM0T2iTbU8/9HDdAhwG0uqW0hofu3y5IrEE5M1QO/Y
 kKH4phz/aLQo7h6cd4YdEqTTbCy8zHStmKpEVFSYx4KzUL8E6x/EsfiyJ7Klsh2uI25R
 TzakuCmz2TnhyZNo0drKrWEREIUoYajCYHuFUehVrbHhFsy9/OGfAnYniKmDwDViWuNC
 ZgNd+Cfk/eUqK4ILDU8Y5zX8FqR2Los3V2FgBUUEcauFl57VXOd+BMN25CDuciGb9u2+
 v7Dw==
X-Gm-Message-State: AOJu0YzIkFaHpDCxp+SeM0m4sa+gRwP8zAAnVwNpiry5tqmSbQobL7S1
 t6VSChD+naKLf3Md/OXmodVRIrTSIc6VEIU9MaNzFGlje7JfHNhR+/LTln+khefEzPyCAQtkUQ=
 =
X-Google-Smtp-Source: AGHT+IGPkgNeo5CiNpzaILf8UCVTOW4aOd02L5O+QthXS1C79pnYhZLK5TeokdswNgJKu4hPHLtfi5mOTe4v
X-Received: by 2002:a17:90a:ce95:b0:262:f99b:a530 with SMTP id
 g21-20020a17090ace9500b00262f99ba530mr17638061pju.34.1692976881230; 
 Fri, 25 Aug 2023 08:21:21 -0700 (PDT)
Received: from postal.iol.unh.edu (postal.iol.unh.edu.
 [2606:4100:3880:1234::84]) by smtp-relay.gmail.com with ESMTPS id
 lb15-20020a17090b4a4f00b0026b123272edsm306144pjb.1.2023.08.25.08.21.21
 (version=TLS1_2 cipher=ECDHE-ECDSA-AES128-GCM-SHA256 bits=128/128);
 Fri, 25 Aug 2023 08:21:21 -0700 (PDT)
X-Relaying-Domain: iol.unh.edu
Date: Fri, 25 Aug 2023 08:21:21 -0700 (PDT)
Message-ID: <64e8c6f1.170a0220.62752.3738SMTPIN_ADDED_MISSING@mx.google.com>
Received: from [172.21.0.2] (unknown [172.18.0.240])
 by postal.iol.unh.edu (Postfix) with ESMTP id 6BF926052471;
 Fri, 25 Aug 2023 11:21:20 -0400 (EDT)
Subject: |SUCCESS| pw130768 [PATCH] build: add pdcp to optional libs
From: dpdklab@iol.unh.edu
To: Test Report <test-report@dpdk.org>
Cc: dpdk-test-reports@iol.unh.edu
Content-Type: text/plain
X-BeenThere: test-report@dpdk.org
X-Mailman-Version: 2.1.29
Precedence: list
List-Id: automatic DPDK test reports <test-report.dpdk.org>
List-Unsubscribe: <https://mails.dpdk.org/options/test-report>,
 <mailto:test-report-request@dpdk.org?subject=unsubscribe>
List-Archive: <http://mails.dpdk.org/archives/test-report/>
List-Post: <mailto:test-report@dpdk.org>
List-Help: <mailto:test-report-request@dpdk.org?subject=help>
List-Subscribe: <https://mails.dpdk.org/listinfo/test-report>,
 <mailto:test-report-request@dpdk.org?subject=subscribe>
Errors-To: test-report-bounces@dpdk.org

Test-Label: iol-compile-amd64-testing
Test-Status: SUCCESS
http://dpdk.org/patch/130768

_Testing PASS_

Submitter: Bruce Richardson <bruce.richardson@intel.com>
Date: Friday, August 25 2023 14:18:54 
DPDK git baseline: Repo:dpdk
  Branch: master
  CommitID:934c0ccbfe881d861d749a9f8fb146d5f134c04c

130768 --> testing pass

Test environment and result as below:

+---------------------+--------------------+----------------------+
|     Environment     | dpdk_meson_compile | dpdk_mingw64_compile |
+=====================+====================+======================+
| FreeBSD 13          | PASS               | SKIPPED              |
+---------------------+--------------------+----------------------+
| CentOS Stream 9     | PASS               | SKIPPED              |
+---------------------+--------------------+----------------------+
| Debian Bullseye     | PASS               | SKIPPED              |
+---------------------+--------------------+----------------------+
| Debian Buster       | PASS               | SKIPPED              |
+---------------------+--------------------+----------------------+
| openSUSE Leap 15    | PASS               | SKIPPED              |
+---------------------+--------------------+----------------------+
| RHEL8               | PASS               | SKIPPED              |
+---------------------+--------------------+----------------------+
| Ubuntu 22.04        | PASS               | SKIPPED              |
+---------------------+--------------------+----------------------+
| Windows Server 2019 | PASS               | PASS                 |
+---------------------+--------------------+----------------------+
| CentOS Stream 8     | PASS               | SKIPPED              |
+---------------------+--------------------+----------------------+
| Fedora 37           | PASS               | SKIPPED              |
+---------------------+--------------------+----------------------+
| Fedora 38           | PASS               | SKIPPED              |
+---------------------+--------------------+----------------------+
| Ubuntu 20.04        | PASS               | SKIPPED              |
+---------------------+--------------------+----------------------+


FreeBSD 13
	Kernel: 13.0
	Compiler: clang 11.0.1

CentOS Stream 9
	Kernel: 4.18.0-240.10.1.el8_3.x86_64
	Compiler: gcc 11.3.1 20220421

Debian Bullseye
	Kernel: 5.4.0-122-generic
	Compiler: gcc 10.2.1-6

Debian Buster
	Kernel: 5.4.0-122-generic
	Compiler: gcc 8.3.0-6

openSUSE Leap 15
	Kernel: 4.18.0-240.10.1.el8_3.x86_64
	Compiler: gcc 7.5.0

RHEL8
	Kernel: 4.18.0-240.10.1.el8_3.x86_64
	Compiler: gcc 8.3.1 20191121 (Red Hat 8.3.1-5)

Ubuntu 22.04
	Kernel: 4.18.0-240.10.1.el8_3.x86_64
	Compiler: gcc 11.3.0

Windows Server 2019
	Kernel: 10.0
	Compiler: clang 14.0 and gcc 8.1.0 (MinGW)

CentOS Stream 8
	Kernel: 4.18.0-240.10.1.el8_3.x86_64
	Compiler: gcc 8.4.1 20200928

Fedora 37
	Kernel: Depends on container host system
	Compiler: gcc 12.3.1

Fedora 38
	Kernel: Depends on container host
	Compiler: clang 16.0.3

Ubuntu 20.04
	Kernel: 5.4.0-153-generic
	Compiler: gcc 9.4.0-1ubuntu1~20.04.1

To view detailed results, visit:
https://lab.dpdk.org/results/dashboard/patchsets/27446/

UNH-IOL DPDK Community Lab

To manage your email subscriptions, visit: 
https://lab.dpdk.org/results/dashboard/preferences/subscriptions/