From mboxrd@z Thu Jan  1 00:00:00 1970
Return-Path: <test-report-bounces@dpdk.org>
Received: from mails.dpdk.org (mails.dpdk.org [217.70.189.124])
	by inbox.dpdk.org (Postfix) with ESMTP id 043CE43101
	for <public@inbox.dpdk.org>; Fri, 25 Aug 2023 17:22:10 +0200 (CEST)
Received: from mails.dpdk.org (localhost [127.0.0.1])
	by mails.dpdk.org (Postfix) with ESMTP id 0459F40A7A;
	Fri, 25 Aug 2023 17:22:10 +0200 (CEST)
Received: from mail-io1-f97.google.com (mail-io1-f97.google.com
 [209.85.166.97]) by mails.dpdk.org (Postfix) with ESMTP id 2118940A7A
 for <test-report@dpdk.org>; Fri, 25 Aug 2023 17:22:09 +0200 (CEST)
Received: by mail-io1-f97.google.com with SMTP id
 ca18e2360f4ac-7927952ca67so30837639f.2
 for <test-report@dpdk.org>; Fri, 25 Aug 2023 08:22:09 -0700 (PDT)
DKIM-Signature: v=1; a=rsa-sha256; c=relaxed/relaxed;
 d=iol.unh.edu; s=unh-iol; t=1692976928; x=1693581728;
 h=cc:to:from:subject:message-id:date:from:to:cc:subject:date
 :message-id:reply-to;
 bh=AznRsakf1nDmtU9i3SrDJwakUkE89QzlW2e1muV9YbA=;
 b=iVANDXtt4tytjgC31drP9JXB4WiJDEeDujv1XjfMsn8rvVcUyUm2TTmJ3Ldgkm8Kmt
 3BJAJRzfv+SR6U6+NChuLgyt+F4fzFidjW2iz8dthc2ksJB30CUFjhQBtVZ+zMZI1lR8
 BLFvLGqSb+i5y64PszEeX3aeT/caZOwBM38vw=
X-Google-DKIM-Signature: v=1; a=rsa-sha256; c=relaxed/relaxed;
 d=1e100.net; s=20221208; t=1692976928; x=1693581728;
 h=cc:to:from:subject:message-id:date:x-gm-message-state:from:to:cc
 :subject:date:message-id:reply-to;
 bh=AznRsakf1nDmtU9i3SrDJwakUkE89QzlW2e1muV9YbA=;
 b=PqZrubOUyFH9FeAkvOq1ZpZro1TZ9aEoF/rG68qVkpjC211jIr0Nnw5auKpZpIk28y
 d49NjI4hCVwBa4yP1HY9FFsqlwDP+ihO6xNimgZ1nRBbRGhZ9ABoXQqf6pYY8P4Y8SYY
 IuGUcfOGX4VQ81qqzWBgvuvsVtlxPSFZW31iZoMBJZZENkv2D51ollM23RtdVPAptAke
 TJA1RyaulXscRvxX9sNkdKtzWeEgseDG5B3EPX3ZrkM2hTx8v4Fn611CsAwcbQvcF9h2
 OqOdPamNZrM19gsTiREqcqxQsn8FNUtTSwFWZoeJ2EjJv4Lg7AlRvq1Z1WEt/RDg9Rz8
 yZsw==
X-Gm-Message-State: AOJu0YzVFnppYVjm2LfAV/T5HNzQeZKHJNyRm0BILORrpXvHrh932ifp
 4QXSpuV1wj7BcPhDZnnIqEg4zWvYJQzW+IPXh2mxNrWApgvn93y8wskaBg==
X-Google-Smtp-Source: AGHT+IHYpAPHUV44oTwWwmDDaJYdfICextcUa/MyVAiiHxfwWEKgpjX5lxtLGVVeCs1XMTJUwg+pcOWb8ABr
X-Received: by 2002:a5e:c102:0:b0:788:2eaf:46ce with SMTP id
 v2-20020a5ec102000000b007882eaf46cemr10367112iol.9.1692976928417; 
 Fri, 25 Aug 2023 08:22:08 -0700 (PDT)
Received: from postal.iol.unh.edu (postal.iol.unh.edu. [132.177.123.84])
 by smtp-relay.gmail.com with ESMTPS id
 ce6-20020a05660242c600b007907fa5dc9csm65704iob.15.2023.08.25.08.22.08
 (version=TLS1_2 cipher=ECDHE-ECDSA-AES128-GCM-SHA256 bits=128/128);
 Fri, 25 Aug 2023 08:22:08 -0700 (PDT)
X-Relaying-Domain: iol.unh.edu
Date: Fri, 25 Aug 2023 08:22:08 -0700 (PDT)
Message-ID: <64e8c720.050a0220.e731a.4a90SMTPIN_ADDED_MISSING@mx.google.com>
Received: from [172.21.0.2] (unknown [172.18.0.240])
 by postal.iol.unh.edu (Postfix) with ESMTP id EC09E6052471;
 Fri, 25 Aug 2023 11:22:07 -0400 (EDT)
Subject: |SUCCESS| pw130768 [PATCH] build: add pdcp to optional libs
From: dpdklab@iol.unh.edu
To: Test Report <test-report@dpdk.org>
Cc: dpdk-test-reports@iol.unh.edu
Content-Type: text/plain
X-BeenThere: test-report@dpdk.org
X-Mailman-Version: 2.1.29
Precedence: list
List-Id: automatic DPDK test reports <test-report.dpdk.org>
List-Unsubscribe: <https://mails.dpdk.org/options/test-report>,
 <mailto:test-report-request@dpdk.org?subject=unsubscribe>
List-Archive: <http://mails.dpdk.org/archives/test-report/>
List-Post: <mailto:test-report@dpdk.org>
List-Help: <mailto:test-report-request@dpdk.org?subject=help>
List-Subscribe: <https://mails.dpdk.org/listinfo/test-report>,
 <mailto:test-report-request@dpdk.org?subject=subscribe>
Errors-To: test-report-bounces@dpdk.org

Test-Label: iol-compile-amd64-testing
Test-Status: SUCCESS
http://dpdk.org/patch/130768

_Testing PASS_

Submitter: Bruce Richardson <bruce.richardson@intel.com>
Date: Friday, August 25 2023 14:18:54 
DPDK git baseline: Repo:dpdk
  Branch: master
  CommitID:934c0ccbfe881d861d749a9f8fb146d5f134c04c

130768 --> testing pass

Test environment and result as below:

+---------------------+--------------------+----------------------+
|     Environment     | dpdk_meson_compile | dpdk_mingw64_compile |
+=====================+====================+======================+
| FreeBSD 13          | PASS               | SKIPPED              |
+---------------------+--------------------+----------------------+
| CentOS Stream 9     | PASS               | SKIPPED              |
+---------------------+--------------------+----------------------+
| Debian Bullseye     | PASS               | SKIPPED              |
+---------------------+--------------------+----------------------+
| Debian Buster       | PASS               | SKIPPED              |
+---------------------+--------------------+----------------------+
| openSUSE Leap 15    | PASS               | SKIPPED              |
+---------------------+--------------------+----------------------+
| RHEL8               | PASS               | SKIPPED              |
+---------------------+--------------------+----------------------+
| Ubuntu 22.04        | PASS               | SKIPPED              |
+---------------------+--------------------+----------------------+
| Windows Server 2019 | PASS               | PASS                 |
+---------------------+--------------------+----------------------+
| CentOS Stream 8     | PASS               | SKIPPED              |
+---------------------+--------------------+----------------------+
| Fedora 37           | PASS               | SKIPPED              |
+---------------------+--------------------+----------------------+
| Fedora 38           | PASS               | SKIPPED              |
+---------------------+--------------------+----------------------+
| Ubuntu 20.04        | PASS               | SKIPPED              |
+---------------------+--------------------+----------------------+


FreeBSD 13
	Kernel: 13.0
	Compiler: clang 11.0.1

CentOS Stream 9
	Kernel: 4.18.0-240.10.1.el8_3.x86_64
	Compiler: gcc 11.3.1 20220421

Debian Bullseye
	Kernel: 5.4.0-122-generic
	Compiler: gcc 10.2.1-6

Debian Buster
	Kernel: 5.4.0-122-generic
	Compiler: gcc 8.3.0-6

openSUSE Leap 15
	Kernel: 4.18.0-240.10.1.el8_3.x86_64
	Compiler: gcc 7.5.0

RHEL8
	Kernel: 4.18.0-240.10.1.el8_3.x86_64
	Compiler: gcc 8.3.1 20191121 (Red Hat 8.3.1-5)

Ubuntu 22.04
	Kernel: 4.18.0-240.10.1.el8_3.x86_64
	Compiler: gcc 11.3.0

Windows Server 2019
	Kernel: 10.0
	Compiler: clang 14.0 and gcc 8.1.0 (MinGW)

CentOS Stream 8
	Kernel: 4.18.0-240.10.1.el8_3.x86_64
	Compiler: gcc 8.4.1 20200928

Fedora 37
	Kernel: Depends on container host system
	Compiler: gcc 12.3.1

Fedora 38
	Kernel: Depends on container host
	Compiler: clang 16.0.3

Ubuntu 20.04
	Kernel: 5.4.0-153-generic
	Compiler: gcc 9.4.0-1ubuntu1~20.04.1

To view detailed results, visit:
https://lab.dpdk.org/results/dashboard/patchsets/27446/

UNH-IOL DPDK Community Lab

To manage your email subscriptions, visit: 
https://lab.dpdk.org/results/dashboard/preferences/subscriptions/