From mboxrd@z Thu Jan 1 00:00:00 1970 Return-Path: Received: from mails.dpdk.org (mails.dpdk.org [217.70.189.124]) by inbox.dpdk.org (Postfix) with ESMTP id 12DCD43101 for ; Fri, 25 Aug 2023 17:27:51 +0200 (CEST) Received: from mails.dpdk.org (localhost [127.0.0.1]) by mails.dpdk.org (Postfix) with ESMTP id 1476A40A7A; Fri, 25 Aug 2023 17:27:51 +0200 (CEST) Received: from mail-oo1-f98.google.com (mail-oo1-f98.google.com [209.85.161.98]) by mails.dpdk.org (Postfix) with ESMTP id DD4D840A7A for ; Fri, 25 Aug 2023 17:27:48 +0200 (CEST) Received: by mail-oo1-f98.google.com with SMTP id 006d021491bc7-57355a16941so145096eaf.2 for ; Fri, 25 Aug 2023 08:27:48 -0700 (PDT) DKIM-Signature: v=1; a=rsa-sha256; c=relaxed/relaxed; d=iol.unh.edu; s=unh-iol; t=1692977268; x=1693582068; h=cc:to:from:subject:message-id:date:from:to:cc:subject:date :message-id:reply-to; bh=LQXJrck9dR7gaRxJGEEEr1vcya9Lg4PrJIJFlN7BZLo=; b=b4WfNalWD9DLc2gruddOR2P8Mgj834v3yUuuyzTHXu84gntFRAxcJRQg3RqPaB6Dn/ UvJ9mc3mZPnuIy93W3UBNhIwxdLh8s6VHpYdwX0XZHSOi3gxawshRFWrOlw8VTwBAMgF IVoHAMT9nVnuhFqdJX1ldEG9rKVI+UPE4PxTc= X-Google-DKIM-Signature: v=1; a=rsa-sha256; c=relaxed/relaxed; d=1e100.net; s=20221208; t=1692977268; x=1693582068; h=cc:to:from:subject:message-id:date:x-gm-message-state:from:to:cc :subject:date:message-id:reply-to; bh=LQXJrck9dR7gaRxJGEEEr1vcya9Lg4PrJIJFlN7BZLo=; b=DZ/bI/SBtVRB7D5Ua76mPmbeJVFtIhhm4Noe0TEhMevA2A8Grbl8L4nURImtOwViI9 OgDU0FQv/rPT/9jm233Rx8ft2XDhDrQ7+E0x0FHUQQp0IWvYakOW8oFXYrOReI2LlaBj GOytjh0e0rf6JUbzxS1rJM89surnYW9CQOOebqUwkcwAOANEgjnNwSLWjQzpU0+2+BDX nmMOkkRHPZMXHMwDx0jmbrim9iEts6TPOH8d43oKZAxZQb3OK/C3WeMF+dBUVTkmZDEP 5kX4uE4C8ljDIp5R5LZPTIhw3eTfPPyt8CL77v5wP4GUBJbVjMBQ7UaA1/0X+25gy4xe 2qCA== X-Gm-Message-State: AOJu0YypoOq1t5D2q+nFXq1Vn1eyoC20cSV+7wKrmpNT65XvX0I2UsMO TetvCltThLKJ7wvVxqC1bdxEUJv09UptsTDiqZ1/OB9JEE5MgsySeiKIeBa900vUlb/EBpKKeA= = X-Google-Smtp-Source: AGHT+IG8eqImXnaqhfjKUdXXb0I0Cdm/fyJgCFh37yOvSm6t2G3V0BdGgqZFQ/qn5+ZbGnWe595lczzvxpyu X-Received: by 2002:a4a:755c:0:b0:571:1fad:ebdf with SMTP id g28-20020a4a755c000000b005711fadebdfmr5520828oof.4.1692977268260; Fri, 25 Aug 2023 08:27:48 -0700 (PDT) Received: from postal.iol.unh.edu (postal.iol.unh.edu. [2606:4100:3880:1234::84]) by smtp-relay.gmail.com with ESMTPS id z188-20020a4a49c5000000b0057294bec309sm134352ooa.3.2023.08.25.08.27.48 (version=TLS1_2 cipher=ECDHE-ECDSA-AES128-GCM-SHA256 bits=128/128); Fri, 25 Aug 2023 08:27:48 -0700 (PDT) X-Relaying-Domain: iol.unh.edu Date: Fri, 25 Aug 2023 08:27:48 -0700 (PDT) Message-ID: <64e8c874.4a0a0220.354f7.90c6SMTPIN_ADDED_MISSING@mx.google.com> Received: from [172.21.0.3] (unknown [172.18.0.240]) by postal.iol.unh.edu (Postfix) with ESMTP id C0A016052471; Fri, 25 Aug 2023 11:27:47 -0400 (EDT) Subject: |SUCCESS| pw130768 [PATCH] build: add pdcp to optional libs From: dpdklab@iol.unh.edu To: Test Report Cc: dpdk-test-reports@iol.unh.edu Content-Type: text/plain X-BeenThere: test-report@dpdk.org X-Mailman-Version: 2.1.29 Precedence: list List-Id: automatic DPDK test reports List-Unsubscribe: , List-Archive: List-Post: List-Help: List-Subscribe: , Errors-To: test-report-bounces@dpdk.org Test-Label: iol-unit-amd64-testing Test-Status: SUCCESS http://dpdk.org/patch/130768 _Testing PASS_ Submitter: Bruce Richardson Date: Friday, August 25 2023 14:18:54 DPDK git baseline: Repo:dpdk Branch: master CommitID:934c0ccbfe881d861d749a9f8fb146d5f134c04c 130768 --> testing pass Test environment and result as below: +---------------------+----------------+ | Environment | dpdk_unit_test | +=====================+================+ | CentOS Stream 8 | PASS | +---------------------+----------------+ | CentOS Stream 9 | PASS | +---------------------+----------------+ | Fedora 38 | PASS | +---------------------+----------------+ | Debian Buster | PASS | +---------------------+----------------+ | Windows Server 2019 | PASS | +---------------------+----------------+ | Fedora 37 | PASS | +---------------------+----------------+ | Debian Bullseye | PASS | +---------------------+----------------+ | openSUSE Leap 15 | PASS | +---------------------+----------------+ | RHEL8 | PASS | +---------------------+----------------+ | Ubuntu 20.04 | PASS | +---------------------+----------------+ | Ubuntu 22.04 | PASS | +---------------------+----------------+ CentOS Stream 8 Kernel: 4.18.0-240.10.1.el8_3.x86_64 Compiler: gcc 8.4.1 20200928 CentOS Stream 9 Kernel: 4.18.0-240.10.1.el8_3.x86_64 Compiler: gcc 11.3.1 20220421 Fedora 38 Kernel: Depends on container host Compiler: gcc 13.1.1 Debian Buster Kernel: 5.4.0-122-generic Compiler: gcc 8.3.0-6 Windows Server 2019 Kernel: 10.0 Compiler: clang 14.0 and gcc 8.1.0 (MinGW) Fedora 37 Kernel: Depends on container host system Compiler: gcc 12.3.1 Debian Bullseye Kernel: 5.4.0-122-generic Compiler: gcc 10.2.1-6 openSUSE Leap 15 Kernel: 4.18.0-240.10.1.el8_3.x86_64 Compiler: gcc 7.5.0 RHEL8 Kernel: 4.18.0-240.10.1.el8_3.x86_64 Compiler: gcc 8.3.1 20191121 (Red Hat 8.3.1-5) Ubuntu 20.04 Kernel: 5.4.0-153-generic Compiler: gcc 9.4.0-1ubuntu1~20.04.1 Ubuntu 22.04 Kernel: 4.18.0-240.10.1.el8_3.x86_64 Compiler: gcc 11.3.0 To view detailed results, visit: https://lab.dpdk.org/results/dashboard/patchsets/27446/ UNH-IOL DPDK Community Lab To manage your email subscriptions, visit: https://lab.dpdk.org/results/dashboard/preferences/subscriptions/