From: dpdklab@iol.unh.edu
To: Test Report <test-report@dpdk.org>
Cc: dpdk-test-reports@iol.unh.edu
Subject: |SUCCESS| [GIT MASTER] ac1d4db91e9955148e82f2caaa107434409cf35e
Date: Mon, 28 Aug 2023 18:00:50 -0700 (PDT) [thread overview]
Message-ID: <64ed4342.920a0220.7aaf7.3757SMTPIN_ADDED_MISSING@mx.google.com> (raw)
_Testing PASS_
Branch: dpdk
ac1d4db91e9955148e82f2caaa107434409cf35e --> testing pass
Test environment and result as below:
+----------------------------------------+--------------------+
| Environment | dpdk_meson_compile |
+========================================+====================+
| Ubuntu 20.04 ARM SVE | PASS |
+----------------------------------------+--------------------+
| Ubuntu 20.04 ARM GCC Cross Compile | PASS |
+----------------------------------------+--------------------+
| Ubuntu 20.04 ARM Clang Cross Compile | PASS |
+----------------------------------------+--------------------+
| Ubuntu 20.04 aarch32 GCC Cross Compile | PASS |
+----------------------------------------+--------------------+
| Fedora 37 (ARM) | PASS |
+----------------------------------------+--------------------+
Ubuntu 20.04 ARM SVE
Kernel: 5.4.0-80-generic
Compiler: gcc 10.3.0 (Ubuntu 10.3.0-1ubuntu1~20.04)
Ubuntu 20.04 ARM GCC Cross Compile
Kernel: 5.4.0-72-generic
Compiler: aarch64-linux-gnu-gcc (Ubuntu 9.3.0-17ubuntu1~20.04) 9.3.0
Ubuntu 20.04 ARM Clang Cross Compile
Kernel: 5.4.0-72-generic
Compiler: clang version 10.0.0-4ubuntu1
Ubuntu 20.04 aarch32 GCC Cross Compile
Kernel: 5.4.0-72-generic
Compiler: gcc 9.3.0
Fedora 37 (ARM)
Kernel: Depends on container host
Compiler: gcc 12.3.1
To view detailed results, visit:
https://lab.dpdk.org/results/dashboard/tarballs/25965/
UNH-IOL DPDK Community Lab
To manage your email subscriptions, visit:
https://lab.dpdk.org/results/dashboard/preferences/subscriptions/
next reply other threads:[~2023-08-29 1:00 UTC|newest]
Thread overview: 48+ messages / expand[flat|nested] mbox.gz Atom feed top
2023-08-29 1:00 dpdklab [this message]
-- strict thread matches above, loose matches on Subject: below --
2023-08-29 10:10 dpdklab
2023-08-29 10:05 dpdklab
2023-08-29 10:00 dpdklab
2023-08-29 9:56 dpdklab
2023-08-29 9:46 dpdklab
2023-08-29 6:36 dpdklab
2023-08-29 2:19 dpdklab
2023-08-29 1:23 dpdklab
2023-08-29 1:19 dpdklab
2023-08-29 1:19 dpdklab
2023-08-29 1:18 dpdklab
2023-08-29 1:16 dpdklab
2023-08-29 1:16 dpdklab
2023-08-29 1:12 dpdklab
2023-08-29 1:12 dpdklab
2023-08-29 1:12 dpdklab
2023-08-29 1:11 dpdklab
2023-08-29 1:09 dpdklab
2023-08-29 1:09 dpdklab
2023-08-29 1:07 dpdklab
2023-08-29 1:06 dpdklab
2023-08-29 1:06 dpdklab
2023-08-29 1:05 dpdklab
2023-08-29 1:04 dpdklab
2023-08-29 1:03 dpdklab
2023-08-29 1:03 dpdklab
2023-08-29 1:02 dpdklab
2023-08-29 1:02 dpdklab
2023-08-29 1:02 dpdklab
2023-08-29 1:02 dpdklab
2023-08-29 1:02 dpdklab
2023-08-29 1:01 dpdklab
2023-08-29 1:01 dpdklab
2023-08-29 1:00 dpdklab
2023-08-29 1:00 dpdklab
2023-08-29 1:00 dpdklab
2023-08-29 0:59 dpdklab
2023-08-29 0:59 dpdklab
2023-08-29 0:58 dpdklab
2023-08-29 0:58 dpdklab
2023-08-29 0:56 dpdklab
2023-08-29 0:56 dpdklab
2023-08-29 0:56 dpdklab
2023-08-29 0:56 dpdklab
2023-08-29 0:56 dpdklab
2023-08-29 0:55 dpdklab
2023-08-29 0:55 dpdklab
Reply instructions:
You may reply publicly to this message via plain-text email
using any one of the following methods:
* Save the following mbox file, import it into your mail client,
and reply-to-all from there: mbox
Avoid top-posting and favor interleaved quoting:
https://en.wikipedia.org/wiki/Posting_style#Interleaved_style
* Reply using the --to, --cc, and --in-reply-to
switches of git-send-email(1):
git send-email \
--in-reply-to=64ed4342.920a0220.7aaf7.3757SMTPIN_ADDED_MISSING@mx.google.com \
--to=dpdklab@iol.unh.edu \
--cc=dpdk-test-reports@iol.unh.edu \
--cc=test-report@dpdk.org \
/path/to/YOUR_REPLY
https://kernel.org/pub/software/scm/git/docs/git-send-email.html
* If your mail client supports setting the In-Reply-To header
via mailto: links, try the mailto: link
Be sure your reply has a Subject: header at the top and a blank line
before the message body.
This is a public inbox, see mirroring instructions
for how to clone and mirror all data and code used for this inbox;
as well as URLs for NNTP newsgroup(s).