From mboxrd@z Thu Jan  1 00:00:00 1970
Return-Path: <test-report-bounces@dpdk.org>
Received: from mails.dpdk.org (mails.dpdk.org [217.70.189.124])
	by inbox.dpdk.org (Postfix) with ESMTP id 0CA2941FDE
	for <public@inbox.dpdk.org>; Thu, 31 Aug 2023 17:18:11 +0200 (CEST)
Received: from mails.dpdk.org (localhost [127.0.0.1])
	by mails.dpdk.org (Postfix) with ESMTP id 112C34028E;
	Thu, 31 Aug 2023 17:18:11 +0200 (CEST)
Received: from mail-io1-f98.google.com (mail-io1-f98.google.com
 [209.85.166.98]) by mails.dpdk.org (Postfix) with ESMTP id AE6344027B
 for <test-report@dpdk.org>; Thu, 31 Aug 2023 17:18:02 +0200 (CEST)
Received: by mail-io1-f98.google.com with SMTP id
 ca18e2360f4ac-79536bc669dso35092039f.3
 for <test-report@dpdk.org>; Thu, 31 Aug 2023 08:18:02 -0700 (PDT)
DKIM-Signature: v=1; a=rsa-sha256; c=relaxed/relaxed;
 d=iol.unh.edu; s=unh-iol; t=1693495082; x=1694099882; darn=dpdk.org;
 h=cc:to:from:subject:message-id:date:from:to:cc:subject:date
 :message-id:reply-to;
 bh=WHY/UryOEEXg2lAj00M2Vno1uPW2dPt8rJKwqUi3xHE=;
 b=WjDbO4jCNu9vv5ib4wkeAy/RUMuzicaiL3R3N3YDJO34ofiSfPV/CR2IOi+QIjvJoz
 trWuiYpHy2L9GMBg9jTBFz3Hh2/wiAaoUsM49vuDimOUYXSUY6X1h5BLff+9jpg/uW1c
 k/ijnEG1TzuazXddHRO1KV5suc4GEapNC0OZo=
X-Google-DKIM-Signature: v=1; a=rsa-sha256; c=relaxed/relaxed;
 d=1e100.net; s=20221208; t=1693495082; x=1694099882;
 h=cc:to:from:subject:message-id:date:x-gm-message-state:from:to:cc
 :subject:date:message-id:reply-to;
 bh=WHY/UryOEEXg2lAj00M2Vno1uPW2dPt8rJKwqUi3xHE=;
 b=hqBXV7gnW2h0FPPFRSp2UHCY/NM2GjLfTKgZLVxNTlDH+4yxCHqtO8jvdOAlcmFstZ
 OebwOs6knH7hp2fZMiHCnETi6MjagD0gYyraDGW8K6/lK8TaMRSOoLgwz9ruMTzERtCN
 uR7y2pveTobvEo+XGT0X6EVtdlQBlqfhJbikhUVw3nv+NQ4kutsesSV06fXpeueMoWsG
 xnoEe9lh1ns1nbpVJZWur6PhIgj9VKch0pDfPE0WWVelir3XqZ/uyErJmdlCacSD0y8y
 fh/PcHVX02jx4/7NfcOvpK47t6PPnmfLzMv/7zWr3JYncxrNXji5xla19RnQLZ7qX3Ho
 cpvw==
X-Gm-Message-State: AOJu0YwQ6XFSme0Tz9N+FWWRLtW9jyorDux6+FSrd8Y2M0n7gT/rmMnw
 igojm1MFqJpvXwDr4LwwdWXTO6Cyo+5ulIkIG+RFynGCMj6tbsZ/lbRvAg==
X-Google-Smtp-Source: AGHT+IG5vPNhh/M5Iq6ErZR3+1ez703MFclGXHdLfEFylnAe8OT8sZKFJwkHJ0ST4xitfEKjGpWszEEiPk/U
X-Received: by 2002:a6b:5918:0:b0:795:fa0:c13 with SMTP id
 n24-20020a6b5918000000b007950fa00c13mr6272817iob.12.1693495082154; 
 Thu, 31 Aug 2023 08:18:02 -0700 (PDT)
Received: from postal.iol.unh.edu (postal.iol.unh.edu. [132.177.123.84])
 by smtp-relay.gmail.com with ESMTPS id
 s15-20020a02cc8f000000b0042af069eef1sm58609jap.30.2023.08.31.08.18.02
 (version=TLS1_2 cipher=ECDHE-ECDSA-AES128-GCM-SHA256 bits=128/128);
 Thu, 31 Aug 2023 08:18:02 -0700 (PDT)
X-Relaying-Domain: iol.unh.edu
Date: Thu, 31 Aug 2023 08:18:02 -0700 (PDT)
Message-ID: <64f0af2a.020a0220.acec4.3e07SMTPIN_ADDED_MISSING@mx.google.com>
Received: from [172.21.0.6] (unknown [172.18.0.240])
 by postal.iol.unh.edu (Postfix) with ESMTP id 6B7C46052471;
 Thu, 31 Aug 2023 11:18:01 -0400 (EDT)
Subject: |SUCCESS| pw130998 [PATCH] [v2] vhost: add IRQ suppression
From: dpdklab@iol.unh.edu
To: Test Report <test-report@dpdk.org>
Cc: dpdk-test-reports@iol.unh.edu
Content-Type: text/plain
X-BeenThere: test-report@dpdk.org
X-Mailman-Version: 2.1.29
Precedence: list
List-Id: automatic DPDK test reports <test-report.dpdk.org>
List-Unsubscribe: <https://mails.dpdk.org/options/test-report>,
 <mailto:test-report-request@dpdk.org?subject=unsubscribe>
List-Archive: <http://mails.dpdk.org/archives/test-report/>
List-Post: <mailto:test-report@dpdk.org>
List-Help: <mailto:test-report-request@dpdk.org?subject=help>
List-Subscribe: <https://mails.dpdk.org/listinfo/test-report>,
 <mailto:test-report-request@dpdk.org?subject=subscribe>
Errors-To: test-report-bounces@dpdk.org

Test-Label: iol-compile-amd64-testing
Test-Status: SUCCESS
http://dpdk.org/patch/130998

_Testing PASS_

Submitter: Maxime Coquelin <maxime.coquelin@redhat.com>
Date: Thursday, August 31 2023 14:44:50 
DPDK git baseline: Repo:dpdk
  Branch: master
  CommitID:b7b8de26f34d39c8aaded44d8a468da5e68f19da

130998 --> testing pass

Test environment and result as below:

+---------------------+--------------------+
|     Environment     | dpdk_meson_compile |
+=====================+====================+
| FreeBSD 13          | PASS               |
+---------------------+--------------------+
| Debian Bullseye     | PASS               |
+---------------------+--------------------+
| Debian Buster       | PASS               |
+---------------------+--------------------+
| CentOS Stream 9     | PASS               |
+---------------------+--------------------+
| CentOS Stream 8     | PASS               |
+---------------------+--------------------+
| RHEL8               | PASS               |
+---------------------+--------------------+
| Ubuntu 20.04        | PASS               |
+---------------------+--------------------+
| Ubuntu 22.04        | PASS               |
+---------------------+--------------------+
| Windows Server 2019 | PASS               |
+---------------------+--------------------+
| Fedora 37           | PASS               |
+---------------------+--------------------+
| Fedora 38           | PASS               |
+---------------------+--------------------+
| openSUSE Leap 15    | PASS               |
+---------------------+--------------------+


FreeBSD 13
	Kernel: 13.0
	Compiler: clang 11.0.1

Debian Bullseye
	Kernel: 5.4.0-122-generic
	Compiler: gcc 10.2.1-6

Debian Buster
	Kernel: 5.4.0-122-generic
	Compiler: gcc 8.3.0-6

CentOS Stream 9
	Kernel: 4.18.0-240.10.1.el8_3.x86_64
	Compiler: gcc 11.3.1 20220421

CentOS Stream 8
	Kernel: 4.18.0-240.10.1.el8_3.x86_64
	Compiler: gcc 8.4.1 20200928

RHEL8
	Kernel: 4.18.0-240.10.1.el8_3.x86_64
	Compiler: gcc 8.3.1 20191121 (Red Hat 8.3.1-5)

Ubuntu 20.04
	Kernel: 5.4.0-153-generic
	Compiler: gcc 9.4.0-1ubuntu1~20.04.1

Ubuntu 22.04
	Kernel: 4.18.0-240.10.1.el8_3.x86_64
	Compiler: gcc 11.3.0

Windows Server 2019
	Kernel: 10.0
	Compiler: clang 14.0 and gcc 8.1.0 (MinGW)

Fedora 37
	Kernel: Depends on container host system
	Compiler: gcc 12.3.1

Fedora 38
	Kernel: Depends on container host
	Compiler: gcc 13.1.1

openSUSE Leap 15
	Kernel: 4.18.0-240.10.1.el8_3.x86_64
	Compiler: gcc 7.5.0

To view detailed results, visit:
https://lab.dpdk.org/results/dashboard/patchsets/27495/

UNH-IOL DPDK Community Lab

To manage your email subscriptions, visit: 
https://lab.dpdk.org/results/dashboard/preferences/subscriptions/