From mboxrd@z Thu Jan  1 00:00:00 1970
Return-Path: <test-report-bounces@dpdk.org>
Received: from mails.dpdk.org (mails.dpdk.org [217.70.189.124])
	by inbox.dpdk.org (Postfix) with ESMTP id 3FAD341FDE
	for <public@inbox.dpdk.org>; Thu, 31 Aug 2023 17:19:34 +0200 (CEST)
Received: from mails.dpdk.org (localhost [127.0.0.1])
	by mails.dpdk.org (Postfix) with ESMTP id 47D204027B;
	Thu, 31 Aug 2023 17:19:34 +0200 (CEST)
Received: from mail-oo1-f99.google.com (mail-oo1-f99.google.com
 [209.85.161.99]) by mails.dpdk.org (Postfix) with ESMTP id 5C5924027B
 for <test-report@dpdk.org>; Thu, 31 Aug 2023 17:19:27 +0200 (CEST)
Received: by mail-oo1-f99.google.com with SMTP id
 006d021491bc7-57325fcd970so578572eaf.1
 for <test-report@dpdk.org>; Thu, 31 Aug 2023 08:19:27 -0700 (PDT)
DKIM-Signature: v=1; a=rsa-sha256; c=relaxed/relaxed;
 d=iol.unh.edu; s=unh-iol; t=1693495166; x=1694099966; darn=dpdk.org;
 h=cc:to:from:subject:message-id:date:from:to:cc:subject:date
 :message-id:reply-to;
 bh=YH65Js+CJR6o9br+ngaLMymlpr9cS/Ws2wf4KU6GkLc=;
 b=GlRfkY9fB74YBsw+3Zrb5TGNXNBn/Pe45ehiITlpHVZ92uBkXkj01p79gU2CTXZcHY
 PDNztTZr4tohY8CFUmPJ5Fb9W/N2IdBWqKoWhhto7clcFrxKV9MEFgoS62Mf83DpSKMG
 qeYlY2X2vnp1LUeYraMWhlO9tswBfkuDgdIC0=
X-Google-DKIM-Signature: v=1; a=rsa-sha256; c=relaxed/relaxed;
 d=1e100.net; s=20221208; t=1693495166; x=1694099966;
 h=cc:to:from:subject:message-id:date:x-gm-message-state:from:to:cc
 :subject:date:message-id:reply-to;
 bh=YH65Js+CJR6o9br+ngaLMymlpr9cS/Ws2wf4KU6GkLc=;
 b=g7NnpC1oydBOkHKxHN1wJF8xzsZ8vfBckch/WS4WYw3+aW4RfTo3fgmYXBQ6dV08uG
 jg2UOzl2sRMFofA6aYTDHozAjLnqzSZij7HDomhg+Gf2Daej8/sGdYiQtIOk3O4ZmR5q
 Zk68HswPSnNmCCdxdKxau8b3YeWDUzj2ASPpGhR/kdisXA10awp1ZIX41pVoaKEh3O8f
 L/BSRdAxc/O901LVMsXjrahTaIPoauzC5wQWOrAWWX2oYACD+kgzuTtRQtGdvwEoTUWh
 0yG3QwmeVYSeKIsYVnfw2JpG2wuB73/4FkviNnJdWjFi3KaFYpdoHzIFuo3ffn4BFyCN
 290g==
X-Gm-Message-State: AOJu0YzIvYGV1+CQQyut5xRYx2CONgsgWAoeFdjKSI3t8tvXPuYsAmtY
 V9I+Lj+FKn99oWAwZyCIzELQrzT7EPRTg86svbFSvn+ED2prCD3DFwOY/Z3O6RYnrijzQGvJHw=
 =
X-Google-Smtp-Source: AGHT+IHeGVywqbeKlayhwRamvRsFmY8Zwge/nBKt2yaoTdniFt99yZO98UdeL4u2op7btFy7hUjKaUXmhs81
X-Received: by 2002:a4a:9002:0:b0:56d:10bb:c2d4 with SMTP id
 i2-20020a4a9002000000b0056d10bbc2d4mr4906888oog.1.1693495166701; 
 Thu, 31 Aug 2023 08:19:26 -0700 (PDT)
Received: from postal.iol.unh.edu (postal.iol.unh.edu.
 [2606:4100:3880:1234::84]) by smtp-relay.gmail.com with ESMTPS id
 67-20020a4a1a46000000b0056cb795d4d7sm87479oof.23.2023.08.31.08.19.26
 (version=TLS1_2 cipher=ECDHE-ECDSA-AES128-GCM-SHA256 bits=128/128);
 Thu, 31 Aug 2023 08:19:26 -0700 (PDT)
X-Relaying-Domain: iol.unh.edu
Date: Thu, 31 Aug 2023 08:19:26 -0700 (PDT)
Message-ID: <64f0af7e.4a0a0220.a33af.59e9SMTPIN_ADDED_MISSING@mx.google.com>
Received: from [172.21.0.2] (unknown [172.18.0.240])
 by postal.iol.unh.edu (Postfix) with ESMTP id DF1ED6052471;
 Thu, 31 Aug 2023 11:19:25 -0400 (EDT)
Subject: |SUCCESS| pw130998 [PATCH] [v2] vhost: add IRQ suppression
From: dpdklab@iol.unh.edu
To: Test Report <test-report@dpdk.org>
Cc: dpdk-test-reports@iol.unh.edu
Content-Type: text/plain
X-BeenThere: test-report@dpdk.org
X-Mailman-Version: 2.1.29
Precedence: list
List-Id: automatic DPDK test reports <test-report.dpdk.org>
List-Unsubscribe: <https://mails.dpdk.org/options/test-report>,
 <mailto:test-report-request@dpdk.org?subject=unsubscribe>
List-Archive: <http://mails.dpdk.org/archives/test-report/>
List-Post: <mailto:test-report@dpdk.org>
List-Help: <mailto:test-report-request@dpdk.org?subject=help>
List-Subscribe: <https://mails.dpdk.org/listinfo/test-report>,
 <mailto:test-report-request@dpdk.org?subject=subscribe>
Errors-To: test-report-bounces@dpdk.org

Test-Label: iol-compile-amd64-testing
Test-Status: SUCCESS
http://dpdk.org/patch/130998

_Testing PASS_

Submitter: Maxime Coquelin <maxime.coquelin@redhat.com>
Date: Thursday, August 31 2023 14:44:50 
DPDK git baseline: Repo:dpdk
  Branch: master
  CommitID:b7b8de26f34d39c8aaded44d8a468da5e68f19da

130998 --> testing pass

Test environment and result as below:

+---------------------+--------------------+----------------------+
|     Environment     | dpdk_meson_compile | dpdk_mingw64_compile |
+=====================+====================+======================+
| FreeBSD 13          | PASS               | SKIPPED              |
+---------------------+--------------------+----------------------+
| Debian Bullseye     | PASS               | SKIPPED              |
+---------------------+--------------------+----------------------+
| Debian Buster       | PASS               | SKIPPED              |
+---------------------+--------------------+----------------------+
| CentOS Stream 9     | PASS               | SKIPPED              |
+---------------------+--------------------+----------------------+
| CentOS Stream 8     | PASS               | SKIPPED              |
+---------------------+--------------------+----------------------+
| RHEL8               | PASS               | SKIPPED              |
+---------------------+--------------------+----------------------+
| Ubuntu 20.04        | PASS               | SKIPPED              |
+---------------------+--------------------+----------------------+
| Ubuntu 22.04        | PASS               | SKIPPED              |
+---------------------+--------------------+----------------------+
| Windows Server 2019 | PASS               | PASS                 |
+---------------------+--------------------+----------------------+
| Fedora 37           | PASS               | SKIPPED              |
+---------------------+--------------------+----------------------+
| Fedora 38           | PASS               | SKIPPED              |
+---------------------+--------------------+----------------------+
| openSUSE Leap 15    | PASS               | SKIPPED              |
+---------------------+--------------------+----------------------+
| Alpine              | PASS               | SKIPPED              |
+---------------------+--------------------+----------------------+


FreeBSD 13
	Kernel: 13.0
	Compiler: clang 11.0.1

Debian Bullseye
	Kernel: 5.4.0-122-generic
	Compiler: gcc 10.2.1-6

Debian Buster
	Kernel: 5.4.0-122-generic
	Compiler: gcc 8.3.0-6

CentOS Stream 9
	Kernel: 4.18.0-240.10.1.el8_3.x86_64
	Compiler: gcc 11.3.1 20220421

CentOS Stream 8
	Kernel: 4.18.0-240.10.1.el8_3.x86_64
	Compiler: gcc 8.4.1 20200928

RHEL8
	Kernel: 4.18.0-240.10.1.el8_3.x86_64
	Compiler: gcc 8.3.1 20191121 (Red Hat 8.3.1-5)

Ubuntu 20.04
	Kernel: 5.4.0-153-generic
	Compiler: gcc 9.4.0-1ubuntu1~20.04.1

Ubuntu 22.04
	Kernel: 4.18.0-240.10.1.el8_3.x86_64
	Compiler: gcc 11.3.0

Windows Server 2019
	Kernel: 10.0
	Compiler: clang 14.0 and gcc 8.1.0 (MinGW)

Fedora 37
	Kernel: Depends on container host system
	Compiler: gcc 12.3.1

Fedora 38
	Kernel: Depends on container host
	Compiler: gcc 13.1.1

openSUSE Leap 15
	Kernel: 4.18.0-240.10.1.el8_3.x86_64
	Compiler: gcc 7.5.0

Alpine
	Kernel: 5.4.0-73-generic
	Compiler: gcc (Alpine 10.3.1_git20210424) 10.3.1 20210424

To view detailed results, visit:
https://lab.dpdk.org/results/dashboard/patchsets/27495/

UNH-IOL DPDK Community Lab

To manage your email subscriptions, visit: 
https://lab.dpdk.org/results/dashboard/preferences/subscriptions/