From mboxrd@z Thu Jan  1 00:00:00 1970
Return-Path: <test-report-bounces@dpdk.org>
Received: from mails.dpdk.org (mails.dpdk.org [217.70.189.124])
	by inbox.dpdk.org (Postfix) with ESMTP id 2D3F341FDE
	for <public@inbox.dpdk.org>; Thu, 31 Aug 2023 17:24:28 +0200 (CEST)
Received: from mails.dpdk.org (localhost [127.0.0.1])
	by mails.dpdk.org (Postfix) with ESMTP id 353984027B;
	Thu, 31 Aug 2023 17:24:28 +0200 (CEST)
Received: from mail-yw1-f225.google.com (mail-yw1-f225.google.com
 [209.85.128.225])
 by mails.dpdk.org (Postfix) with ESMTP id C685E4027B
 for <test-report@dpdk.org>; Thu, 31 Aug 2023 17:24:21 +0200 (CEST)
Received: by mail-yw1-f225.google.com with SMTP id
 00721157ae682-5925e580e87so10666917b3.1
 for <test-report@dpdk.org>; Thu, 31 Aug 2023 08:24:21 -0700 (PDT)
DKIM-Signature: v=1; a=rsa-sha256; c=relaxed/relaxed;
 d=iol.unh.edu; s=unh-iol; t=1693495461; x=1694100261; darn=dpdk.org;
 h=cc:to:from:subject:message-id:date:from:to:cc:subject:date
 :message-id:reply-to;
 bh=amH7jyoq7OC6H5fc+AeXhJORaF9gwwMwRjwleZpJmes=;
 b=MfE9+rMc5BTL1HSWbP98Hi0U1HwIzyScoOEFHI/5F35842Gvr4Bdy7KmIaof8JhzSJ
 oewZBEowy8JiOcl8hhhXOd0+GyQ2FrYFaIYFnGFBd4wxJJIbv66ZZs/uZaSgx3Fd5IrJ
 ozCq5cM6Zot8JVybDxPK79sHikikjCg5n0+34=
X-Google-DKIM-Signature: v=1; a=rsa-sha256; c=relaxed/relaxed;
 d=1e100.net; s=20221208; t=1693495461; x=1694100261;
 h=cc:to:from:subject:message-id:date:x-gm-message-state:from:to:cc
 :subject:date:message-id:reply-to;
 bh=amH7jyoq7OC6H5fc+AeXhJORaF9gwwMwRjwleZpJmes=;
 b=hprSN6jm7aXmvatFA2PPFDNEpEZSaVZBegSeCroEcTjFVA4simtMYvNhJdE8+Us8jX
 88CIHp/+e5Rsz689llJEOwSEBbpqkieQMj627hMdQk6IeKrV6hju1jdaMtIXKMPKYxdl
 L60UJobFgIXwMMn5qq+CK+BdFvp/qIvUlHO9LIW0Bg2qnrZckB8Rkaq+x6kQS8nh/SYg
 LH+wjljjHW4bB7n5sU7bxY1waQgfKnOrb+HXcKj5WE1qQQO9q8WLG1qzNKBBoa95ibvz
 TXZv9+jr2hnBl8slLdltsb3lzUG6NJOtu6xbsV9xhN/67gpxE4pwtWRxN7nIgrjIIoY9
 prpA==
X-Gm-Message-State: AOJu0YxxJBiGlsRckIAKARmI62kp5sz2G0CEXc+M5g/1Zhd+4TH6DfoX
 nIO8RUWRKRbjLmcLMQHWONi2DIAy5RuAojsM0QCxdNYXsyPAZPX0spROIw==
X-Google-Smtp-Source: AGHT+IECjDhJD3gv5L/qKE0nhXSUIT6efW/MjA4cIJqqJA+fOqv5wwa+kh+onvGgwoqI8qIeaK5r2MixwNT9
X-Received: by 2002:a0d:e682:0:b0:568:d586:77c4 with SMTP id
 p124-20020a0de682000000b00568d58677c4mr5617159ywe.4.1693495461290; 
 Thu, 31 Aug 2023 08:24:21 -0700 (PDT)
Received: from postal.iol.unh.edu (postal.iol.unh.edu. [132.177.123.84])
 by smtp-relay.gmail.com with ESMTPS id
 c2-20020a0dda02000000b0057005bc0932sm129748ywe.74.2023.08.31.08.24.21
 (version=TLS1_2 cipher=ECDHE-ECDSA-AES128-GCM-SHA256 bits=128/128);
 Thu, 31 Aug 2023 08:24:21 -0700 (PDT)
X-Relaying-Domain: iol.unh.edu
Date: Thu, 31 Aug 2023 08:24:21 -0700 (PDT)
Message-ID: <64f0b0a5.0d0a0220.88d71.8c71SMTPIN_ADDED_MISSING@mx.google.com>
Received: from [172.21.0.3] (unknown [172.18.0.240])
 by postal.iol.unh.edu (Postfix) with ESMTP id A8A646052471;
 Thu, 31 Aug 2023 11:24:20 -0400 (EDT)
Subject: |SUCCESS| pw130998 [PATCH] [v2] vhost: add IRQ suppression
From: dpdklab@iol.unh.edu
To: Test Report <test-report@dpdk.org>
Cc: dpdk-test-reports@iol.unh.edu
Content-Type: text/plain
X-BeenThere: test-report@dpdk.org
X-Mailman-Version: 2.1.29
Precedence: list
List-Id: automatic DPDK test reports <test-report.dpdk.org>
List-Unsubscribe: <https://mails.dpdk.org/options/test-report>,
 <mailto:test-report-request@dpdk.org?subject=unsubscribe>
List-Archive: <http://mails.dpdk.org/archives/test-report/>
List-Post: <mailto:test-report@dpdk.org>
List-Help: <mailto:test-report-request@dpdk.org?subject=help>
List-Subscribe: <https://mails.dpdk.org/listinfo/test-report>,
 <mailto:test-report-request@dpdk.org?subject=subscribe>
Errors-To: test-report-bounces@dpdk.org

Test-Label: iol-unit-amd64-testing
Test-Status: SUCCESS
http://dpdk.org/patch/130998

_Testing PASS_

Submitter: Maxime Coquelin <maxime.coquelin@redhat.com>
Date: Thursday, August 31 2023 14:44:50 
DPDK git baseline: Repo:dpdk
  Branch: master
  CommitID:b7b8de26f34d39c8aaded44d8a468da5e68f19da

130998 --> testing pass

Test environment and result as below:

+------------------+----------------+
|   Environment    | dpdk_unit_test |
+==================+================+
| Debian Buster    | PASS           |
+------------------+----------------+
| CentOS Stream 9  | PASS           |
+------------------+----------------+
| CentOS Stream 8  | PASS           |
+------------------+----------------+
| openSUSE Leap 15 | PASS           |
+------------------+----------------+


Debian Buster
	Kernel: 5.4.0-122-generic
	Compiler: gcc 8.3.0-6

CentOS Stream 9
	Kernel: 4.18.0-240.10.1.el8_3.x86_64
	Compiler: gcc 11.3.1 20220421

CentOS Stream 8
	Kernel: 4.18.0-240.10.1.el8_3.x86_64
	Compiler: gcc 8.4.1 20200928

openSUSE Leap 15
	Kernel: 4.18.0-240.10.1.el8_3.x86_64
	Compiler: gcc 7.5.0

To view detailed results, visit:
https://lab.dpdk.org/results/dashboard/patchsets/27495/

UNH-IOL DPDK Community Lab

To manage your email subscriptions, visit: 
https://lab.dpdk.org/results/dashboard/preferences/subscriptions/