From mboxrd@z Thu Jan  1 00:00:00 1970
Return-Path: <test-report-bounces@dpdk.org>
Received: from mails.dpdk.org (mails.dpdk.org [217.70.189.124])
	by inbox.dpdk.org (Postfix) with ESMTP id B339C42214
	for <public@inbox.dpdk.org>; Thu, 31 Aug 2023 17:49:19 +0200 (CEST)
Received: from mails.dpdk.org (localhost [127.0.0.1])
	by mails.dpdk.org (Postfix) with ESMTP id BD2834029D;
	Thu, 31 Aug 2023 17:49:19 +0200 (CEST)
Received: from mail-io1-f97.google.com (mail-io1-f97.google.com
 [209.85.166.97]) by mails.dpdk.org (Postfix) with ESMTP id D6CE94027B
 for <test-report@dpdk.org>; Thu, 31 Aug 2023 17:49:05 +0200 (CEST)
Received: by mail-io1-f97.google.com with SMTP id
 ca18e2360f4ac-77acb04309dso36501539f.2
 for <test-report@dpdk.org>; Thu, 31 Aug 2023 08:49:05 -0700 (PDT)
DKIM-Signature: v=1; a=rsa-sha256; c=relaxed/relaxed;
 d=iol.unh.edu; s=unh-iol; t=1693496945; x=1694101745; darn=dpdk.org;
 h=cc:to:from:subject:message-id:date:from:to:cc:subject:date
 :message-id:reply-to;
 bh=WaVewTzAD8sFHSmSGBkC7NLVSVaor155fC6CR0+aajQ=;
 b=TuaaXKm4R5xSZr+vDp0UnbcPgMYWH7UT8U6TbA5iMdrpwWIpMNApad4yTWB479erHw
 +vUvc3cjiKY+tbOv3Jy9syXkehti3tv86h18EYJ5OYL86eYPVgINIU5qTWdOmQbUkXRD
 DP1X6ABRIschpd8qvfCk8JszRAzXIPjJCLK/Q=
X-Google-DKIM-Signature: v=1; a=rsa-sha256; c=relaxed/relaxed;
 d=1e100.net; s=20221208; t=1693496945; x=1694101745;
 h=cc:to:from:subject:message-id:date:x-gm-message-state:from:to:cc
 :subject:date:message-id:reply-to;
 bh=WaVewTzAD8sFHSmSGBkC7NLVSVaor155fC6CR0+aajQ=;
 b=Ty0W2MJ+RgAj3K0LPtc2rkJmPWyiZYtqq2PPYAqaIgD2UPG9l9oYnyVe+4Jr8NSXVS
 Z39+PNCLzSDXkdBi+5BjtFD6b2pbmyiqGkb5ioc3k+OyaSUYnc1A2CAGCBBtFTohgpfW
 FBQDd/yr3wCurq0ZcoIE4uQyicLxsH7Ly18sbd2ZQB4w/xRBNMEtRWgPQssDp4BxBnPP
 0M7mm4vK1pElSuQaUtQAr2Cwg+t5U/AQ14HkIAwUFeSdGfBGITu79FP9ZwYxjBsXXroG
 yA8X7XhW1R2x5SnXYIIYMcRgBnmlXQrDK8X4D0d3N0Q7p5Hd6dtzvHCobuODtq9kIRyo
 OMbg==
X-Gm-Message-State: AOJu0Yyu8MdCOHFjvdr5MDjClk368TqHmswag4ukcwRAEDMYgq5axFBa
 vno3I5+tSG3qaQTXDguYVizHd532UJPG6QX7GFAm9c1NGxrROfHWGZwGMw==
X-Google-Smtp-Source: AGHT+IFVc/UtYP6AnhJZzIkpqyixJQF/JKmGmItc+mT1MTXp6OMiln23foFKk2B+ryKt4R8zu9nXNo5wU0vE
X-Received: by 2002:a92:290e:0:b0:34c:cf1f:2a27 with SMTP id
 l14-20020a92290e000000b0034ccf1f2a27mr6461199ilg.0.1693496945294; 
 Thu, 31 Aug 2023 08:49:05 -0700 (PDT)
Received: from postal.iol.unh.edu (postal.iol.unh.edu. [132.177.123.84])
 by smtp-relay.gmail.com with ESMTPS id
 l6-20020a056e0205c600b0034cce94a437sm67645ils.15.2023.08.31.08.49.05
 (version=TLS1_2 cipher=ECDHE-ECDSA-AES128-GCM-SHA256 bits=128/128);
 Thu, 31 Aug 2023 08:49:05 -0700 (PDT)
X-Relaying-Domain: iol.unh.edu
Date: Thu, 31 Aug 2023 08:49:05 -0700 (PDT)
Message-ID: <64f0b671.050a0220.5d287.473aSMTPIN_ADDED_MISSING@mx.google.com>
Received: from [172.21.0.2] (unknown [172.18.0.240])
 by postal.iol.unh.edu (Postfix) with ESMTP id ED4D56052471;
 Thu, 31 Aug 2023 11:49:04 -0400 (EDT)
Subject: |SUCCESS| pw130998 [PATCH] [v2] vhost: add IRQ suppression
From: dpdklab@iol.unh.edu
To: Test Report <test-report@dpdk.org>
Cc: dpdk-test-reports@iol.unh.edu
Content-Type: text/plain
X-BeenThere: test-report@dpdk.org
X-Mailman-Version: 2.1.29
Precedence: list
List-Id: automatic DPDK test reports <test-report.dpdk.org>
List-Unsubscribe: <https://mails.dpdk.org/options/test-report>,
 <mailto:test-report-request@dpdk.org?subject=unsubscribe>
List-Archive: <http://mails.dpdk.org/archives/test-report/>
List-Post: <mailto:test-report@dpdk.org>
List-Help: <mailto:test-report-request@dpdk.org?subject=help>
List-Subscribe: <https://mails.dpdk.org/listinfo/test-report>,
 <mailto:test-report-request@dpdk.org?subject=subscribe>
Errors-To: test-report-bounces@dpdk.org

Test-Label: iol-unit-amd64-testing
Test-Status: SUCCESS
http://dpdk.org/patch/130998

_Testing PASS_

Submitter: Maxime Coquelin <maxime.coquelin@redhat.com>
Date: Thursday, August 31 2023 14:44:50 
DPDK git baseline: Repo:dpdk
  Branch: master
  CommitID:b7b8de26f34d39c8aaded44d8a468da5e68f19da

130998 --> testing pass

Test environment and result as below:

+---------------------+----------------+
|     Environment     | dpdk_unit_test |
+=====================+================+
| Debian Buster       | PASS           |
+---------------------+----------------+
| CentOS Stream 9     | PASS           |
+---------------------+----------------+
| CentOS Stream 8     | PASS           |
+---------------------+----------------+
| openSUSE Leap 15    | PASS           |
+---------------------+----------------+
| Debian Bullseye     | PASS           |
+---------------------+----------------+
| Fedora 37           | PASS           |
+---------------------+----------------+
| Fedora 38           | PASS           |
+---------------------+----------------+
| Ubuntu 22.04        | PASS           |
+---------------------+----------------+
| Windows Server 2019 | PASS           |
+---------------------+----------------+
| Ubuntu 20.04        | PASS           |
+---------------------+----------------+
| RHEL8               | PASS           |
+---------------------+----------------+


Debian Buster
	Kernel: 5.4.0-122-generic
	Compiler: gcc 8.3.0-6

CentOS Stream 9
	Kernel: 4.18.0-240.10.1.el8_3.x86_64
	Compiler: gcc 11.3.1 20220421

CentOS Stream 8
	Kernel: 4.18.0-240.10.1.el8_3.x86_64
	Compiler: gcc 8.4.1 20200928

openSUSE Leap 15
	Kernel: 4.18.0-240.10.1.el8_3.x86_64
	Compiler: gcc 7.5.0

Debian Bullseye
	Kernel: 5.4.0-122-generic
	Compiler: gcc 10.2.1-6

Fedora 37
	Kernel: Depends on container host system
	Compiler: gcc 12.3.1

Fedora 38
	Kernel: Depends on container host
	Compiler: gcc 13.1.1

Ubuntu 22.04
	Kernel: 4.18.0-240.10.1.el8_3.x86_64
	Compiler: gcc 11.3.0

Windows Server 2019
	Kernel: 10.0
	Compiler: clang 14.0 and gcc 8.1.0 (MinGW)

Ubuntu 20.04
	Kernel: 5.4.0-153-generic
	Compiler: gcc 9.4.0-1ubuntu1~20.04.1

RHEL8
	Kernel: 4.18.0-240.10.1.el8_3.x86_64
	Compiler: gcc 8.3.1 20191121 (Red Hat 8.3.1-5)

To view detailed results, visit:
https://lab.dpdk.org/results/dashboard/patchsets/27495/

UNH-IOL DPDK Community Lab

To manage your email subscriptions, visit: 
https://lab.dpdk.org/results/dashboard/preferences/subscriptions/