From mboxrd@z Thu Jan  1 00:00:00 1970
Return-Path: <test-report-bounces@dpdk.org>
Received: from mails.dpdk.org (mails.dpdk.org [217.70.189.124])
	by inbox.dpdk.org (Postfix) with ESMTP id 12C94424EF
	for <public@inbox.dpdk.org>; Mon,  4 Sep 2023 13:15:14 +0200 (CEST)
Received: from mails.dpdk.org (localhost [127.0.0.1])
	by mails.dpdk.org (Postfix) with ESMTP id E5DA2400EF;
	Mon,  4 Sep 2023 13:15:13 +0200 (CEST)
Received: from mail-qv1-f97.google.com (mail-qv1-f97.google.com
 [209.85.219.97]) by mails.dpdk.org (Postfix) with ESMTP id D67DE400EF
 for <test-report@dpdk.org>; Mon,  4 Sep 2023 13:15:12 +0200 (CEST)
Received: by mail-qv1-f97.google.com with SMTP id
 6a1803df08f44-64ccdf8820dso4746066d6.1
 for <test-report@dpdk.org>; Mon, 04 Sep 2023 04:15:12 -0700 (PDT)
DKIM-Signature: v=1; a=rsa-sha256; c=relaxed/relaxed;
 d=iol.unh.edu; s=unh-iol; t=1693826112; x=1694430912; darn=dpdk.org;
 h=cc:to:from:subject:message-id:date:from:to:cc:subject:date
 :message-id:reply-to;
 bh=MOfJHz1EMKuK7wgWCRQGNCa6j7x0Io+FNN7DI7LEGKQ=;
 b=U2Yd0XShp+PhLHw1YsSYvYGzLUkJZoEL4pPZfHk9bzOpHGbW8xNEgQ7g8uTeC/a8vM
 PZkQc+CMzjQi4DnAE32CPAm+8qsZe7rsQKuZxnDgf4ftbCuu6CweSKIYaxCrR+Snt4KC
 qbhQmsXNDR+78P41jIKLsmPkEIWur0ZY+FXC8=
X-Google-DKIM-Signature: v=1; a=rsa-sha256; c=relaxed/relaxed;
 d=1e100.net; s=20221208; t=1693826112; x=1694430912;
 h=cc:to:from:subject:message-id:date:x-gm-message-state:from:to:cc
 :subject:date:message-id:reply-to;
 bh=MOfJHz1EMKuK7wgWCRQGNCa6j7x0Io+FNN7DI7LEGKQ=;
 b=kEBsTP1krYR2h4QDcnALIxB/iGkoaukzO0iWxUhQrdpVdRpjF1BHrfAFgWLcl47b5D
 PkTu4nBMaO67GaqRzf+7BroiNSd2tmupiYjW0KY4T2IsSAFqgIuC4W6QCBXa+IXtkg0V
 as70j3Sa/EDNDYirhX5YzrVULR6u0gs28ctSBRijnRKCv8/bJgN4FD27MTEd3PD4XgAj
 GxXlURQcjNG8HxYywSvnnqXaJr9DMyMzESW86VJrETnPTZyUBW0n7ReRD1Eozryyj/+e
 gpeUDyMMvvpUSdClhB+pX89/k0MPABybng+YBf4gw5cBquqp/5DPIqBaDVLZ0ngT02eo
 gyQQ==
X-Gm-Message-State: AOJu0YxYPwn/EOC9FoWHTTfkW/qlS4WmfafwQwLsdciYonlAiyjyZGfT
 ZqGWwaj9Mcl6GfpX1ZVWcGHWQ1jKePTmAFa5ploEv/317jyneMGVizLcAogzMYX+1ZUg7JA8Hg=
 =
X-Google-Smtp-Source: AGHT+IFhu0juFeUYGaznXd83dNHg+HuW9a1wqFCV3gzEt53ZpXkSWd/InKIQkk53eZzT8uDi2B4XezKWgu/Y
X-Received: by 2002:a0c:f50f:0:b0:63c:6af2:d26e with SMTP id
 j15-20020a0cf50f000000b0063c6af2d26emr13598088qvm.6.1693826112214; 
 Mon, 04 Sep 2023 04:15:12 -0700 (PDT)
Received: from postal.iol.unh.edu (postal.iol.unh.edu.
 [2606:4100:3880:1234::84]) by smtp-relay.gmail.com with ESMTPS id
 o10-20020a0ce40a000000b0063d373db0bfsm297220qvl.19.2023.09.04.04.15.12
 (version=TLS1_2 cipher=ECDHE-ECDSA-AES128-GCM-SHA256 bits=128/128);
 Mon, 04 Sep 2023 04:15:12 -0700 (PDT)
X-Relaying-Domain: iol.unh.edu
Date: Mon, 04 Sep 2023 04:15:12 -0700 (PDT)
Message-ID: <64f5bc40.0c0a0220.d990e.fa4eSMTPIN_ADDED_MISSING@mx.google.com>
Received: from [172.21.0.2] (unknown [172.18.0.240])
 by postal.iol.unh.edu (Postfix) with ESMTP id D81336052471;
 Mon,  4 Sep 2023 07:15:11 -0400 (EDT)
Subject: |SUCCESS| pw131145 [PATCH] clarify purpose of empty cache lines
From: dpdklab@iol.unh.edu
To: Test Report <test-report@dpdk.org>
Cc: dpdk-test-reports@iol.unh.edu
Content-Type: text/plain
X-BeenThere: test-report@dpdk.org
X-Mailman-Version: 2.1.29
Precedence: list
List-Id: automatic DPDK test reports <test-report.dpdk.org>
List-Unsubscribe: <https://mails.dpdk.org/options/test-report>,
 <mailto:test-report-request@dpdk.org?subject=unsubscribe>
List-Archive: <http://mails.dpdk.org/archives/test-report/>
List-Post: <mailto:test-report@dpdk.org>
List-Help: <mailto:test-report-request@dpdk.org?subject=help>
List-Subscribe: <https://mails.dpdk.org/listinfo/test-report>,
 <mailto:test-report-request@dpdk.org?subject=subscribe>
Errors-To: test-report-bounces@dpdk.org

Test-Label: iol-unit-amd64-testing
Test-Status: SUCCESS
http://dpdk.org/patch/131145

_Testing PASS_

Submitter: Morten Brorup <mb@smartsharesystems.com>
Date: Monday, September 04 2023 08:43:49 
DPDK git baseline: Repo:dpdk
  Branch: master
  CommitID:799d56f1192d72872e63fbb3d2c7f776b7ae89b0

131145 --> testing pass

Test environment and result as below:

+---------------------+----------------+
|     Environment     | dpdk_unit_test |
+=====================+================+
| Windows Server 2019 | PASS           |
+---------------------+----------------+
| Debian Bullseye     | PASS           |
+---------------------+----------------+
| CentOS Stream 8     | PASS           |
+---------------------+----------------+
| CentOS Stream 9     | PASS           |
+---------------------+----------------+
| Fedora 37           | PASS           |
+---------------------+----------------+
| Debian Buster       | PASS           |
+---------------------+----------------+
| Fedora 38           | PASS           |
+---------------------+----------------+
| openSUSE Leap 15    | PASS           |
+---------------------+----------------+


Windows Server 2019
	Kernel: 10.0
	Compiler: clang 14.0 and gcc 8.1.0 (MinGW)

Debian Bullseye
	Kernel: 5.4.0-122-generic
	Compiler: gcc 10.2.1-6

CentOS Stream 8
	Kernel: 4.18.0-240.10.1.el8_3.x86_64
	Compiler: gcc 8.4.1 20200928

CentOS Stream 9
	Kernel: 4.18.0-240.10.1.el8_3.x86_64
	Compiler: gcc 11.3.1 20220421

Fedora 37
	Kernel: Depends on container host system
	Compiler: gcc 12.3.1

Debian Buster
	Kernel: 5.4.0-122-generic
	Compiler: gcc 8.3.0-6

Fedora 38
	Kernel: Depends on container host
	Compiler: gcc 13.1.1

openSUSE Leap 15
	Kernel: 4.18.0-240.10.1.el8_3.x86_64
	Compiler: gcc 7.5.0

To view detailed results, visit:
https://lab.dpdk.org/results/dashboard/patchsets/27516/

UNH-IOL DPDK Community Lab

To manage your email subscriptions, visit: 
https://lab.dpdk.org/results/dashboard/preferences/subscriptions/