From mboxrd@z Thu Jan  1 00:00:00 1970
Return-Path: <test-report-bounces@dpdk.org>
Received: from mails.dpdk.org (mails.dpdk.org [217.70.189.124])
	by inbox.dpdk.org (Postfix) with ESMTP id 47A8D42538
	for <public@inbox.dpdk.org>; Thu,  7 Sep 2023 18:05:48 +0200 (CEST)
Received: from mails.dpdk.org (localhost [127.0.0.1])
	by mails.dpdk.org (Postfix) with ESMTP id 4DE21400EF;
	Thu,  7 Sep 2023 18:05:48 +0200 (CEST)
Received: from mail-pl1-f225.google.com (mail-pl1-f225.google.com
 [209.85.214.225])
 by mails.dpdk.org (Postfix) with ESMTP id E3647400EF
 for <test-report@dpdk.org>; Thu,  7 Sep 2023 18:05:46 +0200 (CEST)
Received: by mail-pl1-f225.google.com with SMTP id
 d9443c01a7336-1c22103bce7so9050975ad.1
 for <test-report@dpdk.org>; Thu, 07 Sep 2023 09:05:46 -0700 (PDT)
DKIM-Signature: v=1; a=rsa-sha256; c=relaxed/relaxed;
 d=iol.unh.edu; s=unh-iol; t=1694102746; x=1694707546; darn=dpdk.org;
 h=cc:to:from:subject:message-id:date:from:to:cc:subject:date
 :message-id:reply-to;
 bh=j+mEqDMF5BCnssvdfpmJUxGjnpr5kF4tkWil66+QALM=;
 b=dHk7BB73YoZio0+9XVx1Fcm5Qf3KEaQBVUyTS6U6tnq7VtgWyCHjPZaRjPhNLzBE3w
 swji9nYGVJn+H/wftSA3f9BZpnJXk2zF3afq/arZnsd8UZyLHC05A2D2fcwjEy0ax5Pv
 1us1satqncCruORyi65KppddgrQ8J1MgxzIT4=
X-Google-DKIM-Signature: v=1; a=rsa-sha256; c=relaxed/relaxed;
 d=1e100.net; s=20221208; t=1694102746; x=1694707546;
 h=cc:to:from:subject:message-id:date:x-gm-message-state:from:to:cc
 :subject:date:message-id:reply-to;
 bh=j+mEqDMF5BCnssvdfpmJUxGjnpr5kF4tkWil66+QALM=;
 b=TSxCmV1ZHubD/h93AH/bcla32kfKtfWtZqN5WHTjDMm58aYniX649tx2rjajkMKpID
 zGva+j3sjbKofvvUWiYwEmIBaywo3dZxgQIyiqwMODo8KnlsLUNTKCcHU+O6G4l6Rf03
 ezUCkQFcLZArmZvEBTlWGNj29KZoUc1zGsZSZKE0WuS72hf1S1qSBWHB15DeEwloT9FM
 WSK1Lcho3Jf92fh34oBp30nS7vAk0IVBwAdat6Aw2s9CCpDHCgjG+gh9pqKrVaOhtuhA
 REyH4P55UjRJiD8mER9KRwhBfhNSLcrS7sgFXEH+2MGI8FNnraOIxFT3nft5CQ7fkvbH
 T9OQ==
X-Gm-Message-State: AOJu0Yw5o3rJvuJoOCYrajVvJVF7+6B3Ba5pc8E4hTIEwugG1qFsB9on
 2ohFxoshrdikNyda5MQK/a52zL7oJjZinfAsP8MFguh0EkOjW2yg1hBHUZZvcwFQT9RHFa7GMA=
 =
X-Google-Smtp-Source: AGHT+IEuUfU0orj/A9mxUIn5UdC2OBuJL1ahtLfrG8SnhD34jgDCxobIz8Gd0lgcxQDGNgU2bFqlIR4sWiSk
X-Received: by 2002:a17:903:11cc:b0:1b8:b3f0:3d57 with SMTP id
 q12-20020a17090311cc00b001b8b3f03d57mr5507plh.31.1694102746164; 
 Thu, 07 Sep 2023 09:05:46 -0700 (PDT)
Received: from postal.iol.unh.edu (postal.iol.unh.edu.
 [2606:4100:3880:1234::84]) by smtp-relay.gmail.com with ESMTPS id
 jb15-20020a170903258f00b001bbc971fadfsm559956plb.147.2023.09.07.09.05.46
 (version=TLS1_2 cipher=ECDHE-ECDSA-AES128-GCM-SHA256 bits=128/128);
 Thu, 07 Sep 2023 09:05:46 -0700 (PDT)
X-Relaying-Domain: iol.unh.edu
Date: Thu, 07 Sep 2023 09:05:46 -0700 (PDT)
Message-ID: <64f9f4da.170a0220.66213.923fSMTPIN_ADDED_MISSING@mx.google.com>
Received: from [172.21.0.2] (unknown [172.18.0.240])
 by postal.iol.unh.edu (Postfix) with ESMTP id 5D2586052471;
 Thu,  7 Sep 2023 12:05:45 -0400 (EDT)
Subject: |SUCCESS| pw131210 [PATCH] [v2] net/iavf: fix port stats not cleared
From: dpdklab@iol.unh.edu
To: Test Report <test-report@dpdk.org>
Cc: dpdk-test-reports@iol.unh.edu
Content-Type: text/plain
X-BeenThere: test-report@dpdk.org
X-Mailman-Version: 2.1.29
Precedence: list
List-Id: automatic DPDK test reports <test-report.dpdk.org>
List-Unsubscribe: <https://mails.dpdk.org/options/test-report>,
 <mailto:test-report-request@dpdk.org?subject=unsubscribe>
List-Archive: <http://mails.dpdk.org/archives/test-report/>
List-Post: <mailto:test-report@dpdk.org>
List-Help: <mailto:test-report-request@dpdk.org?subject=help>
List-Subscribe: <https://mails.dpdk.org/listinfo/test-report>,
 <mailto:test-report-request@dpdk.org?subject=subscribe>
Errors-To: test-report-bounces@dpdk.org

Test-Label: iol-compile-amd64-testing
Test-Status: SUCCESS
http://dpdk.org/patch/131210

_Testing PASS_

Submitter: Yiding Zhou <yidingx.zhou@intel.com>
Date: Thursday, September 07 2023 02:39:42 
DPDK git baseline: Repo:dpdk
  Branch: master
  CommitID:e92ba1426914db1d224dd5e9a1743657681b8814

131210 --> testing pass

Test environment and result as below:

+---------------------+--------------------+----------------------+
|     Environment     | dpdk_meson_compile | dpdk_mingw64_compile |
+=====================+====================+======================+
| FreeBSD 13          | PASS               | SKIPPED              |
+---------------------+--------------------+----------------------+
| Windows Server 2019 | PASS               | PASS                 |
+---------------------+--------------------+----------------------+
| Debian Bullseye     | PASS               | SKIPPED              |
+---------------------+--------------------+----------------------+
| Debian Buster       | PASS               | SKIPPED              |
+---------------------+--------------------+----------------------+
| Fedora 37           | PASS               | SKIPPED              |
+---------------------+--------------------+----------------------+
| Ubuntu 20.04        | PASS               | SKIPPED              |
+---------------------+--------------------+----------------------+
| openSUSE Leap 15    | PASS               | SKIPPED              |
+---------------------+--------------------+----------------------+
| Ubuntu 22.04        | PASS               | SKIPPED              |
+---------------------+--------------------+----------------------+
| CentOS Stream 8     | PASS               | SKIPPED              |
+---------------------+--------------------+----------------------+
| Fedora 38           | PASS               | SKIPPED              |
+---------------------+--------------------+----------------------+
| RHEL8               | PASS               | SKIPPED              |
+---------------------+--------------------+----------------------+
| CentOS Stream 9     | PASS               | SKIPPED              |
+---------------------+--------------------+----------------------+
| Alpine              | PASS               | SKIPPED              |
+---------------------+--------------------+----------------------+


FreeBSD 13
	Kernel: 13.0
	Compiler: clang 11.0.1

Windows Server 2019
	Kernel: 10.0
	Compiler: clang 14.0 and gcc 8.1.0 (MinGW)

Debian Bullseye
	Kernel: 5.4.0-122-generic
	Compiler: gcc 10.2.1-6

Debian Buster
	Kernel: 5.4.0-122-generic
	Compiler: gcc 8.3.0-6

Fedora 37
	Kernel: Depends on container host system
	Compiler: gcc 12.3.1

Ubuntu 20.04
	Kernel: 5.4.0-153-generic
	Compiler: gcc 9.4.0-1ubuntu1~20.04.1

openSUSE Leap 15
	Kernel: 4.18.0-240.10.1.el8_3.x86_64
	Compiler: gcc 7.5.0

Ubuntu 22.04
	Kernel: 4.18.0-240.10.1.el8_3.x86_64
	Compiler: gcc 11.3.0

CentOS Stream 8
	Kernel: 4.18.0-240.10.1.el8_3.x86_64
	Compiler: gcc 8.4.1 20200928

Fedora 38
	Kernel: Depends on container host
	Compiler: gcc 13.1.1

RHEL8
	Kernel: 4.18.0-240.10.1.el8_3.x86_64
	Compiler: gcc 8.3.1 20191121 (Red Hat 8.3.1-5)

CentOS Stream 9
	Kernel: 4.18.0-240.10.1.el8_3.x86_64
	Compiler: gcc 11.3.1 20220421

Alpine
	Kernel: 5.4.0-73-generic
	Compiler: gcc (Alpine 10.3.1_git20210424) 10.3.1 20210424

To view detailed results, visit:
https://lab.dpdk.org/results/dashboard/patchsets/27540/

UNH-IOL DPDK Community Lab

To manage your email subscriptions, visit: 
https://lab.dpdk.org/results/dashboard/preferences/subscriptions/