From mboxrd@z Thu Jan  1 00:00:00 1970
Return-Path: <test-report-bounces@dpdk.org>
Received: from mails.dpdk.org (mails.dpdk.org [217.70.189.124])
	by inbox.dpdk.org (Postfix) with ESMTP id CB45B42554
	for <public@inbox.dpdk.org>; Sat,  9 Sep 2023 15:08:26 +0200 (CEST)
Received: from mails.dpdk.org (localhost [127.0.0.1])
	by mails.dpdk.org (Postfix) with ESMTP id C780B40295;
	Sat,  9 Sep 2023 15:08:26 +0200 (CEST)
Received: from mail-yw1-f227.google.com (mail-yw1-f227.google.com
 [209.85.128.227])
 by mails.dpdk.org (Postfix) with ESMTP id 86C0F40295
 for <test-report@dpdk.org>; Sat,  9 Sep 2023 15:08:23 +0200 (CEST)
Received: by mail-yw1-f227.google.com with SMTP id
 00721157ae682-58cd9d9dbf5so40865247b3.0
 for <test-report@dpdk.org>; Sat, 09 Sep 2023 06:08:23 -0700 (PDT)
DKIM-Signature: v=1; a=rsa-sha256; c=relaxed/relaxed;
 d=iol.unh.edu; s=unh-iol; t=1694264903; x=1694869703; darn=dpdk.org;
 h=cc:to:from:subject:message-id:date:from:to:cc:subject:date
 :message-id:reply-to;
 bh=Rr8yMIlwlOOCa9qgM6YDtzapDUbPkgv2mUlr7zlya0A=;
 b=PBR7M0kbivBL0VIcpJRcp1eu919spAwyr0aGU3DEbzp0+/+aeLyrTy9872Yh8E9WWH
 RKZDEsI9VuPVu+3agS2oiB3DydV4t4n4HnerSsDhFgG6wgjjdBRkk6VYB1GLvi7eu0TC
 R/MytNaOt2rJUHLM6yA7LRSKFlmMs6pvVwHdU=
X-Google-DKIM-Signature: v=1; a=rsa-sha256; c=relaxed/relaxed;
 d=1e100.net; s=20230601; t=1694264903; x=1694869703;
 h=cc:to:from:subject:message-id:date:x-gm-message-state:from:to:cc
 :subject:date:message-id:reply-to;
 bh=Rr8yMIlwlOOCa9qgM6YDtzapDUbPkgv2mUlr7zlya0A=;
 b=W+K+ca6a+5jo3P7fVhimN9UZo8W4xoA91hiRTP++cJkK5bB9JNIg3bb8SlredxGfLS
 8n9KQgFCsemQJJfZjkYJOURLPc8rCxUJPyTTJqSxymLxe///oQDU8U/iwNJ5jW5f8/1h
 nW8m9LWWBNJgRmYUrYmO9jICDncOQFPXK8emxGJmB8f6YtK9Ubz+JvOm7LjrzqYptbOS
 6IW+xj35YQOheChF22U1MW/HzD8C1kL2TN2mAR4Zuo7pmp3UiW4imDK01FmswI5d1WUh
 vlm4JW4kwqYBgw87Mp5AO5xKItWVhMKzQujr/1avvQAfCh1k4rSB2ar0DD+ij6NxMn7q
 MLlw==
X-Gm-Message-State: AOJu0YxbKFSC5I0jm9HnHVCtCFDhZXZPDHU4y3tpyFrGAv7c0XM1AyZI
 j2itLoE9FDPEd9S3Jvb7ixxPbAZXim9oH2ulw2mEzYroSN9SnVkUBii0q3Q40aHsZ6xM97PKtw=
 =
X-Google-Smtp-Source: AGHT+IGwLSto9ngo4sBHgoc8Bf6cUeboAu+mRGfxK+uRt9Tqx3mVg1KiWlxJLz9eojj1w7SlALQb0O9dMNz3
X-Received: by 2002:a81:4fc9:0:b0:583:9935:b8ba with SMTP id
 d192-20020a814fc9000000b005839935b8bamr10043132ywb.6.1694264902952; 
 Sat, 09 Sep 2023 06:08:22 -0700 (PDT)
Received: from postal.iol.unh.edu (postal.iol.unh.edu.
 [2606:4100:3880:1234::84]) by smtp-relay.gmail.com with ESMTPS id
 z123-20020a25c981000000b00d71495b8063sm235907ybf.30.2023.09.09.06.08.22
 (version=TLS1_2 cipher=ECDHE-ECDSA-AES128-GCM-SHA256 bits=128/128);
 Sat, 09 Sep 2023 06:08:22 -0700 (PDT)
X-Relaying-Domain: iol.unh.edu
Date: Sat, 09 Sep 2023 06:08:22 -0700 (PDT)
Message-ID: <64fc6e46.250a0220.40dfc.023dSMTPIN_ADDED_MISSING@mx.google.com>
Received: from [172.21.0.3] (unknown [172.18.0.240])
 by postal.iol.unh.edu (Postfix) with ESMTP id 981536052471;
 Sat,  9 Sep 2023 09:08:22 -0400 (EDT)
Subject: |SUCCESS| pw131316 [PATCH] [1/1] net/mana: add 32 bit short doorbell
From: dpdklab@iol.unh.edu
To: Test Report <test-report@dpdk.org>
Cc: dpdk-test-reports@iol.unh.edu
Content-Type: text/plain
X-BeenThere: test-report@dpdk.org
X-Mailman-Version: 2.1.29
Precedence: list
List-Id: automatic DPDK test reports <test-report.dpdk.org>
List-Unsubscribe: <https://mails.dpdk.org/options/test-report>,
 <mailto:test-report-request@dpdk.org?subject=unsubscribe>
List-Archive: <http://mails.dpdk.org/archives/test-report/>
List-Post: <mailto:test-report@dpdk.org>
List-Help: <mailto:test-report-request@dpdk.org?subject=help>
List-Subscribe: <https://mails.dpdk.org/listinfo/test-report>,
 <mailto:test-report-request@dpdk.org?subject=subscribe>
Errors-To: test-report-bounces@dpdk.org

Test-Label: iol-compile-arm64-testing
Test-Status: SUCCESS
http://dpdk.org/patch/131316

_Testing PASS_

Submitter: Wei Hu <weh@microsoft.com>
Date: Saturday, September 09 2023 12:23:47 
DPDK git baseline: Repo:dpdk
  Branch: master
  CommitID:e92ba1426914db1d224dd5e9a1743657681b8814

131316 --> testing pass

Test environment and result as below:

+----------------------------------------+--------------------+
|              Environment               | dpdk_meson_compile |
+========================================+====================+
| Ubuntu 20.04 ARM SVE                   | PASS               |
+----------------------------------------+--------------------+
| Ubuntu 20.04 aarch32 GCC Cross Compile | PASS               |
+----------------------------------------+--------------------+
| Ubuntu 20.04 ARM GCC Cross Compile     | PASS               |
+----------------------------------------+--------------------+
| Ubuntu 20.04 ARM Clang Cross Compile   | PASS               |
+----------------------------------------+--------------------+
| Fedora 37 (ARM)                        | PASS               |
+----------------------------------------+--------------------+
| Fedora 38 (ARM)                        | PASS               |
+----------------------------------------+--------------------+
| Debian 11 (Buster) (ARM)               | PASS               |
+----------------------------------------+--------------------+
| Ubuntu 20.04 (ARM)                     | PASS               |
+----------------------------------------+--------------------+
| CentOS Stream 9 (ARM)                  | PASS               |
+----------------------------------------+--------------------+


Ubuntu 20.04 ARM SVE
	Kernel: 5.4.0-80-generic
	Compiler: gcc 10.3.0 (Ubuntu 10.3.0-1ubuntu1~20.04)

Ubuntu 20.04 aarch32 GCC Cross Compile
	Kernel: 5.4.0-72-generic
	Compiler: gcc 9.3.0

Ubuntu 20.04 ARM GCC Cross Compile
	Kernel: 5.4.0-72-generic
	Compiler: aarch64-linux-gnu-gcc (Ubuntu 9.3.0-17ubuntu1~20.04) 9.3.0

Ubuntu 20.04 ARM Clang Cross Compile
	Kernel: 5.4.0-72-generic
	Compiler: clang version 10.0.0-4ubuntu1

Fedora 37 (ARM)
	Kernel: Depends on container host
	Compiler: gcc 12.3.1

Fedora 38 (ARM)
	Kernel: Depends on container host
	Compiler: gcc 13.1.1

Debian 11 (Buster) (ARM)
	Kernel: Container Host Kernel
	Compiler: gcc 10.2.1

Ubuntu 20.04 (ARM)
	Kernel: Container Host Kernel
	Compiler: gcc 9.4.0

CentOS Stream 9 (ARM)
	Kernel: Container Host Kernel
	Compiler: gcc 11.3.1

To view detailed results, visit:
https://lab.dpdk.org/results/dashboard/patchsets/27564/

UNH-IOL DPDK Community Lab

To manage your email subscriptions, visit: 
https://lab.dpdk.org/results/dashboard/preferences/subscriptions/