From mboxrd@z Thu Jan  1 00:00:00 1970
Return-Path: <test-report-bounces@dpdk.org>
Received: from mails.dpdk.org (mails.dpdk.org [217.70.189.124])
	by inbox.dpdk.org (Postfix) with ESMTP id 49BB04256F
	for <public@inbox.dpdk.org>; Mon, 11 Sep 2023 14:13:20 +0200 (CEST)
Received: from mails.dpdk.org (localhost [127.0.0.1])
	by mails.dpdk.org (Postfix) with ESMTP id 458E0402D2;
	Mon, 11 Sep 2023 14:13:20 +0200 (CEST)
Received: from mail-oa1-f98.google.com (mail-oa1-f98.google.com
 [209.85.160.98]) by mails.dpdk.org (Postfix) with ESMTP id 6DA7E402D2
 for <test-report@dpdk.org>; Mon, 11 Sep 2023 14:13:19 +0200 (CEST)
Received: by mail-oa1-f98.google.com with SMTP id
 586e51a60fabf-1d14bb44ad1so3170544fac.1
 for <test-report@dpdk.org>; Mon, 11 Sep 2023 05:13:19 -0700 (PDT)
DKIM-Signature: v=1; a=rsa-sha256; c=relaxed/relaxed;
 d=iol.unh.edu; s=unh-iol; t=1694434399; x=1695039199; darn=dpdk.org;
 h=cc:to:from:subject:message-id:date:from:to:cc:subject:date
 :message-id:reply-to;
 bh=f0o05ghbN1XhT/A7LXXqLvyQkEzSOtGHkkD/sAd7kv8=;
 b=bxrzB7c32/hIlcGn6F8Vuc5mPzm9izDl0uFMvSqL4tduIozXyjqIiIxTShD8sfk0D6
 bkQ5h0YeAZyUputPVP4ZuwQ+uWhHgmFSqSNpEIudISPF8ef167F0BYPXnGq6cpyDi73R
 IFBagNID6DmhWOrELB3drx1titBFB7uzjrihw=
X-Google-DKIM-Signature: v=1; a=rsa-sha256; c=relaxed/relaxed;
 d=1e100.net; s=20230601; t=1694434399; x=1695039199;
 h=cc:to:from:subject:message-id:date:x-gm-message-state:from:to:cc
 :subject:date:message-id:reply-to;
 bh=f0o05ghbN1XhT/A7LXXqLvyQkEzSOtGHkkD/sAd7kv8=;
 b=KvmFQNrqtpQKNo6WkSC2Ph8O1x0zUtRqMl0xNBkkYf9/DVi6HxYiiJYplr2qYprn4l
 wOux5JkRf1SkPTBRBfEEvpg/RxaVawe5TvqEHdVnX+GENS9IKtHkdh6AcmLa6l2DkBhL
 tLkcoMkDQnpVylrvfK2atCOAqbftCqsG0r+saF6/M+BRUg3ALhVX7hOmao05WTVpA39d
 YgmzYKh6takd8JtZG/tkTTPkiz7U3OaZ5cGQLgy541umI6aepDL0Jhj7nINZew155DpF
 8YD466zW4FNvI8RNsmygkpqW/pT/p7Le6VgLOb799EVUTd0Zk74D/bufUAkleeYKf5KB
 VuuQ==
X-Gm-Message-State: AOJu0YxGqIqPHeBLaaGP0D5fTSCI8j6gxOUMmNUxqfB71GZhmhGt+VIM
 sWSKxegymXw8eEepzOozR0T5OB91A5NnUd9RpgbfzQWuPa1KnWuWAo4srCz9RW0qscJaui0AIg=
 =
X-Google-Smtp-Source: AGHT+IE092A1mVPVVagJICn2zJWh63V6FovypwDB/1Dd5uV5HpcRvmjBm7CALIpZ138SbVPJYzmKxR8SIXrZ
X-Received: by 2002:a05:6871:294:b0:1bc:3ca:f653 with SMTP id
 i20-20020a056871029400b001bc03caf653mr12122685oae.45.1694434398841; 
 Mon, 11 Sep 2023 05:13:18 -0700 (PDT)
Received: from postal.iol.unh.edu (postal.iol.unh.edu.
 [2606:4100:3880:1234::84]) by smtp-relay.gmail.com with ESMTPS id
 cz42-20020a05687064aa00b001d57c8f60c7sm444013oab.37.2023.09.11.05.13.18
 (version=TLS1_2 cipher=ECDHE-ECDSA-AES128-GCM-SHA256 bits=128/128);
 Mon, 11 Sep 2023 05:13:18 -0700 (PDT)
X-Relaying-Domain: iol.unh.edu
Date: Mon, 11 Sep 2023 05:13:18 -0700 (PDT)
Message-ID: <64ff045e.050a0220.c1d44.d91aSMTPIN_ADDED_MISSING@mx.google.com>
Received: from [172.21.0.2] (unknown [172.18.0.240])
 by postal.iol.unh.edu (Postfix) with ESMTP id 566C36052471;
 Mon, 11 Sep 2023 08:13:18 -0400 (EDT)
Subject: |SUCCESS| pw131336 [PATCH] net/iavf: fix ESN session update
From: dpdklab@iol.unh.edu
To: Test Report <test-report@dpdk.org>
Cc: dpdk-test-reports@iol.unh.edu
Content-Type: text/plain
X-BeenThere: test-report@dpdk.org
X-Mailman-Version: 2.1.29
Precedence: list
List-Id: automatic DPDK test reports <test-report.dpdk.org>
List-Unsubscribe: <https://mails.dpdk.org/options/test-report>,
 <mailto:test-report-request@dpdk.org?subject=unsubscribe>
List-Archive: <http://mails.dpdk.org/archives/test-report/>
List-Post: <mailto:test-report@dpdk.org>
List-Help: <mailto:test-report-request@dpdk.org?subject=help>
List-Subscribe: <https://mails.dpdk.org/listinfo/test-report>,
 <mailto:test-report-request@dpdk.org?subject=subscribe>
Errors-To: test-report-bounces@dpdk.org

Test-Label: iol-compile-amd64-testing
Test-Status: SUCCESS
http://dpdk.org/patch/131336

_Testing PASS_

Submitter: Radu Nicolau <radu.nicolau@intel.com>
Date: Monday, September 11 2023 09:20:40 
DPDK git baseline: Repo:dpdk
  Branch: master
  CommitID:e92ba1426914db1d224dd5e9a1743657681b8814

131336 --> testing pass

Test environment and result as below:

+---------------------+--------------------+----------------------+
|     Environment     | dpdk_meson_compile | dpdk_mingw64_compile |
+=====================+====================+======================+
| FreeBSD 13          | PASS               | SKIPPED              |
+---------------------+--------------------+----------------------+
| Windows Server 2019 | PASS               | PASS                 |
+---------------------+--------------------+----------------------+
| Debian Bullseye     | PASS               | SKIPPED              |
+---------------------+--------------------+----------------------+
| Fedora 37           | PASS               | SKIPPED              |
+---------------------+--------------------+----------------------+
| Debian Buster       | PASS               | SKIPPED              |
+---------------------+--------------------+----------------------+
| CentOS Stream 9     | PASS               | SKIPPED              |
+---------------------+--------------------+----------------------+
| CentOS Stream 8     | PASS               | SKIPPED              |
+---------------------+--------------------+----------------------+
| Fedora 38           | PASS               | SKIPPED              |
+---------------------+--------------------+----------------------+
| Ubuntu 20.04        | PASS               | SKIPPED              |
+---------------------+--------------------+----------------------+
| openSUSE Leap 15    | PASS               | SKIPPED              |
+---------------------+--------------------+----------------------+
| RHEL8               | PASS               | SKIPPED              |
+---------------------+--------------------+----------------------+
| Ubuntu 22.04        | PASS               | SKIPPED              |
+---------------------+--------------------+----------------------+


FreeBSD 13
	Kernel: 13.0
	Compiler: clang 11.0.1

Windows Server 2019
	Kernel: 10.0
	Compiler: clang 14.0 and gcc 8.1.0 (MinGW)

Debian Bullseye
	Kernel: 5.4.0-122-generic
	Compiler: gcc 10.2.1-6

Fedora 37
	Kernel: Depends on container host system
	Compiler: gcc 12.3.1

Debian Buster
	Kernel: 5.4.0-122-generic
	Compiler: gcc 8.3.0-6

CentOS Stream 9
	Kernel: 4.18.0-240.10.1.el8_3.x86_64
	Compiler: gcc 11.3.1 20220421

CentOS Stream 8
	Kernel: 4.18.0-240.10.1.el8_3.x86_64
	Compiler: gcc 8.4.1 20200928

Fedora 38
	Kernel: Depends on container host
	Compiler: gcc 13.1.1

Ubuntu 20.04
	Kernel: 5.4.0-153-generic
	Compiler: gcc 9.4.0-1ubuntu1~20.04.1

openSUSE Leap 15
	Kernel: 4.18.0-240.10.1.el8_3.x86_64
	Compiler: gcc 7.5.0

RHEL8
	Kernel: 4.18.0-240.10.1.el8_3.x86_64
	Compiler: gcc 8.3.1 20191121 (Red Hat 8.3.1-5)

Ubuntu 22.04
	Kernel: 4.18.0-240.10.1.el8_3.x86_64
	Compiler: gcc 11.3.0

To view detailed results, visit:
https://lab.dpdk.org/results/dashboard/patchsets/27574/

UNH-IOL DPDK Community Lab

To manage your email subscriptions, visit: 
https://lab.dpdk.org/results/dashboard/preferences/subscriptions/