From mboxrd@z Thu Jan  1 00:00:00 1970
Return-Path: <test-report-bounces@dpdk.org>
Received: from mails.dpdk.org (mails.dpdk.org [217.70.189.124])
	by inbox.dpdk.org (Postfix) with ESMTP id 568FE4256F
	for <public@inbox.dpdk.org>; Mon, 11 Sep 2023 14:13:29 +0200 (CEST)
Received: from mails.dpdk.org (localhost [127.0.0.1])
	by mails.dpdk.org (Postfix) with ESMTP id 5288F402D2;
	Mon, 11 Sep 2023 14:13:29 +0200 (CEST)
Received: from mail-ot1-f99.google.com (mail-ot1-f99.google.com
 [209.85.210.99]) by mails.dpdk.org (Postfix) with ESMTP id DA08C402D2
 for <test-report@dpdk.org>; Mon, 11 Sep 2023 14:13:27 +0200 (CEST)
Received: by mail-ot1-f99.google.com with SMTP id
 46e09a7af769-6c0b8f42409so2787463a34.0
 for <test-report@dpdk.org>; Mon, 11 Sep 2023 05:13:27 -0700 (PDT)
DKIM-Signature: v=1; a=rsa-sha256; c=relaxed/relaxed;
 d=iol.unh.edu; s=unh-iol; t=1694434407; x=1695039207; darn=dpdk.org;
 h=cc:to:from:subject:message-id:date:from:to:cc:subject:date
 :message-id:reply-to;
 bh=ej5D6pNb0lYOmjajWRFEILu1yCEsF3Iyi+qz8rsz6c0=;
 b=AZHSUnYAvyrJsf90RI5F9DfCZItnqK08kmdQFR8S0/y1olvbHR/hhqHqkEKRMB/0Vx
 YpmWK2+0o1jpD2PtridWLne2XU7z71LZiGXlG82Ea1Tm8lPjGmFZqsTU10TMHYASbnip
 mBRtnCg+UJvfer4Yc/fj2cZG7P0fOL5wKTrVg=
X-Google-DKIM-Signature: v=1; a=rsa-sha256; c=relaxed/relaxed;
 d=1e100.net; s=20230601; t=1694434407; x=1695039207;
 h=cc:to:from:subject:message-id:date:x-gm-message-state:from:to:cc
 :subject:date:message-id:reply-to;
 bh=ej5D6pNb0lYOmjajWRFEILu1yCEsF3Iyi+qz8rsz6c0=;
 b=ZZzX6c6K+A5tHk6snsJzYmGnzKihA/YY+Jy0UBQ+SPmKBG1eEUa19Gv1Ya86lpbCl6
 gyCkstfQUo3CfA3UartxBTtOmrGjVXZ/boeIf+mOPBGyRtrGZpiWKn7n8RnVowf7CDDV
 2DUBxlN9l7kRsCdNrSgG+AoQMrMeiF40lZfe8Nt1ySa8AjO2Hku0u2waPIQAGyDRgCpS
 l4GZQwTyRJnPSkIgDZayGYcL+WqXQf3ryaLyjFzs+8Q4OTyq8dUGKYaWc+iJFsZ3h7yA
 dQ3lOAJ3FW6rTY7MlOubcTcU3xoVc/dAZRBsRIYrW3gmMK9bugH3sUwklcV8ywcLyVyI
 +dpA==
X-Gm-Message-State: AOJu0YzFhozha+Q5vb7MyVZn0lAI1iz6TSdz/T+hIUcCJo5FZ83zUzYV
 6EzsiuL5Apv8laQPzjuJk4hnHaPRtoJwfdm32GdmQRBXB6pPb8ZvZ2P1UQ==
X-Google-Smtp-Source: AGHT+IFJKEVccibRkh+WW3C48pMbQlU6lTWXEci+QZ4lWm9ZWmf/nSh/iFwqKa4zrtqfJjfpovAg1Qotxfx2
X-Received: by 2002:a05:6358:9389:b0:134:cb1d:6737 with SMTP id
 h9-20020a056358938900b00134cb1d6737mr9704265rwb.7.1694434407158; 
 Mon, 11 Sep 2023 05:13:27 -0700 (PDT)
Received: from postal.iol.unh.edu (postal.iol.unh.edu. [132.177.123.84])
 by smtp-relay.gmail.com with ESMTPS id
 i14-20020a0c9c8e000000b006472b3d19dasm427365qvf.1.2023.09.11.05.13.27
 (version=TLS1_2 cipher=ECDHE-ECDSA-AES128-GCM-SHA256 bits=128/128);
 Mon, 11 Sep 2023 05:13:27 -0700 (PDT)
X-Relaying-Domain: iol.unh.edu
Date: Mon, 11 Sep 2023 05:13:27 -0700 (PDT)
Message-ID: <64ff0467.0c0a0220.b0128.d4e4SMTPIN_ADDED_MISSING@mx.google.com>
Received: from [172.21.0.2] (unknown [172.18.0.240])
 by postal.iol.unh.edu (Postfix) with ESMTP id D8C896052471;
 Mon, 11 Sep 2023 08:13:26 -0400 (EDT)
Subject: |SUCCESS| pw131336 [PATCH] net/iavf: fix ESN session update
From: dpdklab@iol.unh.edu
To: Test Report <test-report@dpdk.org>
Cc: dpdk-test-reports@iol.unh.edu
Content-Type: text/plain
X-BeenThere: test-report@dpdk.org
X-Mailman-Version: 2.1.29
Precedence: list
List-Id: automatic DPDK test reports <test-report.dpdk.org>
List-Unsubscribe: <https://mails.dpdk.org/options/test-report>,
 <mailto:test-report-request@dpdk.org?subject=unsubscribe>
List-Archive: <http://mails.dpdk.org/archives/test-report/>
List-Post: <mailto:test-report@dpdk.org>
List-Help: <mailto:test-report-request@dpdk.org?subject=help>
List-Subscribe: <https://mails.dpdk.org/listinfo/test-report>,
 <mailto:test-report-request@dpdk.org?subject=subscribe>
Errors-To: test-report-bounces@dpdk.org

Test-Label: iol-compile-arm64-testing
Test-Status: SUCCESS
http://dpdk.org/patch/131336

_Testing PASS_

Submitter: Radu Nicolau <radu.nicolau@intel.com>
Date: Monday, September 11 2023 09:20:40 
DPDK git baseline: Repo:dpdk
  Branch: master
  CommitID:e92ba1426914db1d224dd5e9a1743657681b8814

131336 --> testing pass

Test environment and result as below:

+----------------------------------------+--------------------+
|              Environment               | dpdk_meson_compile |
+========================================+====================+
| Ubuntu 20.04 ARM SVE                   | PASS               |
+----------------------------------------+--------------------+
| Ubuntu 20.04 (ARM)                     | PASS               |
+----------------------------------------+--------------------+
| Fedora 37 (ARM)                        | PASS               |
+----------------------------------------+--------------------+
| Debian 11 (Buster) (ARM)               | PASS               |
+----------------------------------------+--------------------+
| CentOS Stream 9 (ARM)                  | PASS               |
+----------------------------------------+--------------------+
| Fedora 38 (ARM)                        | PASS               |
+----------------------------------------+--------------------+
| Ubuntu 20.04 ARM GCC Cross Compile     | PASS               |
+----------------------------------------+--------------------+
| Ubuntu 20.04 aarch32 GCC Cross Compile | PASS               |
+----------------------------------------+--------------------+
| Ubuntu 20.04 ARM Clang Cross Compile   | PASS               |
+----------------------------------------+--------------------+


Ubuntu 20.04 ARM SVE
	Kernel: 5.4.0-80-generic
	Compiler: gcc 10.3.0 (Ubuntu 10.3.0-1ubuntu1~20.04)

Ubuntu 20.04 (ARM)
	Kernel: Container Host Kernel
	Compiler: gcc 9.4.0

Fedora 37 (ARM)
	Kernel: Depends on container host
	Compiler: gcc 12.3.1

Debian 11 (Buster) (ARM)
	Kernel: Container Host Kernel
	Compiler: gcc 10.2.1

CentOS Stream 9 (ARM)
	Kernel: Container Host Kernel
	Compiler: gcc 11.3.1

Fedora 38 (ARM)
	Kernel: Depends on container host
	Compiler: gcc 13.1.1

Ubuntu 20.04 ARM GCC Cross Compile
	Kernel: 5.4.0-72-generic
	Compiler: aarch64-linux-gnu-gcc (Ubuntu 9.3.0-17ubuntu1~20.04) 9.3.0

Ubuntu 20.04 aarch32 GCC Cross Compile
	Kernel: 5.4.0-72-generic
	Compiler: gcc 9.3.0

Ubuntu 20.04 ARM Clang Cross Compile
	Kernel: 5.4.0-72-generic
	Compiler: clang version 10.0.0-4ubuntu1

To view detailed results, visit:
https://lab.dpdk.org/results/dashboard/patchsets/27574/

UNH-IOL DPDK Community Lab

To manage your email subscriptions, visit: 
https://lab.dpdk.org/results/dashboard/preferences/subscriptions/