From mboxrd@z Thu Jan  1 00:00:00 1970
Return-Path: <test-report-bounces@dpdk.org>
Received: from mails.dpdk.org (mails.dpdk.org [217.70.189.124])
	by inbox.dpdk.org (Postfix) with ESMTP id BD0264256F
	for <public@inbox.dpdk.org>; Mon, 11 Sep 2023 14:14:27 +0200 (CEST)
Received: from mails.dpdk.org (localhost [127.0.0.1])
	by mails.dpdk.org (Postfix) with ESMTP id B94E6402D2;
	Mon, 11 Sep 2023 14:14:27 +0200 (CEST)
Received: from mail-yw1-f225.google.com (mail-yw1-f225.google.com
 [209.85.128.225])
 by mails.dpdk.org (Postfix) with ESMTP id 1FAFD402D2
 for <test-report@dpdk.org>; Mon, 11 Sep 2023 14:14:27 +0200 (CEST)
Received: by mail-yw1-f225.google.com with SMTP id
 00721157ae682-58d9ba95c78so43034527b3.1
 for <test-report@dpdk.org>; Mon, 11 Sep 2023 05:14:27 -0700 (PDT)
DKIM-Signature: v=1; a=rsa-sha256; c=relaxed/relaxed;
 d=iol.unh.edu; s=unh-iol; t=1694434466; x=1695039266; darn=dpdk.org;
 h=cc:to:from:subject:message-id:date:from:to:cc:subject:date
 :message-id:reply-to;
 bh=ej5D6pNb0lYOmjajWRFEILu1yCEsF3Iyi+qz8rsz6c0=;
 b=DflnvCQXcJX/FVh0RH1mrRWiGOP5utTUbK8hI2M0PpTUeOkghz1+cxLNN1Qdaey65g
 kR68+/UOuictms6ZmZYxycWX4Ck8DTbwnUIgD2Iwe8+LYZ75apKlqfRQAIkIQcO2bQIa
 39jp4lKBalGAvdLZ/nsYrzZ8Nl76BrRx6RCLA=
X-Google-DKIM-Signature: v=1; a=rsa-sha256; c=relaxed/relaxed;
 d=1e100.net; s=20230601; t=1694434466; x=1695039266;
 h=cc:to:from:subject:message-id:date:x-gm-message-state:from:to:cc
 :subject:date:message-id:reply-to;
 bh=ej5D6pNb0lYOmjajWRFEILu1yCEsF3Iyi+qz8rsz6c0=;
 b=aM1ssQz5Hidv0NomtoPBhXhhuYnjPDBBSeXxdlLgBny+0WcbOdpPo2DHdanCzzAXTi
 BX+bPPfbf318WdZg6GexRjDW85GvN3dVEvevXP2MWUH+pl3J2Ud67zgxb5Sq2TXlNk+Q
 rJnYGzw6B/I7ah6u4+d0+Gdg7tUExvNK84q0jQqX/srpwhxXQCoPBllQ2vkVDEu1Yuau
 uSqQpBvYh2pC1ZDxK+0TgkAwmQjFfLD58ZrVBTtUzyUWNJdDGOsmMZhGLd6McLrpGwI0
 sSUxkxyq2R16zNMS/JZr6wz4AEf+pMn0G2bOOc389UMYF0Gd/esmo02ThB9zceVi3nmo
 0ANw==
X-Gm-Message-State: AOJu0YxP1UhBxRztvKwfEzmV7dfS/hpfIWKdiBjeCgRqfD7D0EMFNDLT
 EsqydBjzVd3ciAam2B/LqNkEXzvMMd75UBZK7EdVNfQ5QmJ0DtNdUxTNlw==
X-Google-Smtp-Source: AGHT+IEW3ap5GZ4zxmVsMR2YJC4eXk2M/+a6NisFo8JYBLjbncHZz4QiiGlZi6z7dlyMoX3fZP8JZwHlvaHG
X-Received: by 2002:a81:6043:0:b0:59a:ef7f:5c67 with SMTP id
 u64-20020a816043000000b0059aef7f5c67mr9216542ywb.31.1694434466470; 
 Mon, 11 Sep 2023 05:14:26 -0700 (PDT)
Received: from postal.iol.unh.edu (postal.iol.unh.edu. [132.177.123.84])
 by smtp-relay.gmail.com with ESMTPS id
 j196-20020a8192cd000000b00579767a8f89sm574234ywg.19.2023.09.11.05.14.26
 (version=TLS1_2 cipher=ECDHE-ECDSA-AES128-GCM-SHA256 bits=128/128);
 Mon, 11 Sep 2023 05:14:26 -0700 (PDT)
X-Relaying-Domain: iol.unh.edu
Date: Mon, 11 Sep 2023 05:14:26 -0700 (PDT)
Message-ID: <64ff04a2.810a0220.e49d5.6a62SMTPIN_ADDED_MISSING@mx.google.com>
Received: from [172.21.0.3] (unknown [172.18.0.240])
 by postal.iol.unh.edu (Postfix) with ESMTP id 2415A6052471;
 Mon, 11 Sep 2023 08:14:26 -0400 (EDT)
Subject: |SUCCESS| pw131336 [PATCH] net/iavf: fix ESN session update
From: dpdklab@iol.unh.edu
To: Test Report <test-report@dpdk.org>
Cc: dpdk-test-reports@iol.unh.edu
Content-Type: text/plain
X-BeenThere: test-report@dpdk.org
X-Mailman-Version: 2.1.29
Precedence: list
List-Id: automatic DPDK test reports <test-report.dpdk.org>
List-Unsubscribe: <https://mails.dpdk.org/options/test-report>,
 <mailto:test-report-request@dpdk.org?subject=unsubscribe>
List-Archive: <http://mails.dpdk.org/archives/test-report/>
List-Post: <mailto:test-report@dpdk.org>
List-Help: <mailto:test-report-request@dpdk.org?subject=help>
List-Subscribe: <https://mails.dpdk.org/listinfo/test-report>,
 <mailto:test-report-request@dpdk.org?subject=subscribe>
Errors-To: test-report-bounces@dpdk.org

Test-Label: iol-compile-arm64-testing
Test-Status: SUCCESS
http://dpdk.org/patch/131336

_Testing PASS_

Submitter: Radu Nicolau <radu.nicolau@intel.com>
Date: Monday, September 11 2023 09:20:40 
DPDK git baseline: Repo:dpdk
  Branch: master
  CommitID:e92ba1426914db1d224dd5e9a1743657681b8814

131336 --> testing pass

Test environment and result as below:

+----------------------------------------+--------------------+
|              Environment               | dpdk_meson_compile |
+========================================+====================+
| Ubuntu 20.04 ARM SVE                   | PASS               |
+----------------------------------------+--------------------+
| Ubuntu 20.04 (ARM)                     | PASS               |
+----------------------------------------+--------------------+
| Fedora 37 (ARM)                        | PASS               |
+----------------------------------------+--------------------+
| Debian 11 (Buster) (ARM)               | PASS               |
+----------------------------------------+--------------------+
| CentOS Stream 9 (ARM)                  | PASS               |
+----------------------------------------+--------------------+
| Fedora 38 (ARM)                        | PASS               |
+----------------------------------------+--------------------+
| Ubuntu 20.04 ARM GCC Cross Compile     | PASS               |
+----------------------------------------+--------------------+
| Ubuntu 20.04 aarch32 GCC Cross Compile | PASS               |
+----------------------------------------+--------------------+
| Ubuntu 20.04 ARM Clang Cross Compile   | PASS               |
+----------------------------------------+--------------------+


Ubuntu 20.04 ARM SVE
	Kernel: 5.4.0-80-generic
	Compiler: gcc 10.3.0 (Ubuntu 10.3.0-1ubuntu1~20.04)

Ubuntu 20.04 (ARM)
	Kernel: Container Host Kernel
	Compiler: gcc 9.4.0

Fedora 37 (ARM)
	Kernel: Depends on container host
	Compiler: gcc 12.3.1

Debian 11 (Buster) (ARM)
	Kernel: Container Host Kernel
	Compiler: gcc 10.2.1

CentOS Stream 9 (ARM)
	Kernel: Container Host Kernel
	Compiler: gcc 11.3.1

Fedora 38 (ARM)
	Kernel: Depends on container host
	Compiler: gcc 13.1.1

Ubuntu 20.04 ARM GCC Cross Compile
	Kernel: 5.4.0-72-generic
	Compiler: aarch64-linux-gnu-gcc (Ubuntu 9.3.0-17ubuntu1~20.04) 9.3.0

Ubuntu 20.04 aarch32 GCC Cross Compile
	Kernel: 5.4.0-72-generic
	Compiler: gcc 9.3.0

Ubuntu 20.04 ARM Clang Cross Compile
	Kernel: 5.4.0-72-generic
	Compiler: clang version 10.0.0-4ubuntu1

To view detailed results, visit:
https://lab.dpdk.org/results/dashboard/patchsets/27574/

UNH-IOL DPDK Community Lab

To manage your email subscriptions, visit: 
https://lab.dpdk.org/results/dashboard/preferences/subscriptions/