From mboxrd@z Thu Jan  1 00:00:00 1970
Return-Path: <test-report-bounces@dpdk.org>
Received: from mails.dpdk.org (mails.dpdk.org [217.70.189.124])
	by inbox.dpdk.org (Postfix) with ESMTP id A0CDD4256F
	for <public@inbox.dpdk.org>; Mon, 11 Sep 2023 14:40:17 +0200 (CEST)
Received: from mails.dpdk.org (localhost [127.0.0.1])
	by mails.dpdk.org (Postfix) with ESMTP id 9C7A2402D6;
	Mon, 11 Sep 2023 14:40:17 +0200 (CEST)
Received: from mail-ot1-f97.google.com (mail-ot1-f97.google.com
 [209.85.210.97]) by mails.dpdk.org (Postfix) with ESMTP id 2ADCC402E4
 for <test-report@dpdk.org>; Mon, 11 Sep 2023 14:40:14 +0200 (CEST)
Received: by mail-ot1-f97.google.com with SMTP id
 46e09a7af769-6bc9c01e154so2809149a34.0
 for <test-report@dpdk.org>; Mon, 11 Sep 2023 05:40:14 -0700 (PDT)
DKIM-Signature: v=1; a=rsa-sha256; c=relaxed/relaxed;
 d=iol.unh.edu; s=unh-iol; t=1694436013; x=1695040813; darn=dpdk.org;
 h=cc:to:from:subject:message-id:date:from:to:cc:subject:date
 :message-id:reply-to;
 bh=i6vxDjiT1K2w+LuecgABB5xe0rMwfzBLEFiMfIjhLyY=;
 b=Al9EmqrkyM/aO7LEe6Wbgxo3pmME2M69hWko/TvrLU54Nr0ICN31m80H4mksA19X6a
 QwEa/4t2oNl+DkoIZXnec30n19WS9NrsTamLFs3/JSdK+WkGm3qENJ/T6QwWlStshyQw
 8O6G88V3jfABngBn5F2q3JueMLg4AYlKA12kA=
X-Google-DKIM-Signature: v=1; a=rsa-sha256; c=relaxed/relaxed;
 d=1e100.net; s=20230601; t=1694436013; x=1695040813;
 h=cc:to:from:subject:message-id:date:x-gm-message-state:from:to:cc
 :subject:date:message-id:reply-to;
 bh=i6vxDjiT1K2w+LuecgABB5xe0rMwfzBLEFiMfIjhLyY=;
 b=wdXTxETGlAQK11Gv4ItvNTc3DuK4EXAVznyJyUNXcmawWnTOsPREU5fZzg9TxvqOlJ
 OuopXadfr5ubXm/QE2ArKu//efDeDqwTypj8N7UOk5+FFhlszBirkXVKlxCJ4EgDDFwq
 B5D6UvXo5kFx+A/wXMGQTnj15t/mjQIzXdccIpmAnvMBaqGhFKLyRYCQAAclvdta0lUL
 XpQAzhAzbblN36IPjhqKR5qfFp3QH0J3xAwH8Jh3156Jqn8Y8mqqVxYnlUd3rA3bNnxI
 Jwq+wtlx5miWAZJ2h+rVKOZxbOEJ4ISrraCzGKsDjakKk0S1Xs/iPrkDNLyV8pLUd3Ch
 lITA==
X-Gm-Message-State: AOJu0YxUrfuJdMonZD6wbTwSXhpgHy3cWxeFY9V1JWzKD9JECZQ8/152
 4UMMrj2px4S/5l/j0JNVZVIp1x893r9BacGqQlEtbniKlEZP/6OqpZNmaA==
X-Google-Smtp-Source: AGHT+IGB2WZxGPKA04OfuCc8RBMADMTYJKtgXp7jxpudX9k866KDtlmkzC214Od+cec2YbSGCBDIf5MrzoEb
X-Received: by 2002:a05:6808:130f:b0:3a7:7a9:dd16 with SMTP id
 y15-20020a056808130f00b003a707a9dd16mr7214907oiv.26.1694436013624; 
 Mon, 11 Sep 2023 05:40:13 -0700 (PDT)
Received: from postal.iol.unh.edu (postal.iol.unh.edu. [132.177.123.84])
 by smtp-relay.gmail.com with ESMTPS id
 cj41-20020a056820222900b005711b09f46bsm106746oob.5.2023.09.11.05.40.13
 (version=TLS1_2 cipher=ECDHE-ECDSA-AES128-GCM-SHA256 bits=128/128);
 Mon, 11 Sep 2023 05:40:13 -0700 (PDT)
X-Relaying-Domain: iol.unh.edu
Date: Mon, 11 Sep 2023 05:40:13 -0700 (PDT)
Message-ID: <64ff0aad.050a0220.e910b.53bfSMTPIN_ADDED_MISSING@mx.google.com>
Received: from [172.21.0.5] (unknown [172.18.0.240])
 by postal.iol.unh.edu (Postfix) with ESMTP id 40B096052471;
 Mon, 11 Sep 2023 08:40:13 -0400 (EDT)
Subject: |SUCCESS| pw131336 [PATCH] net/iavf: fix ESN session update
From: dpdklab@iol.unh.edu
To: Test Report <test-report@dpdk.org>
Cc: Radu Nicolau <radu.nicolau@intel.com>
Content-Type: text/plain
X-BeenThere: test-report@dpdk.org
X-Mailman-Version: 2.1.29
Precedence: list
List-Id: automatic DPDK test reports <test-report.dpdk.org>
List-Unsubscribe: <https://mails.dpdk.org/options/test-report>,
 <mailto:test-report-request@dpdk.org?subject=unsubscribe>
List-Archive: <http://mails.dpdk.org/archives/test-report/>
List-Post: <mailto:test-report@dpdk.org>
List-Help: <mailto:test-report-request@dpdk.org?subject=help>
List-Subscribe: <https://mails.dpdk.org/listinfo/test-report>,
 <mailto:test-report-request@dpdk.org?subject=subscribe>
Errors-To: test-report-bounces@dpdk.org

Test-Label: iol-unit-amd64-testing
Test-Status: SUCCESS
http://dpdk.org/patch/131336

_Testing PASS_

Submitter: Radu Nicolau <radu.nicolau@intel.com>
Date: Monday, September 11 2023 09:20:40 
DPDK git baseline: Repo:dpdk
  Branch: master
  CommitID:e92ba1426914db1d224dd5e9a1743657681b8814

131336 --> testing pass

Test environment and result as below:

+---------------------+----------------+
|     Environment     | dpdk_unit_test |
+=====================+================+
| Windows Server 2019 | PASS           |
+---------------------+----------------+
| CentOS Stream 8     | PASS           |
+---------------------+----------------+
| Debian Buster       | PASS           |
+---------------------+----------------+
| CentOS Stream 9     | PASS           |
+---------------------+----------------+
| Debian Bullseye     | PASS           |
+---------------------+----------------+


Windows Server 2019
	Kernel: 10.0
	Compiler: clang 14.0 and gcc 8.1.0 (MinGW)

CentOS Stream 8
	Kernel: 4.18.0-240.10.1.el8_3.x86_64
	Compiler: gcc 8.4.1 20200928

Debian Buster
	Kernel: 5.4.0-122-generic
	Compiler: gcc 8.3.0-6

CentOS Stream 9
	Kernel: 4.18.0-240.10.1.el8_3.x86_64
	Compiler: gcc 11.3.1 20220421

Debian Bullseye
	Kernel: 5.4.0-122-generic
	Compiler: gcc 10.2.1-6

To view detailed results, visit:
https://lab.dpdk.org/results/dashboard/patchsets/27574/

UNH-IOL DPDK Community Lab

To manage your email subscriptions, visit: 
https://lab.dpdk.org/results/dashboard/preferences/subscriptions/