From mboxrd@z Thu Jan  1 00:00:00 1970
Return-Path: <test-report-bounces@dpdk.org>
Received: from mails.dpdk.org (mails.dpdk.org [217.70.189.124])
	by inbox.dpdk.org (Postfix) with ESMTP id 6943F4256F
	for <public@inbox.dpdk.org>; Mon, 11 Sep 2023 14:46:56 +0200 (CEST)
Received: from mails.dpdk.org (localhost [127.0.0.1])
	by mails.dpdk.org (Postfix) with ESMTP id 4FF0D402D6;
	Mon, 11 Sep 2023 14:46:56 +0200 (CEST)
Received: from mail-io1-f98.google.com (mail-io1-f98.google.com
 [209.85.166.98]) by mails.dpdk.org (Postfix) with ESMTP id 00F2B402D6
 for <test-report@dpdk.org>; Mon, 11 Sep 2023 14:46:54 +0200 (CEST)
Received: by mail-io1-f98.google.com with SMTP id
 ca18e2360f4ac-79329a8f78bso155461039f.3
 for <test-report@dpdk.org>; Mon, 11 Sep 2023 05:46:54 -0700 (PDT)
DKIM-Signature: v=1; a=rsa-sha256; c=relaxed/relaxed;
 d=iol.unh.edu; s=unh-iol; t=1694436414; x=1695041214; darn=dpdk.org;
 h=cc:to:from:subject:message-id:date:from:to:cc:subject:date
 :message-id:reply-to;
 bh=UiXXju8thD5xjZpT5MD7q6+R2VvjbWbyeek6gXcQJ7o=;
 b=LeHLOGkA7S46G6IqE94a3tu54MnhSc2o8f9Bpp3ByanoCrYjN1EzueWC2hIeuZpt9J
 fqIHIQwoeNa1QiNgsrlDd1e4pOmMsh4j6J+McCXae5H+pqexZrzxQ3uF7QX/88IWKV0D
 bAGEFK3JMWqQPe8ZPK2Q58W9nMGbRqFAlzF9s=
X-Google-DKIM-Signature: v=1; a=rsa-sha256; c=relaxed/relaxed;
 d=1e100.net; s=20230601; t=1694436414; x=1695041214;
 h=cc:to:from:subject:message-id:date:x-gm-message-state:from:to:cc
 :subject:date:message-id:reply-to;
 bh=UiXXju8thD5xjZpT5MD7q6+R2VvjbWbyeek6gXcQJ7o=;
 b=OHKXJUprHiCJ/HHokAY2FKDsDk0JBOFB5kbftpyvHvYy699kk73ZoyvvECrW9msFbX
 bPDzrULFhqhAASOAV0JUcMiQbzRZGUjk+7C6IyodL6U5c9w/HJSuxs+4/OdrpJyX4zZk
 59J84odtYwrORMEYJACesLs5RdG8j0MYtB1/E+HVx9cMyNLVcvn6zV9/gFNauFj2L8UQ
 v3iFT7p0dvC7EX8caY86euotmI7oPQLOSZFbv6+3WtpVg+kM6t5LP7Lw1nQ2eMaOKAbp
 t7CpRMxEc6Z8VHA18OHGVleTUWroQltJs2b+XRn0IL/VtG8nExSOLSUHiDEAKWxWebTd
 NZuw==
X-Gm-Message-State: AOJu0YwN6KwSEe8afH/Qw4wiNCZU777y6dcxvwbW2NU+gxTHJHOpY4JJ
 bFx4w4MISrVF6/xdCrKZKK2sJTQ/VZYv+6+rpplL05TmIsGp3JE716sk1v6p3Uvz2xgumoWqBw=
 =
X-Google-Smtp-Source: AGHT+IGB7U/zkKk/rqH5IbzsSgS0VF3eTVMpRrLF51R7yjLcQT1HUNcZtXIdgXbNWRmBXOIGb/bVVbDEv+wF
X-Received: by 2002:a5e:a810:0:b0:787:1472:3181 with SMTP id
 c16-20020a5ea810000000b0078714723181mr11012632ioa.3.1694436414112; 
 Mon, 11 Sep 2023 05:46:54 -0700 (PDT)
Received: from postal.iol.unh.edu (postal.iol.unh.edu.
 [2606:4100:3880:1234::84]) by smtp-relay.gmail.com with ESMTPS id
 f17-20020a6be811000000b00785d5f192d0sm236672ioh.18.2023.09.11.05.46.54
 (version=TLS1_2 cipher=ECDHE-ECDSA-AES128-GCM-SHA256 bits=128/128);
 Mon, 11 Sep 2023 05:46:54 -0700 (PDT)
X-Relaying-Domain: iol.unh.edu
Date: Mon, 11 Sep 2023 05:46:54 -0700 (PDT)
Message-ID: <64ff0c3e.6b0a0220.f21a0.f5e4SMTPIN_ADDED_MISSING@mx.google.com>
Received: from [172.21.0.2] (unknown [172.18.0.240])
 by postal.iol.unh.edu (Postfix) with ESMTP id 9645F6052471;
 Mon, 11 Sep 2023 08:46:53 -0400 (EDT)
Subject: |SUCCESS| pw131336 [PATCH] net/iavf: fix ESN session update
From: dpdklab@iol.unh.edu
To: Test Report <test-report@dpdk.org>
Cc: dpdk-test-reports@iol.unh.edu
Content-Type: text/plain
X-BeenThere: test-report@dpdk.org
X-Mailman-Version: 2.1.29
Precedence: list
List-Id: automatic DPDK test reports <test-report.dpdk.org>
List-Unsubscribe: <https://mails.dpdk.org/options/test-report>,
 <mailto:test-report-request@dpdk.org?subject=unsubscribe>
List-Archive: <http://mails.dpdk.org/archives/test-report/>
List-Post: <mailto:test-report@dpdk.org>
List-Help: <mailto:test-report-request@dpdk.org?subject=help>
List-Subscribe: <https://mails.dpdk.org/listinfo/test-report>,
 <mailto:test-report-request@dpdk.org?subject=subscribe>
Errors-To: test-report-bounces@dpdk.org

Test-Label: iol-unit-amd64-testing
Test-Status: SUCCESS
http://dpdk.org/patch/131336

_Testing PASS_

Submitter: Radu Nicolau <radu.nicolau@intel.com>
Date: Monday, September 11 2023 09:20:40 
DPDK git baseline: Repo:dpdk
  Branch: master
  CommitID:e92ba1426914db1d224dd5e9a1743657681b8814

131336 --> testing pass

Test environment and result as below:

+---------------------+----------------+
|     Environment     | dpdk_unit_test |
+=====================+================+
| Windows Server 2019 | PASS           |
+---------------------+----------------+
| CentOS Stream 8     | PASS           |
+---------------------+----------------+
| Debian Buster       | PASS           |
+---------------------+----------------+
| CentOS Stream 9     | PASS           |
+---------------------+----------------+
| Debian Bullseye     | PASS           |
+---------------------+----------------+
| openSUSE Leap 15    | PASS           |
+---------------------+----------------+
| Fedora 38           | PASS           |
+---------------------+----------------+


Windows Server 2019
	Kernel: 10.0
	Compiler: clang 14.0 and gcc 8.1.0 (MinGW)

CentOS Stream 8
	Kernel: 4.18.0-240.10.1.el8_3.x86_64
	Compiler: gcc 8.4.1 20200928

Debian Buster
	Kernel: 5.4.0-122-generic
	Compiler: gcc 8.3.0-6

CentOS Stream 9
	Kernel: 4.18.0-240.10.1.el8_3.x86_64
	Compiler: gcc 11.3.1 20220421

Debian Bullseye
	Kernel: 5.4.0-122-generic
	Compiler: gcc 10.2.1-6

openSUSE Leap 15
	Kernel: 4.18.0-240.10.1.el8_3.x86_64
	Compiler: gcc 7.5.0

Fedora 38
	Kernel: Depends on container host
	Compiler: clang 16.0.3

To view detailed results, visit:
https://lab.dpdk.org/results/dashboard/patchsets/27574/

UNH-IOL DPDK Community Lab

To manage your email subscriptions, visit: 
https://lab.dpdk.org/results/dashboard/preferences/subscriptions/