From: dpdklab@iol.unh.edu
To: Test Report <test-report@dpdk.org>
Cc: dpdk-test-reports@iol.unh.edu
Subject: |SUCCESS| pw131331 [PATCH] [v2] malloc: fix allocation for a specifi
Date: Mon, 11 Sep 2023 06:08:56 -0700 (PDT) [thread overview]
Message-ID: <64ff1168.170a0220.97951.7de9SMTPIN_ADDED_MISSING@mx.google.com> (raw)
Test-Label: iol-unit-amd64-testing
Test-Status: SUCCESS
http://dpdk.org/patch/131331
_Testing PASS_
Submitter: Artur Paszkiewicz <artur.paszkiewicz@intel.com>
Date: Monday, September 11 2023 08:09:53
DPDK git baseline: Repo:dpdk
Branch: master
CommitID:e92ba1426914db1d224dd5e9a1743657681b8814
131331 --> testing pass
Test environment and result as below:
+---------------------+----------------+
| Environment | dpdk_unit_test |
+=====================+================+
| Windows Server 2019 | PASS |
+---------------------+----------------+
| CentOS Stream 9 | PASS |
+---------------------+----------------+
| CentOS Stream 8 | PASS |
+---------------------+----------------+
Windows Server 2019
Kernel: 10.0
Compiler: clang 14.0 and gcc 8.1.0 (MinGW)
CentOS Stream 9
Kernel: 4.18.0-240.10.1.el8_3.x86_64
Compiler: gcc 11.3.1 20220421
CentOS Stream 8
Kernel: 4.18.0-240.10.1.el8_3.x86_64
Compiler: gcc 8.4.1 20200928
To view detailed results, visit:
https://lab.dpdk.org/results/dashboard/patchsets/27571/
UNH-IOL DPDK Community Lab
To manage your email subscriptions, visit:
https://lab.dpdk.org/results/dashboard/preferences/subscriptions/
next reply other threads:[~2023-09-11 13:08 UTC|newest]
Thread overview: 44+ messages / expand[flat|nested] mbox.gz Atom feed top
2023-09-11 13:08 dpdklab [this message]
-- strict thread matches above, loose matches on Subject: below --
2023-09-11 15:06 dpdklab
2023-09-11 13:42 dpdklab
2023-09-11 13:29 dpdklab
2023-09-11 13:26 dpdklab
2023-09-11 13:26 dpdklab
2023-09-11 13:23 dpdklab
2023-09-11 13:22 dpdklab
2023-09-11 13:20 dpdklab
2023-09-11 13:16 dpdklab
2023-09-11 13:12 dpdklab
2023-09-11 13:09 dpdklab
2023-09-11 13:09 dpdklab
2023-09-11 13:06 dpdklab
2023-09-11 13:05 dpdklab
2023-09-11 12:57 dpdklab
2023-09-11 12:54 dpdklab
2023-09-11 12:53 dpdklab
2023-09-11 12:49 dpdklab
2023-09-11 12:47 dpdklab
2023-09-11 12:40 dpdklab
2023-09-11 12:39 dpdklab
2023-09-11 12:38 dpdklab
2023-09-11 12:34 dpdklab
2023-09-11 12:34 dpdklab
2023-09-11 12:33 dpdklab
2023-09-11 12:32 dpdklab
2023-09-11 12:32 dpdklab
2023-09-11 12:30 dpdklab
2023-09-11 12:30 dpdklab
2023-09-11 12:29 dpdklab
2023-09-11 12:28 dpdklab
2023-09-11 12:28 dpdklab
2023-09-11 12:27 dpdklab
2023-09-11 12:27 dpdklab
2023-09-11 12:27 dpdklab
2023-09-11 12:26 dpdklab
2023-09-11 12:26 dpdklab
2023-09-11 12:26 dpdklab
2023-09-11 12:25 dpdklab
2023-09-11 12:24 dpdklab
2023-09-11 12:24 dpdklab
2023-09-11 12:24 dpdklab
2023-09-11 12:16 dpdklab
Reply instructions:
You may reply publicly to this message via plain-text email
using any one of the following methods:
* Save the following mbox file, import it into your mail client,
and reply-to-all from there: mbox
Avoid top-posting and favor interleaved quoting:
https://en.wikipedia.org/wiki/Posting_style#Interleaved_style
* Reply using the --to, --cc, and --in-reply-to
switches of git-send-email(1):
git send-email \
--in-reply-to=64ff1168.170a0220.97951.7de9SMTPIN_ADDED_MISSING@mx.google.com \
--to=dpdklab@iol.unh.edu \
--cc=dpdk-test-reports@iol.unh.edu \
--cc=test-report@dpdk.org \
/path/to/YOUR_REPLY
https://kernel.org/pub/software/scm/git/docs/git-send-email.html
* If your mail client supports setting the In-Reply-To header
via mailto: links, try the mailto: link
Be sure your reply has a Subject: header at the top and a blank line
before the message body.
This is a public inbox, see mirroring instructions
for how to clone and mirror all data and code used for this inbox;
as well as URLs for NNTP newsgroup(s).