From mboxrd@z Thu Jan  1 00:00:00 1970
Return-Path: <test-report-bounces@dpdk.org>
Received: from mails.dpdk.org (mails.dpdk.org [217.70.189.124])
	by inbox.dpdk.org (Postfix) with ESMTP id B22474256F
	for <public@inbox.dpdk.org>; Mon, 11 Sep 2023 15:55:45 +0200 (CEST)
Received: from mails.dpdk.org (localhost [127.0.0.1])
	by mails.dpdk.org (Postfix) with ESMTP id AD42B402D6;
	Mon, 11 Sep 2023 15:55:45 +0200 (CEST)
Received: from mail-oo1-f100.google.com (mail-oo1-f100.google.com
 [209.85.161.100])
 by mails.dpdk.org (Postfix) with ESMTP id 9ED5A402D6
 for <test-report@dpdk.org>; Mon, 11 Sep 2023 15:55:44 +0200 (CEST)
Received: by mail-oo1-f100.google.com with SMTP id
 006d021491bc7-575f45e255dso2771811eaf.2
 for <test-report@dpdk.org>; Mon, 11 Sep 2023 06:55:44 -0700 (PDT)
DKIM-Signature: v=1; a=rsa-sha256; c=relaxed/relaxed;
 d=iol.unh.edu; s=unh-iol; t=1694440544; x=1695045344; darn=dpdk.org;
 h=cc:to:from:subject:message-id:date:from:to:cc:subject:date
 :message-id:reply-to;
 bh=X26NEROCEt8utIPIW8rfB1ykl17nuArNY2vB740FxpQ=;
 b=i1bsovOJHfmbv5zyp/vmQAsOzcbtx9WmFxdfofGqUGIEIeXTkTmptlw6dYGGxRNj0w
 ukH7V7ws6JUvxzKuEEYuNVerhCYIV7q381b7EcDo0XQH5tu72nm8Otbt8r1vwRAJS25X
 zrhwITXTbWqq+ADU5A1ljBgkYgeAfZqiGpd9g=
X-Google-DKIM-Signature: v=1; a=rsa-sha256; c=relaxed/relaxed;
 d=1e100.net; s=20230601; t=1694440544; x=1695045344;
 h=cc:to:from:subject:message-id:date:x-gm-message-state:from:to:cc
 :subject:date:message-id:reply-to;
 bh=X26NEROCEt8utIPIW8rfB1ykl17nuArNY2vB740FxpQ=;
 b=r3MFdSiTZhyBhBin9Jh8BOh3VzT40O40IQCNpRo19UEQs/kqEUHkv2KbL3DntI7NN1
 A2j+TxollD+ZwNkylH7sLRkJ3JNcHyza7bMCCalQGHTjYEWrHIy69XiX3Qos3WBHfwb4
 yS0e8edC1v0dk2k9o4dnQOAEnR351bGB4QsI7bZ5hCPJHnRxmN9HBTDbDiZc27OZeFbf
 1o2WRaEgag0EawfCZ87mM/k1wjGP1cAdNNm1lQJ0TjvP0yYzWX1OGpX+I9XmBSjU40xm
 NmTmR9DqvoA1YpyoK0bx39jQlMwcCa0PHscJYEyu27anGDzybvkP29VWNLofWc9gqKQl
 hxLA==
X-Gm-Message-State: AOJu0YzLQN1AviPVlb/RqYDHXDOm6twNquN1jQKQk01SA9XA73n1xFIR
 jWc7FaPwlNfDgvGC25/6fRzNv3ZgRA1iEAujDQmjM/ZwXrn3KRLc+NDMslSyz/uzsbCgkPDoNA=
 =
X-Google-Smtp-Source: AGHT+IE36gKc07Uhn0qAfFKmDAQGtDgow8V6UfgXsC925+JB1ecjA7UhU++WYEhOlqOCdZI6RTmUbTHjOuox
X-Received: by 2002:a05:6358:52c6:b0:135:48d9:eb90 with SMTP id
 z6-20020a05635852c600b0013548d9eb90mr12210380rwz.13.1694440543799; 
 Mon, 11 Sep 2023 06:55:43 -0700 (PDT)
Received: from postal.iol.unh.edu (postal.iol.unh.edu.
 [2606:4100:3880:1234::84]) by smtp-relay.gmail.com with ESMTPS id
 y17-20020a0cd991000000b0064f4d8e573asm248254qvj.53.2023.09.11.06.55.43
 (version=TLS1_2 cipher=ECDHE-ECDSA-AES128-GCM-SHA256 bits=128/128);
 Mon, 11 Sep 2023 06:55:43 -0700 (PDT)
X-Relaying-Domain: iol.unh.edu
Date: Mon, 11 Sep 2023 06:55:43 -0700 (PDT)
Message-ID: <64ff1c5f.0c0a0220.9f423.fddfSMTPIN_ADDED_MISSING@mx.google.com>
Received: from [172.21.0.2] (unknown [172.18.0.240])
 by postal.iol.unh.edu (Postfix) with ESMTP id 881EF6052471;
 Mon, 11 Sep 2023 09:55:43 -0400 (EDT)
Subject: |SUCCESS| pw131338 [PATCH] net/sfc: account for data offset on Tx
From: dpdklab@iol.unh.edu
To: Test Report <test-report@dpdk.org>
Cc: dpdk-test-reports@iol.unh.edu
Content-Type: text/plain
X-BeenThere: test-report@dpdk.org
X-Mailman-Version: 2.1.29
Precedence: list
List-Id: automatic DPDK test reports <test-report.dpdk.org>
List-Unsubscribe: <https://mails.dpdk.org/options/test-report>,
 <mailto:test-report-request@dpdk.org?subject=unsubscribe>
List-Archive: <http://mails.dpdk.org/archives/test-report/>
List-Post: <mailto:test-report@dpdk.org>
List-Help: <mailto:test-report-request@dpdk.org?subject=help>
List-Subscribe: <https://mails.dpdk.org/listinfo/test-report>,
 <mailto:test-report-request@dpdk.org?subject=subscribe>
Errors-To: test-report-bounces@dpdk.org

Test-Label: iol-compile-amd64-testing
Test-Status: SUCCESS
http://dpdk.org/patch/131338

_Testing PASS_

Submitter: Viacheslav Galaktionov <Viacheslav.Galaktionov@arknetworks.am>
Date: Monday, September 11 2023 10:47:41 
DPDK git baseline: Repo:dpdk
  Branch: master
  CommitID:e92ba1426914db1d224dd5e9a1743657681b8814

131338 --> testing pass

Test environment and result as below:

+---------------------+--------------------+
|     Environment     | dpdk_meson_compile |
+=====================+====================+
| FreeBSD 13          | PASS               |
+---------------------+--------------------+
| Debian Buster       | PASS               |
+---------------------+--------------------+
| Debian Bullseye     | PASS               |
+---------------------+--------------------+
| CentOS Stream 9     | PASS               |
+---------------------+--------------------+
| Fedora 38           | PASS               |
+---------------------+--------------------+
| Fedora 37           | PASS               |
+---------------------+--------------------+
| CentOS Stream 8     | PASS               |
+---------------------+--------------------+
| Windows Server 2019 | PASS               |
+---------------------+--------------------+
| openSUSE Leap 15    | PASS               |
+---------------------+--------------------+
| Ubuntu 20.04        | PASS               |
+---------------------+--------------------+
| Ubuntu 22.04        | PASS               |
+---------------------+--------------------+


FreeBSD 13
	Kernel: 13.0
	Compiler: clang 11.0.1

Debian Buster
	Kernel: 5.4.0-122-generic
	Compiler: gcc 8.3.0-6

Debian Bullseye
	Kernel: 5.4.0-122-generic
	Compiler: gcc 10.2.1-6

CentOS Stream 9
	Kernel: 4.18.0-240.10.1.el8_3.x86_64
	Compiler: gcc 11.3.1 20220421

Fedora 38
	Kernel: Depends on container host
	Compiler: gcc 13.1.1

Fedora 37
	Kernel: Depends on container host system
	Compiler: gcc 12.3.1

CentOS Stream 8
	Kernel: 4.18.0-240.10.1.el8_3.x86_64
	Compiler: gcc 8.4.1 20200928

Windows Server 2019
	Kernel: 10.0
	Compiler: clang 14.0 and gcc 8.1.0 (MinGW)

openSUSE Leap 15
	Kernel: 4.18.0-240.10.1.el8_3.x86_64
	Compiler: gcc 7.5.0

Ubuntu 20.04
	Kernel: 5.4.0-153-generic
	Compiler: gcc 9.4.0-1ubuntu1~20.04.1

Ubuntu 22.04
	Kernel: 4.18.0-240.10.1.el8_3.x86_64
	Compiler: gcc 11.3.0

To view detailed results, visit:
https://lab.dpdk.org/results/dashboard/patchsets/27576/

UNH-IOL DPDK Community Lab

To manage your email subscriptions, visit: 
https://lab.dpdk.org/results/dashboard/preferences/subscriptions/