From mboxrd@z Thu Jan  1 00:00:00 1970
Return-Path: <test-report-bounces@dpdk.org>
Received: from mails.dpdk.org (mails.dpdk.org [217.70.189.124])
	by inbox.dpdk.org (Postfix) with ESMTP id 5C48742586
	for <public@inbox.dpdk.org>; Wed, 13 Sep 2023 11:18:50 +0200 (CEST)
Received: from mails.dpdk.org (localhost [127.0.0.1])
	by mails.dpdk.org (Postfix) with ESMTP id 580EE402B3;
	Wed, 13 Sep 2023 11:18:50 +0200 (CEST)
Received: from mail-pf1-f227.google.com (mail-pf1-f227.google.com
 [209.85.210.227])
 by mails.dpdk.org (Postfix) with ESMTP id DB357402AB
 for <test-report@dpdk.org>; Wed, 13 Sep 2023 11:18:48 +0200 (CEST)
Received: by mail-pf1-f227.google.com with SMTP id
 d2e1a72fcca58-68fb79ef55eso3162173b3a.0
 for <test-report@dpdk.org>; Wed, 13 Sep 2023 02:18:48 -0700 (PDT)
DKIM-Signature: v=1; a=rsa-sha256; c=relaxed/relaxed;
 d=iol.unh.edu; s=unh-iol; t=1694596728; x=1695201528; darn=dpdk.org;
 h=cc:to:from:subject:message-id:date:from:to:cc:subject:date
 :message-id:reply-to;
 bh=Nco/8BKi/BiBPVrd66Pu1j+raXuofm28Xw0MaOelAz8=;
 b=bKUbOcU4LPLPThAvHFSEAE48UoatC+qY4DBIKEWbU+0tjqQJtyozD/eb31elKIgKI0
 bbgZGwMUzXPExPf2BbtBe0Ci8GKJSosDNhdw087HHwV2CDBI7Q9jHCQulzxI90xA5jcq
 cfPou61MM/Bi4sozU5uI67LNkyuYYLA/qx+F8=
X-Google-DKIM-Signature: v=1; a=rsa-sha256; c=relaxed/relaxed;
 d=1e100.net; s=20230601; t=1694596728; x=1695201528;
 h=cc:to:from:subject:message-id:date:x-gm-message-state:from:to:cc
 :subject:date:message-id:reply-to;
 bh=Nco/8BKi/BiBPVrd66Pu1j+raXuofm28Xw0MaOelAz8=;
 b=YR3RuGdq1WEJoOhjCWuax3Zfahm+S4u6giPlNuXSmsMcNJw34nGIfD1emkFuDiENXk
 1UsdmbfA0jw9ieW1q8kzhUkuCYXdqB3D19u2AeWj2jnhpaAt/8PIJY2W3gX6xS1JYIft
 h8leRFZQzTSAqMGteTvOKXe6FcOjUbZBs8TOAtNshOC42VocbC9tSWWkmX/Id29shk37
 TQjTH6EQwZAI7qBO2bx2eMyhbuMdYCxDg62y9yQL8NkhuqhRL9vazka5DzUemMFF7qUn
 pUuDDOoY7nOEwhr05TYCNB/MfvkEEaK5aAuZ39+S3xArfdyL72XHfWG1GS6ZhU2xM7Fa
 yf3Q==
X-Gm-Message-State: AOJu0YxsBxLJWBuMC7Dmq3NGDA5jMT1nGlwSdvpuT4tdD1CwQPk7b8yV
 WIUrGam+oZ3oXtKLHNWbXeXqnLg1AOnTls0POgPy/Y9VlgY8EAZ+RydbIQ==
X-Google-Smtp-Source: AGHT+IFNaXhFs1F3oDOjHJX8IWv9Yo7LAHik2BufvmyMpW5lCHS2Qd/GvPUxWFKCKrGTAeVIJDTqs3AtMFbl
X-Received: by 2002:a05:6a20:7da5:b0:157:d7cd:ebd with SMTP id
 v37-20020a056a207da500b00157d7cd0ebdmr2279553pzj.1.1694596728066; 
 Wed, 13 Sep 2023 02:18:48 -0700 (PDT)
Received: from postal.iol.unh.edu (postal.iol.unh.edu. [132.177.123.84])
 by smtp-relay.gmail.com with ESMTPS id
 q11-20020a17090311cb00b001bde6fa0a32sm221888plh.68.2023.09.13.02.18.47
 (version=TLS1_2 cipher=ECDHE-ECDSA-AES128-GCM-SHA256 bits=128/128);
 Wed, 13 Sep 2023 02:18:48 -0700 (PDT)
X-Relaying-Domain: iol.unh.edu
Date: Wed, 13 Sep 2023 02:18:48 -0700 (PDT)
Message-ID: <65017e78.170a0220.84532.9269SMTPIN_ADDED_MISSING@mx.google.com>
Received: from [172.21.0.3] (unknown [172.18.0.240])
 by postal.iol.unh.edu (Postfix) with ESMTP id 29C886052471;
 Wed, 13 Sep 2023 05:18:47 -0400 (EDT)
Subject: |SUCCESS| pw131374 [PATCH] bus/pci: fix device ID print
From: dpdklab@iol.unh.edu
To: Test Report <test-report@dpdk.org>
Cc: dpdk-test-reports@iol.unh.edu
Content-Type: text/plain
X-BeenThere: test-report@dpdk.org
X-Mailman-Version: 2.1.29
Precedence: list
List-Id: automatic DPDK test reports <test-report.dpdk.org>
List-Unsubscribe: <https://mails.dpdk.org/options/test-report>,
 <mailto:test-report-request@dpdk.org?subject=unsubscribe>
List-Archive: <http://mails.dpdk.org/archives/test-report/>
List-Post: <mailto:test-report@dpdk.org>
List-Help: <mailto:test-report-request@dpdk.org?subject=help>
List-Subscribe: <https://mails.dpdk.org/listinfo/test-report>,
 <mailto:test-report-request@dpdk.org?subject=subscribe>
Errors-To: test-report-bounces@dpdk.org

Test-Label: iol-compile-amd64-testing
Test-Status: SUCCESS
http://dpdk.org/patch/131374

_Testing PASS_

Submitter: Qiming Yang <qiming.yang@intel.com>
Date: Wednesday, September 13 2023 08:23:33 
DPDK git baseline: Repo:dpdk
  Branch: master
  CommitID:e92ba1426914db1d224dd5e9a1743657681b8814

131374 --> testing pass

Test environment and result as below:

+---------------------+--------------------+----------------------+
|     Environment     | dpdk_meson_compile | dpdk_mingw64_compile |
+=====================+====================+======================+
| FreeBSD 13          | PASS               | SKIPPED              |
+---------------------+--------------------+----------------------+
| Debian Bullseye     | PASS               | SKIPPED              |
+---------------------+--------------------+----------------------+
| Debian Buster       | PASS               | SKIPPED              |
+---------------------+--------------------+----------------------+
| Fedora 37           | PASS               | SKIPPED              |
+---------------------+--------------------+----------------------+
| Windows Server 2019 | PASS               | PASS                 |
+---------------------+--------------------+----------------------+
| CentOS Stream 9     | PASS               | SKIPPED              |
+---------------------+--------------------+----------------------+
| Fedora 38           | PASS               | SKIPPED              |
+---------------------+--------------------+----------------------+
| CentOS Stream 8     | PASS               | SKIPPED              |
+---------------------+--------------------+----------------------+
| openSUSE Leap 15    | PASS               | SKIPPED              |
+---------------------+--------------------+----------------------+
| Ubuntu 20.04        | PASS               | SKIPPED              |
+---------------------+--------------------+----------------------+
| Ubuntu 22.04        | PASS               | SKIPPED              |
+---------------------+--------------------+----------------------+
| RHEL8               | PASS               | SKIPPED              |
+---------------------+--------------------+----------------------+
| Alpine              | PASS               | SKIPPED              |
+---------------------+--------------------+----------------------+


FreeBSD 13
	Kernel: 13.0
	Compiler: clang 11.0.1

Debian Bullseye
	Kernel: 5.4.0-122-generic
	Compiler: gcc 10.2.1-6

Debian Buster
	Kernel: 5.4.0-122-generic
	Compiler: gcc 8.3.0-6

Fedora 37
	Kernel: Depends on container host system
	Compiler: gcc 12.3.1

Windows Server 2019
	Kernel: 10.0
	Compiler: clang 14.0 and gcc 8.1.0 (MinGW)

CentOS Stream 9
	Kernel: 4.18.0-240.10.1.el8_3.x86_64
	Compiler: gcc 11.3.1 20220421

Fedora 38
	Kernel: Depends on container host
	Compiler: gcc 13.1.1

CentOS Stream 8
	Kernel: 4.18.0-240.10.1.el8_3.x86_64
	Compiler: gcc 8.4.1 20200928

openSUSE Leap 15
	Kernel: 4.18.0-240.10.1.el8_3.x86_64
	Compiler: gcc 7.5.0

Ubuntu 20.04
	Kernel: 5.4.0-153-generic
	Compiler: gcc 9.4.0-1ubuntu1~20.04.1

Ubuntu 22.04
	Kernel: 4.18.0-240.10.1.el8_3.x86_64
	Compiler: gcc 11.3.0

RHEL8
	Kernel: 4.18.0-240.10.1.el8_3.x86_64
	Compiler: gcc 8.3.1 20191121 (Red Hat 8.3.1-5)

Alpine
	Kernel: 5.4.0-73-generic
	Compiler: gcc (Alpine 10.3.1_git20210424) 10.3.1 20210424

To view detailed results, visit:
https://lab.dpdk.org/results/dashboard/patchsets/27588/

UNH-IOL DPDK Community Lab

To manage your email subscriptions, visit: 
https://lab.dpdk.org/results/dashboard/preferences/subscriptions/