From mboxrd@z Thu Jan  1 00:00:00 1970
Return-Path: <test-report-bounces@dpdk.org>
Received: from mails.dpdk.org (mails.dpdk.org [217.70.189.124])
	by inbox.dpdk.org (Postfix) with ESMTP id 9E4BC4258A
	for <public@inbox.dpdk.org>; Wed, 13 Sep 2023 16:12:40 +0200 (CEST)
Received: from mails.dpdk.org (localhost [127.0.0.1])
	by mails.dpdk.org (Postfix) with ESMTP id 99A2740284;
	Wed, 13 Sep 2023 16:12:40 +0200 (CEST)
Received: from mail-pf1-f226.google.com (mail-pf1-f226.google.com
 [209.85.210.226])
 by mails.dpdk.org (Postfix) with ESMTP id 2ACAA40284
 for <test-report@dpdk.org>; Wed, 13 Sep 2023 16:12:40 +0200 (CEST)
Received: by mail-pf1-f226.google.com with SMTP id
 d2e1a72fcca58-69002ef0104so595293b3a.1
 for <test-report@dpdk.org>; Wed, 13 Sep 2023 07:12:40 -0700 (PDT)
DKIM-Signature: v=1; a=rsa-sha256; c=relaxed/relaxed;
 d=iol.unh.edu; s=unh-iol; t=1694614359; x=1695219159; darn=dpdk.org;
 h=cc:to:from:subject:message-id:date:from:to:cc:subject:date
 :message-id:reply-to;
 bh=nvA6NjQNVJHoHT0A4wh/q5dCae/fmbqDG6xYH57lGrg=;
 b=jqSOqPOHasN3okDZXQRmlys4/5ii25gcDpUueNGDiM1s6Mu/diW3e6861dby/97i12
 coVgEpZqOWh6Qhx2UUGC4Wml99vrL1Mxm1dIJCZA6S2h+Y1xQ6lzNqJtb3TwsCGV7Vjz
 hSAxR/dDQajR4PQeyfWFHnoECQxTbs5tPmh+M=
X-Google-DKIM-Signature: v=1; a=rsa-sha256; c=relaxed/relaxed;
 d=1e100.net; s=20230601; t=1694614359; x=1695219159;
 h=cc:to:from:subject:message-id:date:x-gm-message-state:from:to:cc
 :subject:date:message-id:reply-to;
 bh=nvA6NjQNVJHoHT0A4wh/q5dCae/fmbqDG6xYH57lGrg=;
 b=N6iF7l9XEJw/foHiCZJiLOeOCpeVbgeb0DGvVdAlaew01rXJZCaaFtN/QNCeDPrCzU
 isycnHzyJKGIW+OEizJMvYBJl3e137L2BWTgW7k4o8Cv4XZIovOws0LISN4wP9Z/VmmM
 LSF18jTiNw9S9tcBagx5sTFWPBW5W4WVy/Zd2eB4SlLcHOjjrTRecikwAiedP3GEMT+5
 ejz3aJEV0Ngenenna7yg/3nsGyHDy/tLYIPZ/C+TE487xPZc1JmiNR8G5S/GRY0a0033
 FwJheIiwuH5dz3aqE9Qd+0k3kAOJUSlfcyWUqo1bjNcfFBb5xFkLjuE1jj0VXrMjnbSd
 DWxg==
X-Gm-Message-State: AOJu0YxHNI49qKrDhBjV1wlTuw2cWRSEqOivPUiItCP+D+heXwrxy84Z
 MNFEWOsC2VLrSToi5EzQr7lrJsxgNt1c0shaPi+s/0er6/dR59jusxRmOHlboNVLOEIYxQelXA=
 =
X-Google-Smtp-Source: AGHT+IFcRti2GbfP+uyyaDcb2o1qbfyEFzWTkfhY7keEghbK8SJn735T6wd0il2fiNRgLs7UhqvRrxKCaNtH
X-Received: by 2002:a05:6a20:138c:b0:148:c3ea:fb6c with SMTP id
 hn12-20020a056a20138c00b00148c3eafb6cmr2326544pzc.36.1694614359385; 
 Wed, 13 Sep 2023 07:12:39 -0700 (PDT)
Received: from postal.iol.unh.edu (postal.iol.unh.edu.
 [2606:4100:3880:1234::84]) by smtp-relay.gmail.com with ESMTPS id
 e3-20020a170902ed8300b001bdaba7f05fsm361532plj.48.2023.09.13.07.12.39
 (version=TLS1_2 cipher=ECDHE-ECDSA-AES128-GCM-SHA256 bits=128/128);
 Wed, 13 Sep 2023 07:12:39 -0700 (PDT)
X-Relaying-Domain: iol.unh.edu
Date: Wed, 13 Sep 2023 07:12:39 -0700 (PDT)
Message-ID: <6501c357.170a0220.3c270.161eSMTPIN_ADDED_MISSING@mx.google.com>
Received: from [172.21.0.3] (unknown [172.18.0.240])
 by postal.iol.unh.edu (Postfix) with ESMTP id D67596052471;
 Wed, 13 Sep 2023 10:12:38 -0400 (EDT)
Subject: |SUCCESS| pw131375 [PATCH] net/ice: fix initail link status issue
From: dpdklab@iol.unh.edu
To: Test Report <test-report@dpdk.org>
Cc: dpdk-test-reports@iol.unh.edu
Content-Type: text/plain
X-BeenThere: test-report@dpdk.org
X-Mailman-Version: 2.1.29
Precedence: list
List-Id: automatic DPDK test reports <test-report.dpdk.org>
List-Unsubscribe: <https://mails.dpdk.org/options/test-report>,
 <mailto:test-report-request@dpdk.org?subject=unsubscribe>
List-Archive: <http://mails.dpdk.org/archives/test-report/>
List-Post: <mailto:test-report@dpdk.org>
List-Help: <mailto:test-report-request@dpdk.org?subject=help>
List-Subscribe: <https://mails.dpdk.org/listinfo/test-report>,
 <mailto:test-report-request@dpdk.org?subject=subscribe>
Errors-To: test-report-bounces@dpdk.org

Test-Label: iol-compile-amd64-testing
Test-Status: SUCCESS
http://dpdk.org/patch/131375

_Testing PASS_

Submitter: Qiming Yang <qiming.yang@intel.com>
Date: Wednesday, September 13 2023 09:02:08 
DPDK git baseline: Repo:dpdk
  Branch: master
  CommitID:e92ba1426914db1d224dd5e9a1743657681b8814

131375 --> testing pass

Test environment and result as below:

+---------------------+--------------------+----------------------+
|     Environment     | dpdk_meson_compile | dpdk_mingw64_compile |
+=====================+====================+======================+
| Debian Bullseye     | PASS               | SKIPPED              |
+---------------------+--------------------+----------------------+
| CentOS Stream 9     | PASS               | SKIPPED              |
+---------------------+--------------------+----------------------+
| Debian Buster       | PASS               | SKIPPED              |
+---------------------+--------------------+----------------------+
| FreeBSD 13          | PASS               | SKIPPED              |
+---------------------+--------------------+----------------------+
| CentOS Stream 8     | PASS               | SKIPPED              |
+---------------------+--------------------+----------------------+
| Fedora 37           | PASS               | SKIPPED              |
+---------------------+--------------------+----------------------+
| Fedora 38           | PASS               | SKIPPED              |
+---------------------+--------------------+----------------------+
| Windows Server 2019 | PASS               | PASS                 |
+---------------------+--------------------+----------------------+
| openSUSE Leap 15    | PASS               | SKIPPED              |
+---------------------+--------------------+----------------------+
| RHEL8               | PASS               | SKIPPED              |
+---------------------+--------------------+----------------------+
| Alpine              | PASS               | SKIPPED              |
+---------------------+--------------------+----------------------+


Debian Bullseye
	Kernel: 5.4.0-122-generic
	Compiler: gcc 10.2.1-6

CentOS Stream 9
	Kernel: 4.18.0-240.10.1.el8_3.x86_64
	Compiler: gcc 11.3.1 20220421

Debian Buster
	Kernel: 5.4.0-122-generic
	Compiler: gcc 8.3.0-6

FreeBSD 13
	Kernel: 13.0
	Compiler: clang 11.0.1

CentOS Stream 8
	Kernel: 4.18.0-240.10.1.el8_3.x86_64
	Compiler: gcc 8.4.1 20200928

Fedora 37
	Kernel: Depends on container host system
	Compiler: gcc 12.3.1

Fedora 38
	Kernel: Depends on container host
	Compiler: gcc 13.1.1

Windows Server 2019
	Kernel: 10.0
	Compiler: clang 14.0 and gcc 8.1.0 (MinGW)

openSUSE Leap 15
	Kernel: 4.18.0-240.10.1.el8_3.x86_64
	Compiler: gcc 7.5.0

RHEL8
	Kernel: 4.18.0-240.10.1.el8_3.x86_64
	Compiler: gcc 8.3.1 20191121 (Red Hat 8.3.1-5)

Alpine
	Kernel: 5.4.0-73-generic
	Compiler: gcc (Alpine 10.3.1_git20210424) 10.3.1 20210424

To view detailed results, visit:
https://lab.dpdk.org/results/dashboard/patchsets/27589/

UNH-IOL DPDK Community Lab

To manage your email subscriptions, visit: 
https://lab.dpdk.org/results/dashboard/preferences/subscriptions/