From mboxrd@z Thu Jan  1 00:00:00 1970
Return-Path: <test-report-bounces@dpdk.org>
Received: from mails.dpdk.org (mails.dpdk.org [217.70.189.124])
	by inbox.dpdk.org (Postfix) with ESMTP id 107154258A
	for <public@inbox.dpdk.org>; Wed, 13 Sep 2023 16:14:08 +0200 (CEST)
Received: from mails.dpdk.org (localhost [127.0.0.1])
	by mails.dpdk.org (Postfix) with ESMTP id 0C14C40284;
	Wed, 13 Sep 2023 16:14:08 +0200 (CEST)
Received: from mail-yw1-f226.google.com (mail-yw1-f226.google.com
 [209.85.128.226])
 by mails.dpdk.org (Postfix) with ESMTP id 05C3A40284
 for <test-report@dpdk.org>; Wed, 13 Sep 2023 16:14:07 +0200 (CEST)
Received: by mail-yw1-f226.google.com with SMTP id
 00721157ae682-5925e580f12so68363147b3.3
 for <test-report@dpdk.org>; Wed, 13 Sep 2023 07:14:06 -0700 (PDT)
DKIM-Signature: v=1; a=rsa-sha256; c=relaxed/relaxed;
 d=iol.unh.edu; s=unh-iol; t=1694614446; x=1695219246; darn=dpdk.org;
 h=cc:to:from:subject:message-id:date:from:to:cc:subject:date
 :message-id:reply-to;
 bh=DLedocY9cVuOmkPzqjodXIbO0gMhhQDavCIXfXp7zVY=;
 b=C5wdrPqKZ1dUfjQF6Ko1oQWilk9xlAN2e/SKkbBebpHNV5AyXxvRZhvOr2pf3umGwF
 eLbjrqX3qu6xLl0HDS3ncud/bxZfUMJrD+5ShgRJplnSAA+lrE5rdAqAaESD5lKe6FnE
 dTnVbqWPnvMpfr9wc20tqE4Hdpah1SkyzgUy8=
X-Google-DKIM-Signature: v=1; a=rsa-sha256; c=relaxed/relaxed;
 d=1e100.net; s=20230601; t=1694614446; x=1695219246;
 h=cc:to:from:subject:message-id:date:x-gm-message-state:from:to:cc
 :subject:date:message-id:reply-to;
 bh=DLedocY9cVuOmkPzqjodXIbO0gMhhQDavCIXfXp7zVY=;
 b=RD6zxuiYgsWRMRNe/Veu5sAeKdhlPHWIduNDk/E6hXXNLXkbtHPs2w8YWTpRzDimW7
 GSu7J9eP6Ofl7ve50MCeqqfwOUeXXHqICqaqPlI4nRcXD0jPAMH/XeVPEkCiINvwF3Ze
 WYfJ+0EsVJhZT7hPXFKM45DkHV9tW6xFz5pozZoLkdUHNzAxp0NEPEw5ttkiHfoi60MA
 iqUkVS7hCUU76wuHMk4XBP37U/viJXUyvlhn1RXOAz9TLfwv6jjAiY7Uv+JRYouBxQkE
 62YJNJ2P/5uxoT9nW1bIWwDzDOjDw0QnWqMaw4uCE1yV9M/TwMMhw4D/98V6zLK0GNSF
 Gyjg==
X-Gm-Message-State: AOJu0YzLWWpItTdXwSLHv3zkss+Z7JE1D0fv6QOAjo4JoYyMseqdtm4f
 lhImHSYyZ8AUPQWJ6fCijCBwSWHyca/b3p7D60kbzwMAee1ZobUPdBCx6g==
X-Google-Smtp-Source: AGHT+IGtLk3O1b9JzRWzN4vtezTzznnlDmFDdIHh9eDAC3zmoHfpx4oh6SXXAGf/oS5Tf2mnp3+k7UIOzCe9
X-Received: by 2002:a81:9b4a:0:b0:59b:c99c:a1b9 with SMTP id
 s71-20020a819b4a000000b0059bc99ca1b9mr1651830ywg.19.1694614446451; 
 Wed, 13 Sep 2023 07:14:06 -0700 (PDT)
Received: from postal.iol.unh.edu (postal.iol.unh.edu. [132.177.123.84])
 by smtp-relay.gmail.com with ESMTPS id
 t62-20020a818341000000b005869cf168dcsm1069301ywf.6.2023.09.13.07.14.06
 (version=TLS1_2 cipher=ECDHE-ECDSA-AES128-GCM-SHA256 bits=128/128);
 Wed, 13 Sep 2023 07:14:06 -0700 (PDT)
X-Relaying-Domain: iol.unh.edu
Date: Wed, 13 Sep 2023 07:14:06 -0700 (PDT)
Message-ID: <6501c3ae.810a0220.7fb13.d581SMTPIN_ADDED_MISSING@mx.google.com>
Received: from [172.21.0.2] (unknown [172.18.0.240])
 by postal.iol.unh.edu (Postfix) with ESMTP id 1FC6B6052471;
 Wed, 13 Sep 2023 10:14:06 -0400 (EDT)
Subject: |SUCCESS| pw131375 [PATCH] net/ice: fix initail link status issue
From: dpdklab@iol.unh.edu
To: Test Report <test-report@dpdk.org>
Cc: dpdk-test-reports@iol.unh.edu
Content-Type: text/plain
X-BeenThere: test-report@dpdk.org
X-Mailman-Version: 2.1.29
Precedence: list
List-Id: automatic DPDK test reports <test-report.dpdk.org>
List-Unsubscribe: <https://mails.dpdk.org/options/test-report>,
 <mailto:test-report-request@dpdk.org?subject=unsubscribe>
List-Archive: <http://mails.dpdk.org/archives/test-report/>
List-Post: <mailto:test-report@dpdk.org>
List-Help: <mailto:test-report-request@dpdk.org?subject=help>
List-Subscribe: <https://mails.dpdk.org/listinfo/test-report>,
 <mailto:test-report-request@dpdk.org?subject=subscribe>
Errors-To: test-report-bounces@dpdk.org

Test-Label: iol-compile-arm64-testing
Test-Status: SUCCESS
http://dpdk.org/patch/131375

_Testing PASS_

Submitter: Qiming Yang <qiming.yang@intel.com>
Date: Wednesday, September 13 2023 09:02:08 
DPDK git baseline: Repo:dpdk
  Branch: master
  CommitID:e92ba1426914db1d224dd5e9a1743657681b8814

131375 --> testing pass

Test environment and result as below:

+------------------------------------+--------------------+
|            Environment             | dpdk_meson_compile |
+====================================+====================+
| Ubuntu 20.04 ARM SVE               | PASS               |
+------------------------------------+--------------------+
| Ubuntu 20.04 (ARM)                 | PASS               |
+------------------------------------+--------------------+
| CentOS Stream 9 (ARM)              | PASS               |
+------------------------------------+--------------------+
| Fedora 37 (ARM)                    | PASS               |
+------------------------------------+--------------------+
| Debian 11 (Buster) (ARM)           | PASS               |
+------------------------------------+--------------------+
| Fedora 38 (ARM)                    | PASS               |
+------------------------------------+--------------------+
| Ubuntu 20.04 ARM GCC Cross Compile | PASS               |
+------------------------------------+--------------------+


Ubuntu 20.04 ARM SVE
	Kernel: 5.4.0-80-generic
	Compiler: gcc 10.3.0 (Ubuntu 10.3.0-1ubuntu1~20.04)

Ubuntu 20.04 (ARM)
	Kernel: Container Host Kernel
	Compiler: gcc 9.4.0

CentOS Stream 9 (ARM)
	Kernel: Container Host Kernel
	Compiler: gcc 11.3.1

Fedora 37 (ARM)
	Kernel: Depends on container host
	Compiler: gcc 12.3.1

Debian 11 (Buster) (ARM)
	Kernel: Container Host Kernel
	Compiler: gcc 10.2.1

Fedora 38 (ARM)
	Kernel: Depends on container host
	Compiler: gcc 13.1.1

Ubuntu 20.04 ARM GCC Cross Compile
	Kernel: 5.4.0-72-generic
	Compiler: aarch64-linux-gnu-gcc (Ubuntu 9.3.0-17ubuntu1~20.04) 9.3.0

To view detailed results, visit:
https://lab.dpdk.org/results/dashboard/patchsets/27589/

UNH-IOL DPDK Community Lab

To manage your email subscriptions, visit: 
https://lab.dpdk.org/results/dashboard/preferences/subscriptions/