From mboxrd@z Thu Jan  1 00:00:00 1970
Return-Path: <test-report-bounces@dpdk.org>
Received: from mails.dpdk.org (mails.dpdk.org [217.70.189.124])
	by inbox.dpdk.org (Postfix) with ESMTP id 22EB54258A
	for <public@inbox.dpdk.org>; Wed, 13 Sep 2023 16:48:10 +0200 (CEST)
Received: from mails.dpdk.org (localhost [127.0.0.1])
	by mails.dpdk.org (Postfix) with ESMTP id 1F0764067B;
	Wed, 13 Sep 2023 16:48:10 +0200 (CEST)
Received: from mail-yw1-f227.google.com (mail-yw1-f227.google.com
 [209.85.128.227])
 by mails.dpdk.org (Postfix) with ESMTP id BD62B402F2
 for <test-report@dpdk.org>; Wed, 13 Sep 2023 16:48:08 +0200 (CEST)
Received: by mail-yw1-f227.google.com with SMTP id
 00721157ae682-5922380064bso70114307b3.2
 for <test-report@dpdk.org>; Wed, 13 Sep 2023 07:48:08 -0700 (PDT)
DKIM-Signature: v=1; a=rsa-sha256; c=relaxed/relaxed;
 d=iol.unh.edu; s=unh-iol; t=1694616488; x=1695221288; darn=dpdk.org;
 h=cc:to:from:subject:message-id:date:from:to:cc:subject:date
 :message-id:reply-to;
 bh=wd0fG43SI+syhHVS5Rc3oQyOmooit4KMt+WHfnAt9WI=;
 b=QQC32vR8mKft7uMadt+IWoN1FsSXmOijYok8u3d2ZzXB5+XpFIUe9MOkgXEPfECS0+
 4k6M2BeaC1jtLT9yGMMkTpHlzFFnHSAy5Udd/y/c3G1p7MFluelftI8qDngLJ33/cLVp
 tfNM1C8PmKsai6Pg3JDFgelBn/StSfogAmwVE=
X-Google-DKIM-Signature: v=1; a=rsa-sha256; c=relaxed/relaxed;
 d=1e100.net; s=20230601; t=1694616488; x=1695221288;
 h=cc:to:from:subject:message-id:date:x-gm-message-state:from:to:cc
 :subject:date:message-id:reply-to;
 bh=wd0fG43SI+syhHVS5Rc3oQyOmooit4KMt+WHfnAt9WI=;
 b=UR2f69Oxe5NrpjIrEzDAoN6w02/QZeBLrZXq9MbOxtnJRpwtZqI8anbCHbrz0uqDW1
 +b8UZe6Ea7nwFr6CouiuZA0/wCZDYvR4zEtzFajPVMZx6vVukorRRnG7uoTShk035XXs
 j6ETxrRgzveA45VuSneU8EtfprUdvav1GXjPS4CcmUFDxpVl8m5LoNbkesG8pBjgRXSR
 bZWRsbAxjcptleSLj4SxeZrYH1eBppsfDQQORiEF1TWVJbRf/xnh+kYjP2OOk2QBXpdq
 mXkk0CkmgOW6SA/tVHfv0neKraRBGMh5afri2r2KjGg9ELD7Cf6YGqdbJRyC6K+NL40s
 2ojA==
X-Gm-Message-State: AOJu0Yzb+Zsvxre3F9k6AVeWnP4o+syyCA6q5whzIxEiVsK0pqqFO5iN
 /Dcdsh/ZVAsXZBQ3ZUeOCFaaC7V1MK+hbUrJ9QOgYUP1gqGNmkKpOaHsfw==
X-Google-Smtp-Source: AGHT+IGEC8Nt+SgFR40dAvkVeSXSkj2y4n4nMfRlRjIW2KEWrL5+YbVL3rIT/gprP2apsRiCt5HFWqwnhP3K
X-Received: by 2002:a0d:d403:0:b0:59b:54b5:7d60 with SMTP id
 w3-20020a0dd403000000b0059b54b57d60mr2787100ywd.5.1694616488194; 
 Wed, 13 Sep 2023 07:48:08 -0700 (PDT)
Received: from postal.iol.unh.edu (postal.iol.unh.edu. [132.177.123.84])
 by smtp-relay.gmail.com with ESMTPS id
 q62-20020a0dce41000000b0059295743a0dsm1053101ywd.28.2023.09.13.07.48.08
 (version=TLS1_2 cipher=ECDHE-ECDSA-AES128-GCM-SHA256 bits=128/128);
 Wed, 13 Sep 2023 07:48:08 -0700 (PDT)
X-Relaying-Domain: iol.unh.edu
Date: Wed, 13 Sep 2023 07:48:08 -0700 (PDT)
Message-ID: <6501cba8.0d0a0220.359b5.cf9cSMTPIN_ADDED_MISSING@mx.google.com>
Received: from [172.21.0.6] (unknown [172.18.0.240])
 by postal.iol.unh.edu (Postfix) with ESMTP id B415D6052471;
 Wed, 13 Sep 2023 10:48:07 -0400 (EDT)
Subject: |SUCCESS| pw131375 [PATCH] net/ice: fix initail link status issue
From: dpdklab@iol.unh.edu
To: Test Report <test-report@dpdk.org>
Cc: dpdk-test-reports@iol.unh.edu
Content-Type: text/plain
X-BeenThere: test-report@dpdk.org
X-Mailman-Version: 2.1.29
Precedence: list
List-Id: automatic DPDK test reports <test-report.dpdk.org>
List-Unsubscribe: <https://mails.dpdk.org/options/test-report>,
 <mailto:test-report-request@dpdk.org?subject=unsubscribe>
List-Archive: <http://mails.dpdk.org/archives/test-report/>
List-Post: <mailto:test-report@dpdk.org>
List-Help: <mailto:test-report-request@dpdk.org?subject=help>
List-Subscribe: <https://mails.dpdk.org/listinfo/test-report>,
 <mailto:test-report-request@dpdk.org?subject=subscribe>
Errors-To: test-report-bounces@dpdk.org

Test-Label: iol-unit-amd64-testing
Test-Status: SUCCESS
http://dpdk.org/patch/131375

_Testing PASS_

Submitter: Qiming Yang <qiming.yang@intel.com>
Date: Wednesday, September 13 2023 09:02:08 
DPDK git baseline: Repo:dpdk
  Branch: master
  CommitID:e92ba1426914db1d224dd5e9a1743657681b8814

131375 --> testing pass

Test environment and result as below:

+---------------------+----------------+
|     Environment     | dpdk_unit_test |
+=====================+================+
| Windows Server 2019 | PASS           |
+---------------------+----------------+
| CentOS Stream 9     | PASS           |
+---------------------+----------------+
| Fedora 38           | PASS           |
+---------------------+----------------+
| CentOS Stream 8     | PASS           |
+---------------------+----------------+
| openSUSE Leap 15    | PASS           |
+---------------------+----------------+
| Fedora 37           | PASS           |
+---------------------+----------------+
| Debian Bullseye     | PASS           |
+---------------------+----------------+
| Debian Buster       | PASS           |
+---------------------+----------------+
| RHEL8               | PASS           |
+---------------------+----------------+


Windows Server 2019
	Kernel: 10.0
	Compiler: clang 14.0 and gcc 8.1.0 (MinGW)

CentOS Stream 9
	Kernel: 4.18.0-240.10.1.el8_3.x86_64
	Compiler: gcc 11.3.1 20220421

Fedora 38
	Kernel: Depends on container host
	Compiler: gcc 13.1.1

CentOS Stream 8
	Kernel: 4.18.0-240.10.1.el8_3.x86_64
	Compiler: gcc 8.4.1 20200928

openSUSE Leap 15
	Kernel: 4.18.0-240.10.1.el8_3.x86_64
	Compiler: gcc 7.5.0

Fedora 37
	Kernel: Depends on container host system
	Compiler: gcc 12.3.1

Debian Bullseye
	Kernel: 5.4.0-122-generic
	Compiler: gcc 10.2.1-6

Debian Buster
	Kernel: 5.4.0-122-generic
	Compiler: gcc 8.3.0-6

RHEL8
	Kernel: 4.18.0-240.10.1.el8_3.x86_64
	Compiler: gcc 8.3.1 20191121 (Red Hat 8.3.1-5)

To view detailed results, visit:
https://lab.dpdk.org/results/dashboard/patchsets/27589/

UNH-IOL DPDK Community Lab

To manage your email subscriptions, visit: 
https://lab.dpdk.org/results/dashboard/preferences/subscriptions/