From mboxrd@z Thu Jan  1 00:00:00 1970
Return-Path: <test-report-bounces@dpdk.org>
Received: from mails.dpdk.org (mails.dpdk.org [217.70.189.124])
	by inbox.dpdk.org (Postfix) with ESMTP id EDD414258F
	for <public@inbox.dpdk.org>; Thu, 14 Sep 2023 05:46:22 +0200 (CEST)
Received: from mails.dpdk.org (localhost [127.0.0.1])
	by mails.dpdk.org (Postfix) with ESMTP id E880E40289;
	Thu, 14 Sep 2023 05:46:22 +0200 (CEST)
Received: from mail-ua1-f98.google.com (mail-ua1-f98.google.com
 [209.85.222.98]) by mails.dpdk.org (Postfix) with ESMTP id 7406540289
 for <test-report@dpdk.org>; Thu, 14 Sep 2023 05:46:19 +0200 (CEST)
Received: by mail-ua1-f98.google.com with SMTP id
 a1e0cc1a2514c-79df12ff0f0so205556241.3
 for <test-report@dpdk.org>; Wed, 13 Sep 2023 20:46:19 -0700 (PDT)
DKIM-Signature: v=1; a=rsa-sha256; c=relaxed/relaxed;
 d=iol.unh.edu; s=unh-iol; t=1694663179; x=1695267979; darn=dpdk.org;
 h=cc:to:from:subject:message-id:date:from:to:cc:subject:date
 :message-id:reply-to;
 bh=06oJ1tDvxvJlTi7AzHU1JgCPputzMC81fdrFC9jY8fo=;
 b=fJkV/y4qwNiBmFK8hcd0Ldt7UNq+8RfKyLYGc/Sfzn/Iwq68TOn58Qn7krUEYpBESb
 AREInbACSJE8C1KAR3nU4EHpdcFifkOFjnhWvbEkHjdzrqWS5xSDURIp6C0vDDOnnVda
 f5pRjt2hcap+JoaExoEGB2xNGl8qcOwZSBbTw=
X-Google-DKIM-Signature: v=1; a=rsa-sha256; c=relaxed/relaxed;
 d=1e100.net; s=20230601; t=1694663179; x=1695267979;
 h=cc:to:from:subject:message-id:date:x-gm-message-state:from:to:cc
 :subject:date:message-id:reply-to;
 bh=06oJ1tDvxvJlTi7AzHU1JgCPputzMC81fdrFC9jY8fo=;
 b=Sm2zD1c9ytf5j53aZASQJzOKaKj7szkUDVOcJYB5idCBGYlBIo6JydET4EuIvH6rjW
 fiazBjCuJsKNf7vuU0F73WSiWqrXLTN19vJuKz9rIYK7pPmOdYE+CYdJ9/9X7/9uljSp
 xc6hv9vslubY7OUcUtedRwzDhD5JhJZTlZAdz9lCGGLT3Uidg9eGn/mbUAjyrbH+j28c
 BHK8YAT/FhA1l16IfRNY8BUiN4FCIqYDvaXweReDMvzHCtGIHfBpGhSt2pu1ZtYipJPa
 yKxUY2vBoOlx0P66lb7w9p8mVPbQkkk7cvtLU3LVb00WRnNYI2pQiW3IxRpiyYEJXh1K
 mswQ==
X-Gm-Message-State: AOJu0YzpP0RHl6Td3wJxhuWTT7OMC5Gm+IFvht7r6ftJDWZExkG9M9B6
 ENGEsGLY97G9JlaLsQEK1jUX3DvIvJlPjci1j1GpRGI1Cm4jQBoity4exA==
X-Google-Smtp-Source: AGHT+IGTC0Md81KY/oU+A/GOVayskhDGvSB9rST+IULX42DZ5zpPwYzI93rJtuWtwvMQoPVWvMZ5woQrE5OQ
X-Received: by 2002:a1f:e342:0:b0:495:f061:f2c7 with SMTP id
 a63-20020a1fe342000000b00495f061f2c7mr4743758vkh.3.1694663178863; 
 Wed, 13 Sep 2023 20:46:18 -0700 (PDT)
Received: from postal.iol.unh.edu (postal.iol.unh.edu. [132.177.123.84])
 by smtp-relay.gmail.com with ESMTPS id
 l23-20020ab053d7000000b0079dc19a192fsm66143uaa.16.2023.09.13.20.46.18
 (version=TLS1_2 cipher=ECDHE-ECDSA-AES128-GCM-SHA256 bits=128/128);
 Wed, 13 Sep 2023 20:46:18 -0700 (PDT)
X-Relaying-Domain: iol.unh.edu
Date: Wed, 13 Sep 2023 20:46:18 -0700 (PDT)
Message-ID: <6502820a.b00a0220.1dbf1.137aSMTPIN_ADDED_MISSING@mx.google.com>
Received: from [172.21.0.4] (unknown [172.18.0.240])
 by postal.iol.unh.edu (Postfix) with ESMTP id 701C16052471;
 Wed, 13 Sep 2023 23:46:18 -0400 (EDT)
Subject: |SUCCESS| pw131403 [PATCH] common/cnxk: remove dead meson code
From: dpdklab@iol.unh.edu
To: Test Report <test-report@dpdk.org>
Cc: dpdk-test-reports@iol.unh.edu
Content-Type: text/plain
X-BeenThere: test-report@dpdk.org
X-Mailman-Version: 2.1.29
Precedence: list
List-Id: automatic DPDK test reports <test-report.dpdk.org>
List-Unsubscribe: <https://mails.dpdk.org/options/test-report>,
 <mailto:test-report-request@dpdk.org?subject=unsubscribe>
List-Archive: <http://mails.dpdk.org/archives/test-report/>
List-Post: <mailto:test-report@dpdk.org>
List-Help: <mailto:test-report-request@dpdk.org?subject=help>
List-Subscribe: <https://mails.dpdk.org/listinfo/test-report>,
 <mailto:test-report-request@dpdk.org?subject=subscribe>
Errors-To: test-report-bounces@dpdk.org

Test-Label: iol-compile-arm64-testing
Test-Status: SUCCESS
http://dpdk.org/patch/131403

_Testing PASS_

Submitter: David Marchand <david.marchand@redhat.com>
Date: Wednesday, September 13 2023 14:02:42 
DPDK git baseline: Repo:dpdk
  Branch: master
  CommitID:e92ba1426914db1d224dd5e9a1743657681b8814

131403 --> testing pass

Test environment and result as below:

+----------------------------------------+--------------------+
|              Environment               | dpdk_meson_compile |
+========================================+====================+
| Ubuntu 20.04 ARM SVE                   | PASS               |
+----------------------------------------+--------------------+
| Ubuntu 20.04 ARM GCC Cross Compile     | PASS               |
+----------------------------------------+--------------------+
| Fedora 37 (ARM)                        | PASS               |
+----------------------------------------+--------------------+
| Fedora 38 (ARM)                        | PASS               |
+----------------------------------------+--------------------+
| Ubuntu 20.04 (ARM)                     | PASS               |
+----------------------------------------+--------------------+
| Ubuntu 20.04 ARM Clang Cross Compile   | PASS               |
+----------------------------------------+--------------------+
| Debian 11 (Buster) (ARM)               | PASS               |
+----------------------------------------+--------------------+
| Ubuntu 20.04 aarch32 GCC Cross Compile | PASS               |
+----------------------------------------+--------------------+
| CentOS Stream 9 (ARM)                  | PASS               |
+----------------------------------------+--------------------+


Ubuntu 20.04 ARM SVE
	Kernel: 5.4.0-80-generic
	Compiler: gcc 10.3.0 (Ubuntu 10.3.0-1ubuntu1~20.04)

Ubuntu 20.04 ARM GCC Cross Compile
	Kernel: 5.4.0-72-generic
	Compiler: aarch64-linux-gnu-gcc (Ubuntu 9.3.0-17ubuntu1~20.04) 9.3.0

Fedora 37 (ARM)
	Kernel: Depends on container host
	Compiler: gcc 12.3.1

Fedora 38 (ARM)
	Kernel: Depends on container host
	Compiler: gcc 13.1.1

Ubuntu 20.04 (ARM)
	Kernel: Container Host Kernel
	Compiler: gcc 9.4.0

Ubuntu 20.04 ARM Clang Cross Compile
	Kernel: 5.4.0-72-generic
	Compiler: clang version 10.0.0-4ubuntu1

Debian 11 (Buster) (ARM)
	Kernel: Container Host Kernel
	Compiler: gcc 10.2.1

Ubuntu 20.04 aarch32 GCC Cross Compile
	Kernel: 5.4.0-72-generic
	Compiler: gcc 9.3.0

CentOS Stream 9 (ARM)
	Kernel: Container Host Kernel
	Compiler: gcc 11.3.1

To view detailed results, visit:
https://lab.dpdk.org/results/dashboard/patchsets/27596/

UNH-IOL DPDK Community Lab

To manage your email subscriptions, visit: 
https://lab.dpdk.org/results/dashboard/preferences/subscriptions/