From mboxrd@z Thu Jan  1 00:00:00 1970
Return-Path: <test-report-bounces@dpdk.org>
Received: from mails.dpdk.org (mails.dpdk.org [217.70.189.124])
	by inbox.dpdk.org (Postfix) with ESMTP id AC6F24258F
	for <public@inbox.dpdk.org>; Thu, 14 Sep 2023 05:48:27 +0200 (CEST)
Received: from mails.dpdk.org (localhost [127.0.0.1])
	by mails.dpdk.org (Postfix) with ESMTP id A687640289;
	Thu, 14 Sep 2023 05:48:27 +0200 (CEST)
Received: from mail-oa1-f100.google.com (mail-oa1-f100.google.com
 [209.85.160.100])
 by mails.dpdk.org (Postfix) with ESMTP id D0B8640289
 for <test-report@dpdk.org>; Thu, 14 Sep 2023 05:48:26 +0200 (CEST)
Received: by mail-oa1-f100.google.com with SMTP id
 586e51a60fabf-1d62ab98fc9so301500fac.0
 for <test-report@dpdk.org>; Wed, 13 Sep 2023 20:48:26 -0700 (PDT)
DKIM-Signature: v=1; a=rsa-sha256; c=relaxed/relaxed;
 d=iol.unh.edu; s=unh-iol; t=1694663306; x=1695268106; darn=dpdk.org;
 h=cc:to:from:subject:message-id:date:from:to:cc:subject:date
 :message-id:reply-to;
 bh=0ncCkpbR4gdP8KDUZbkUlKkjCIAczvCwVUvS1pw4QFQ=;
 b=hhW5IqVKM1inELVU29evMsKr1oBmcRWftM+WAy1BmFYhgq8GVoQgpHDm581SUEHdDo
 2jZqmDf1rvDYJPLq1JdQJ/tAhu2OPWUUMz3JdvsXAp0PlAHqCtx8OO5g8DWhKOAndbQp
 1nDS72HUvLeGL+Sw8XMb2K6e2ePl/DW62uH/c=
X-Google-DKIM-Signature: v=1; a=rsa-sha256; c=relaxed/relaxed;
 d=1e100.net; s=20230601; t=1694663306; x=1695268106;
 h=cc:to:from:subject:message-id:date:x-gm-message-state:from:to:cc
 :subject:date:message-id:reply-to;
 bh=0ncCkpbR4gdP8KDUZbkUlKkjCIAczvCwVUvS1pw4QFQ=;
 b=xN1lleR3rTqnijc2FHvP7eP7CvNToBcK7VkhKETqZtmp5ZpBGUSgZn6rUM+pXXGHnJ
 0MpvCoOirKEnlriwhPN85SW0RoMRpukieKq1DPKyx8+ISKXzQYpXtLQKDRgtLZDSMqye
 imV4XTUHwh00vAiwFzJpmpQg6G+MZTjQg6LBacMdlngiqAHfM2R3MP5dgD0v8LKRxc4z
 TzN1hO7WQmlCHDYysnyk+0LalF2JvYqxzh5pFxyHHQJuNw/TWo74zrpZNTkgIpGMU+jC
 9kFHRymcpaeSt6MThnYfWCXA3uB+HCt8ByJ19GEapbT/RCNfL+kKwMKjZDEyCY6Z6ZAx
 giiw==
X-Gm-Message-State: AOJu0YwN1XwmHsRuwX5/kJ5ahNgwGUHoP28fQd4losGKqRFIStuWfQIP
 f9Ihx7EAVCrkoj/FDU0RgjKj5NXuh8RzTNsMgTrZOmbMDKkIO+ALat9VKQ==
X-Google-Smtp-Source: AGHT+IHFwAKNmaGUTeJiMKhzAgZZQSAELL4XBqErEMdY0K1M40rbs0PfjqZOeH5y6vq/oCERjlXGaBMF+6gm
X-Received: by 2002:a05:6870:4410:b0:1d5:b2ba:bc93 with SMTP id
 u16-20020a056870441000b001d5b2babc93mr4792129oah.13.1694663306201; 
 Wed, 13 Sep 2023 20:48:26 -0700 (PDT)
Received: from postal.iol.unh.edu (postal.iol.unh.edu. [132.177.123.84])
 by smtp-relay.gmail.com with ESMTPS id
 y4-20020a056870a34400b001d5e6fb305dsm141829oak.42.2023.09.13.20.48.26
 (version=TLS1_2 cipher=ECDHE-ECDSA-AES128-GCM-SHA256 bits=128/128);
 Wed, 13 Sep 2023 20:48:26 -0700 (PDT)
X-Relaying-Domain: iol.unh.edu
Date: Wed, 13 Sep 2023 20:48:26 -0700 (PDT)
Message-ID: <6502828a.050a0220.c0019.2c22SMTPIN_ADDED_MISSING@mx.google.com>
Received: from [172.21.0.3] (unknown [172.18.0.240])
 by postal.iol.unh.edu (Postfix) with ESMTP id AD98D6052471;
 Wed, 13 Sep 2023 23:48:25 -0400 (EDT)
Subject: |SUCCESS| pw131403 [PATCH] common/cnxk: remove dead meson code
From: dpdklab@iol.unh.edu
To: Test Report <test-report@dpdk.org>
Cc: dpdk-test-reports@iol.unh.edu
Content-Type: text/plain
X-BeenThere: test-report@dpdk.org
X-Mailman-Version: 2.1.29
Precedence: list
List-Id: automatic DPDK test reports <test-report.dpdk.org>
List-Unsubscribe: <https://mails.dpdk.org/options/test-report>,
 <mailto:test-report-request@dpdk.org?subject=unsubscribe>
List-Archive: <http://mails.dpdk.org/archives/test-report/>
List-Post: <mailto:test-report@dpdk.org>
List-Help: <mailto:test-report-request@dpdk.org?subject=help>
List-Subscribe: <https://mails.dpdk.org/listinfo/test-report>,
 <mailto:test-report-request@dpdk.org?subject=subscribe>
Errors-To: test-report-bounces@dpdk.org

Test-Label: iol-unit-amd64-testing
Test-Status: SUCCESS
http://dpdk.org/patch/131403

_Testing PASS_

Submitter: David Marchand <david.marchand@redhat.com>
Date: Wednesday, September 13 2023 14:02:42 
DPDK git baseline: Repo:dpdk
  Branch: master
  CommitID:e92ba1426914db1d224dd5e9a1743657681b8814

131403 --> testing pass

Test environment and result as below:

+-----------------+----------------+
|   Environment   | dpdk_unit_test |
+=================+================+
| CentOS Stream 8 | PASS           |
+-----------------+----------------+
| Debian Buster   | PASS           |
+-----------------+----------------+
| Fedora 37       | PASS           |
+-----------------+----------------+
| CentOS Stream 9 | PASS           |
+-----------------+----------------+


CentOS Stream 8
	Kernel: 4.18.0-240.10.1.el8_3.x86_64
	Compiler: gcc 8.4.1 20200928

Debian Buster
	Kernel: 5.4.0-122-generic
	Compiler: gcc 8.3.0-6

Fedora 37
	Kernel: Depends on container host system
	Compiler: gcc 12.3.1

CentOS Stream 9
	Kernel: 4.18.0-240.10.1.el8_3.x86_64
	Compiler: gcc 11.3.1 20220421

To view detailed results, visit:
https://lab.dpdk.org/results/dashboard/patchsets/27596/

UNH-IOL DPDK Community Lab

To manage your email subscriptions, visit: 
https://lab.dpdk.org/results/dashboard/preferences/subscriptions/