From mboxrd@z Thu Jan  1 00:00:00 1970
Return-Path: <test-report-bounces@dpdk.org>
Received: from mails.dpdk.org (mails.dpdk.org [217.70.189.124])
	by inbox.dpdk.org (Postfix) with ESMTP id B997F4258F
	for <public@inbox.dpdk.org>; Thu, 14 Sep 2023 05:48:39 +0200 (CEST)
Received: from mails.dpdk.org (localhost [127.0.0.1])
	by mails.dpdk.org (Postfix) with ESMTP id B476440289;
	Thu, 14 Sep 2023 05:48:39 +0200 (CEST)
Received: from mail-oo1-f98.google.com (mail-oo1-f98.google.com
 [209.85.161.98]) by mails.dpdk.org (Postfix) with ESMTP id C48A640289
 for <test-report@dpdk.org>; Thu, 14 Sep 2023 05:48:38 +0200 (CEST)
Received: by mail-oo1-f98.google.com with SMTP id
 006d021491bc7-573ac2fa37aso309511eaf.3
 for <test-report@dpdk.org>; Wed, 13 Sep 2023 20:48:38 -0700 (PDT)
DKIM-Signature: v=1; a=rsa-sha256; c=relaxed/relaxed;
 d=iol.unh.edu; s=unh-iol; t=1694663318; x=1695268118; darn=dpdk.org;
 h=cc:to:from:subject:message-id:date:from:to:cc:subject:date
 :message-id:reply-to;
 bh=06oJ1tDvxvJlTi7AzHU1JgCPputzMC81fdrFC9jY8fo=;
 b=HdMn4In+j4tO3iAIA1PuIYK1RfPrmMNdQ8iP4QmvmP2rLWQZAxMV7cc3fbZWkvv/TO
 c60ktKJowOKMJi/vuVpkwNBVv4jnm7rjE0G7F5BE2mDWqpVhyIJ5oX1XuKiEbE8u+sME
 yPG1l2wa+Cw13EnROg84wJdrKt9CK8JwIVlQc=
X-Google-DKIM-Signature: v=1; a=rsa-sha256; c=relaxed/relaxed;
 d=1e100.net; s=20230601; t=1694663318; x=1695268118;
 h=cc:to:from:subject:message-id:date:x-gm-message-state:from:to:cc
 :subject:date:message-id:reply-to;
 bh=06oJ1tDvxvJlTi7AzHU1JgCPputzMC81fdrFC9jY8fo=;
 b=nn88hA3/JJ8suAMGcWSzabrYg3cunNUzZjvEW7r+HeSuwKGBfbK5SJhG7DxIJP3kcT
 BVYVqevlTQi6yY87fSUhDPep5gaftNSQsD1LfueA8zgZP5ZD3Yt9AO871dleAsjQEMP6
 0ud9XlSJ7Pt6xDpVU2Hdrq4sKP+hOyx8sD+ni8h42T216MeFLuggIe9yAMw7urvI3B6m
 STbONBL5ITwrGQBMHby8/dXTAcJiYayCJ+sT/ou7oKZ1B1VHLquPlhPthVlhc64JW2MA
 bNBiid3erFkgeivyMzx+ntT/jsjKw/XOHCRxpKZibgZQYTlxDRvr2FsgMqlwBmoQ7iKG
 OpVw==
X-Gm-Message-State: AOJu0Yw2fB/zdTEBu6BjX5BxjUhj3cGRld/mqD2fR1SW0sQv8AQr4LD5
 lQZJYpc1k2SZTBoUBY6YHyZYBfHEkkTujcFWxa/+v4fqC1tXCOLqxvBfnQ7XHIbpB5UkggaKCQ=
 =
X-Google-Smtp-Source: AGHT+IFx/rfOCPncgNX5C5vKqKaHiTGdnoIJ4KLc9CiyTTC7bhBueArOhX+f37F2NeHsA3IbP723bPHkCyWz
X-Received: by 2002:a05:6870:8329:b0:1bb:8d8f:9c6e with SMTP id
 p41-20020a056870832900b001bb8d8f9c6emr4932073oae.10.1694663318138; 
 Wed, 13 Sep 2023 20:48:38 -0700 (PDT)
Received: from postal.iol.unh.edu (postal.iol.unh.edu.
 [2606:4100:3880:1234::84]) by smtp-relay.gmail.com with ESMTPS id
 o6-20020a639206000000b00573ffb93f3bsm61902pgd.26.2023.09.13.20.48.38
 (version=TLS1_2 cipher=ECDHE-ECDSA-AES128-GCM-SHA256 bits=128/128);
 Wed, 13 Sep 2023 20:48:38 -0700 (PDT)
X-Relaying-Domain: iol.unh.edu
Date: Wed, 13 Sep 2023 20:48:38 -0700 (PDT)
Message-ID: <65028296.630a0220.90684.12a5SMTPIN_ADDED_MISSING@mx.google.com>
Received: from [172.21.0.2] (unknown [172.18.0.240])
 by postal.iol.unh.edu (Postfix) with ESMTP id 61A926052471;
 Wed, 13 Sep 2023 23:48:37 -0400 (EDT)
Subject: |SUCCESS| pw131403 [PATCH] common/cnxk: remove dead meson code
From: dpdklab@iol.unh.edu
To: Test Report <test-report@dpdk.org>
Cc: dpdk-test-reports@iol.unh.edu
Content-Type: text/plain
X-BeenThere: test-report@dpdk.org
X-Mailman-Version: 2.1.29
Precedence: list
List-Id: automatic DPDK test reports <test-report.dpdk.org>
List-Unsubscribe: <https://mails.dpdk.org/options/test-report>,
 <mailto:test-report-request@dpdk.org?subject=unsubscribe>
List-Archive: <http://mails.dpdk.org/archives/test-report/>
List-Post: <mailto:test-report@dpdk.org>
List-Help: <mailto:test-report-request@dpdk.org?subject=help>
List-Subscribe: <https://mails.dpdk.org/listinfo/test-report>,
 <mailto:test-report-request@dpdk.org?subject=subscribe>
Errors-To: test-report-bounces@dpdk.org

Test-Label: iol-compile-arm64-testing
Test-Status: SUCCESS
http://dpdk.org/patch/131403

_Testing PASS_

Submitter: David Marchand <david.marchand@redhat.com>
Date: Wednesday, September 13 2023 14:02:42 
DPDK git baseline: Repo:dpdk
  Branch: master
  CommitID:e92ba1426914db1d224dd5e9a1743657681b8814

131403 --> testing pass

Test environment and result as below:

+----------------------------------------+--------------------+
|              Environment               | dpdk_meson_compile |
+========================================+====================+
| Ubuntu 20.04 ARM SVE                   | PASS               |
+----------------------------------------+--------------------+
| Ubuntu 20.04 ARM GCC Cross Compile     | PASS               |
+----------------------------------------+--------------------+
| Fedora 37 (ARM)                        | PASS               |
+----------------------------------------+--------------------+
| Fedora 38 (ARM)                        | PASS               |
+----------------------------------------+--------------------+
| Ubuntu 20.04 (ARM)                     | PASS               |
+----------------------------------------+--------------------+
| Ubuntu 20.04 ARM Clang Cross Compile   | PASS               |
+----------------------------------------+--------------------+
| Debian 11 (Buster) (ARM)               | PASS               |
+----------------------------------------+--------------------+
| Ubuntu 20.04 aarch32 GCC Cross Compile | PASS               |
+----------------------------------------+--------------------+
| CentOS Stream 9 (ARM)                  | PASS               |
+----------------------------------------+--------------------+


Ubuntu 20.04 ARM SVE
	Kernel: 5.4.0-80-generic
	Compiler: gcc 10.3.0 (Ubuntu 10.3.0-1ubuntu1~20.04)

Ubuntu 20.04 ARM GCC Cross Compile
	Kernel: 5.4.0-72-generic
	Compiler: aarch64-linux-gnu-gcc (Ubuntu 9.3.0-17ubuntu1~20.04) 9.3.0

Fedora 37 (ARM)
	Kernel: Depends on container host
	Compiler: gcc 12.3.1

Fedora 38 (ARM)
	Kernel: Depends on container host
	Compiler: gcc 13.1.1

Ubuntu 20.04 (ARM)
	Kernel: Container Host Kernel
	Compiler: gcc 9.4.0

Ubuntu 20.04 ARM Clang Cross Compile
	Kernel: 5.4.0-72-generic
	Compiler: clang version 10.0.0-4ubuntu1

Debian 11 (Buster) (ARM)
	Kernel: Container Host Kernel
	Compiler: gcc 10.2.1

Ubuntu 20.04 aarch32 GCC Cross Compile
	Kernel: 5.4.0-72-generic
	Compiler: gcc 9.3.0

CentOS Stream 9 (ARM)
	Kernel: Container Host Kernel
	Compiler: gcc 11.3.1

To view detailed results, visit:
https://lab.dpdk.org/results/dashboard/patchsets/27596/

UNH-IOL DPDK Community Lab

To manage your email subscriptions, visit: 
https://lab.dpdk.org/results/dashboard/preferences/subscriptions/