From mboxrd@z Thu Jan  1 00:00:00 1970
Return-Path: <test-report-bounces@dpdk.org>
Received: from mails.dpdk.org (mails.dpdk.org [217.70.189.124])
	by inbox.dpdk.org (Postfix) with ESMTP id 8842642596
	for <public@inbox.dpdk.org>; Thu, 14 Sep 2023 12:27:51 +0200 (CEST)
Received: from mails.dpdk.org (localhost [127.0.0.1])
	by mails.dpdk.org (Postfix) with ESMTP id 841A640289;
	Thu, 14 Sep 2023 12:27:51 +0200 (CEST)
Received: from mail-pj1-f97.google.com (mail-pj1-f97.google.com
 [209.85.216.97]) by mails.dpdk.org (Postfix) with ESMTP id 8E0EB40289
 for <test-report@dpdk.org>; Thu, 14 Sep 2023 12:27:50 +0200 (CEST)
Received: by mail-pj1-f97.google.com with SMTP id
 98e67ed59e1d1-26b41112708so656961a91.3
 for <test-report@dpdk.org>; Thu, 14 Sep 2023 03:27:50 -0700 (PDT)
DKIM-Signature: v=1; a=rsa-sha256; c=relaxed/relaxed;
 d=iol.unh.edu; s=unh-iol; t=1694687270; x=1695292070; darn=dpdk.org;
 h=cc:to:from:subject:message-id:date:from:to:cc:subject:date
 :message-id:reply-to;
 bh=ZiNIFYLg8qC6Q4NInJAZI73wH/vkFmdy2KmrYXNDSms=;
 b=VHdg9NhTgvsQ99fVN47LbX4xYhQzHEDgBgzCugBmfUOiH0eVzS29AcTEtpAJOAASsl
 l448o/KTY/hRzSfuNsvtIIuRApzCkfTxNhV6LVm3rhBf1/I/oAfElwY871T+Ra5klRNv
 avB0vDD8tbuJa8/qrkeZYPsTQhNxx1Q7kZ/UQ=
X-Google-DKIM-Signature: v=1; a=rsa-sha256; c=relaxed/relaxed;
 d=1e100.net; s=20230601; t=1694687270; x=1695292070;
 h=cc:to:from:subject:message-id:date:x-gm-message-state:from:to:cc
 :subject:date:message-id:reply-to;
 bh=ZiNIFYLg8qC6Q4NInJAZI73wH/vkFmdy2KmrYXNDSms=;
 b=cNkbpzrWMgFLlCrKAUXHfxGj9vwsTuoNOGzwtkPixzr17Xy78aH7xqW+OdzgMWjxlm
 Pv9EQPCwjeB4zzxv1iMlUXz/gcj3Beu/jqk5SS2cvVWWwCLSU3cytGyfLomCZcQgH0fm
 x2m2bitQhjtoPvZXmvi9gyUeChIna3r6jK1FsDCLs7KDvFIIgWhKWun7hGiKt9v5l774
 SIbm9G6YeC7uvJ+TNzjmK0+kk2pinBIA2myC6YAki+Uhf3anCp/R6hkkiCXYWK5E9jq/
 sVvDx0kuP+hJqcecKWtI60LROLicP64ex1Wprs8D/FqcRvbTo5OHygZYWaloX2Xta9w6
 IE+Q==
X-Gm-Message-State: AOJu0YxYJhz0RLdMIlDiogeQcGYyDlLCRPSMSWgv9u1PeD4PQYeeft0a
 sFgMV+8ILIYOFVfnjJGcShD/fvMbhu+W1MWcUBwvY6z5R4wHVIDHY8spkA==
X-Google-Smtp-Source: AGHT+IHeRiRrT7TkyN3ydRiXosZZslwfILPW7bHOHtJqSFEp4ABuOz0FOd//38uQrc4uHNUsmXuanY7vEsi8
X-Received: by 2002:a17:90a:c243:b0:262:d6cb:3567 with SMTP id
 d3-20020a17090ac24300b00262d6cb3567mr4835567pjx.26.1694687269764; 
 Thu, 14 Sep 2023 03:27:49 -0700 (PDT)
Received: from postal.iol.unh.edu (postal.iol.unh.edu. [132.177.123.84])
 by smtp-relay.gmail.com with ESMTPS id
 oc16-20020a17090b1c1000b0026b41b1d359sm561538pjb.3.2023.09.14.03.27.49
 (version=TLS1_2 cipher=ECDHE-ECDSA-AES128-GCM-SHA256 bits=128/128);
 Thu, 14 Sep 2023 03:27:49 -0700 (PDT)
X-Relaying-Domain: iol.unh.edu
Date: Thu, 14 Sep 2023 03:27:49 -0700 (PDT)
Message-ID: <6502e025.170a0220.eab9e.de62SMTPIN_ADDED_MISSING@mx.google.com>
Received: from [172.21.0.2] (unknown [172.18.0.240])
 by postal.iol.unh.edu (Postfix) with ESMTP id 95FE76052471;
 Thu, 14 Sep 2023 06:27:48 -0400 (EDT)
Subject: |SUCCESS| pw131410 [PATCH] event/sw: remove obsolete comment
From: dpdklab@iol.unh.edu
To: Test Report <test-report@dpdk.org>
Cc: dpdk-test-reports@iol.unh.edu
Content-Type: text/plain
X-BeenThere: test-report@dpdk.org
X-Mailman-Version: 2.1.29
Precedence: list
List-Id: automatic DPDK test reports <test-report.dpdk.org>
List-Unsubscribe: <https://mails.dpdk.org/options/test-report>,
 <mailto:test-report-request@dpdk.org?subject=unsubscribe>
List-Archive: <http://mails.dpdk.org/archives/test-report/>
List-Post: <mailto:test-report@dpdk.org>
List-Help: <mailto:test-report-request@dpdk.org?subject=help>
List-Subscribe: <https://mails.dpdk.org/listinfo/test-report>,
 <mailto:test-report-request@dpdk.org?subject=subscribe>
Errors-To: test-report-bounces@dpdk.org

Test-Label: iol-compile-amd64-testing
Test-Status: SUCCESS
http://dpdk.org/patch/131410

_Testing PASS_

Submitter: Bruce Richardson <bruce.richardson@intel.com>
Date: Thursday, September 14 2023 09:37:51 
DPDK git baseline: Repo:dpdk
  Branch: master
  CommitID:e92ba1426914db1d224dd5e9a1743657681b8814

131410 --> testing pass

Test environment and result as below:

+------------------+--------------------+
|   Environment    | dpdk_meson_compile |
+==================+====================+
| FreeBSD 13       | PASS               |
+------------------+--------------------+
| Debian Bullseye  | PASS               |
+------------------+--------------------+
| Debian Buster    | PASS               |
+------------------+--------------------+
| Fedora 38        | PASS               |
+------------------+--------------------+
| CentOS Stream 8  | PASS               |
+------------------+--------------------+
| CentOS Stream 9  | PASS               |
+------------------+--------------------+
| openSUSE Leap 15 | PASS               |
+------------------+--------------------+
| Ubuntu 20.04     | PASS               |
+------------------+--------------------+
| Fedora 37        | PASS               |
+------------------+--------------------+
| RHEL8            | PASS               |
+------------------+--------------------+


FreeBSD 13
	Kernel: 13.0
	Compiler: clang 11.0.1

Debian Bullseye
	Kernel: 5.4.0-122-generic
	Compiler: gcc 10.2.1-6

Debian Buster
	Kernel: 5.4.0-122-generic
	Compiler: gcc 8.3.0-6

Fedora 38
	Kernel: Depends on container host
	Compiler: gcc 13.1.1

CentOS Stream 8
	Kernel: 4.18.0-240.10.1.el8_3.x86_64
	Compiler: gcc 8.4.1 20200928

CentOS Stream 9
	Kernel: 4.18.0-240.10.1.el8_3.x86_64
	Compiler: gcc 11.3.1 20220421

openSUSE Leap 15
	Kernel: 4.18.0-240.10.1.el8_3.x86_64
	Compiler: gcc 7.5.0

Ubuntu 20.04
	Kernel: 5.4.0-153-generic
	Compiler: gcc 9.4.0-1ubuntu1~20.04.1

Fedora 37
	Kernel: Depends on container host system
	Compiler: gcc 12.3.1

RHEL8
	Kernel: 4.18.0-240.10.1.el8_3.x86_64
	Compiler: gcc 8.3.1 20191121 (Red Hat 8.3.1-5)

To view detailed results, visit:
https://lab.dpdk.org/results/dashboard/patchsets/27601/

UNH-IOL DPDK Community Lab

To manage your email subscriptions, visit: 
https://lab.dpdk.org/results/dashboard/preferences/subscriptions/