From mboxrd@z Thu Jan  1 00:00:00 1970
Return-Path: <test-report-bounces@dpdk.org>
Received: from mails.dpdk.org (mails.dpdk.org [217.70.189.124])
	by inbox.dpdk.org (Postfix) with ESMTP id 5F9C742596
	for <public@inbox.dpdk.org>; Thu, 14 Sep 2023 12:56:38 +0200 (CEST)
Received: from mails.dpdk.org (localhost [127.0.0.1])
	by mails.dpdk.org (Postfix) with ESMTP id 5A42B40289;
	Thu, 14 Sep 2023 12:56:38 +0200 (CEST)
Received: from mail-io1-f100.google.com (mail-io1-f100.google.com
 [209.85.166.100])
 by mails.dpdk.org (Postfix) with ESMTP id 9CFBB40289
 for <test-report@dpdk.org>; Thu, 14 Sep 2023 12:56:36 +0200 (CEST)
Received: by mail-io1-f100.google.com with SMTP id
 ca18e2360f4ac-792726d3aeeso27579939f.0
 for <test-report@dpdk.org>; Thu, 14 Sep 2023 03:56:36 -0700 (PDT)
DKIM-Signature: v=1; a=rsa-sha256; c=relaxed/relaxed;
 d=iol.unh.edu; s=unh-iol; t=1694688996; x=1695293796; darn=dpdk.org;
 h=cc:to:from:subject:message-id:date:from:to:cc:subject:date
 :message-id:reply-to;
 bh=Vq8oC0qLbhKog4jw8hOF6w9fiYNiYIl1+wdUM0wvZiE=;
 b=LzV4RLUKGAmwty5kud3AZk441dQ9Mtlg93B+g9sy7tyD0FaQjlo8ld/XlBPRSwN4On
 Bw94/XFueLHJU03qRLGCkZwKRVR1SXmNxU7AGV8/rlNR3Ku1tb9M7oZoQ1dom5PSagbi
 IpYrdOx5yIbkymLWiBfF1aylRh9QFlHF3W7Ag=
X-Google-DKIM-Signature: v=1; a=rsa-sha256; c=relaxed/relaxed;
 d=1e100.net; s=20230601; t=1694688996; x=1695293796;
 h=cc:to:from:subject:message-id:date:x-gm-message-state:from:to:cc
 :subject:date:message-id:reply-to;
 bh=Vq8oC0qLbhKog4jw8hOF6w9fiYNiYIl1+wdUM0wvZiE=;
 b=VRoaPCyynijMMM0fa55C8as51+2EDLDjCT9bbSPJMON4qRGIGowtj7dy9aZIqMHpEw
 a+tT4q74tNayNfSpcic2fLXoztRxX5DjWLzgXrqxFXGEQZqqObwZOzHTQ5f+SUSPCd/R
 XW6E7FA9Cmgs4bh6f64STz+3K8JZCOkH0WzVuxkpUuagvH6DP93ytw3JaPWQ0R9JHwBt
 cqEuh4KL5w4UFzBjStfOtefGG9NspoYtsSces4waCobONpGxlxBpWX5cdTLxBkd46F+E
 DItDrT5SHEbX9zgMqikU6pvQX64sCw/lnTAYzSblfLglKsD//oEYyD319DisGxRGaAfs
 XvmQ==
X-Gm-Message-State: AOJu0YwH4IqVmMUC52ZAYVxP10Eks17VxtUqr2DxWhU9xNtmyKJE0bmm
 HWni58ZPSMBoxL8iEsBxkpWWUYgOyCSQEHKBWbCBgUrPvciF0s/VQ05xaw==
X-Google-Smtp-Source: AGHT+IHGiXxckJYptcf1j++3nmOAiAYxlvMpxT7okcJDR3CO5gSamNMt295OsY6Tu3yRrGaySZ9T5FjqYmGt
X-Received: by 2002:a05:6602:3281:b0:786:7100:72de with SMTP id
 d1-20020a056602328100b00786710072demr6017774ioz.16.1694688996103; 
 Thu, 14 Sep 2023 03:56:36 -0700 (PDT)
Received: from postal.iol.unh.edu (postal.iol.unh.edu. [132.177.123.84])
 by smtp-relay.gmail.com with ESMTPS id
 x17-20020a6bda11000000b0079187d2f206sm139046iob.7.2023.09.14.03.56.36
 (version=TLS1_2 cipher=ECDHE-ECDSA-AES128-GCM-SHA256 bits=128/128);
 Thu, 14 Sep 2023 03:56:36 -0700 (PDT)
X-Relaying-Domain: iol.unh.edu
Date: Thu, 14 Sep 2023 03:56:36 -0700 (PDT)
Message-ID: <6502e6e4.6b0a0220.e2ab.3285SMTPIN_ADDED_MISSING@mx.google.com>
Received: from [172.21.0.2] (unknown [172.18.0.240])
 by postal.iol.unh.edu (Postfix) with ESMTP id 9A6BF6052471;
 Thu, 14 Sep 2023 06:56:35 -0400 (EDT)
Subject: |SUCCESS| pw131410 [PATCH] event/sw: remove obsolete comment
From: dpdklab@iol.unh.edu
To: Test Report <test-report@dpdk.org>
Cc: dpdk-test-reports@iol.unh.edu
Content-Type: text/plain
X-BeenThere: test-report@dpdk.org
X-Mailman-Version: 2.1.29
Precedence: list
List-Id: automatic DPDK test reports <test-report.dpdk.org>
List-Unsubscribe: <https://mails.dpdk.org/options/test-report>,
 <mailto:test-report-request@dpdk.org?subject=unsubscribe>
List-Archive: <http://mails.dpdk.org/archives/test-report/>
List-Post: <mailto:test-report@dpdk.org>
List-Help: <mailto:test-report-request@dpdk.org?subject=help>
List-Subscribe: <https://mails.dpdk.org/listinfo/test-report>,
 <mailto:test-report-request@dpdk.org?subject=subscribe>
Errors-To: test-report-bounces@dpdk.org

Test-Label: iol-unit-amd64-testing
Test-Status: SUCCESS
http://dpdk.org/patch/131410

_Testing PASS_

Submitter: Bruce Richardson <bruce.richardson@intel.com>
Date: Thursday, September 14 2023 09:37:51 
DPDK git baseline: Repo:dpdk
  Branch: master
  CommitID:e92ba1426914db1d224dd5e9a1743657681b8814

131410 --> testing pass

Test environment and result as below:

+---------------------+----------------+
|     Environment     | dpdk_unit_test |
+=====================+================+
| Windows Server 2019 | PASS           |
+---------------------+----------------+
| Debian Bullseye     | PASS           |
+---------------------+----------------+
| Fedora 37           | PASS           |
+---------------------+----------------+
| CentOS Stream 9     | PASS           |
+---------------------+----------------+
| Debian Buster       | PASS           |
+---------------------+----------------+
| Fedora 38           | PASS           |
+---------------------+----------------+


Windows Server 2019
	Kernel: 10.0
	Compiler: clang 14.0 and gcc 8.1.0 (MinGW)

Debian Bullseye
	Kernel: 5.4.0-122-generic
	Compiler: gcc 10.2.1-6

Fedora 37
	Kernel: Depends on container host system
	Compiler: gcc 12.3.1

CentOS Stream 9
	Kernel: 4.18.0-240.10.1.el8_3.x86_64
	Compiler: gcc 11.3.1 20220421

Debian Buster
	Kernel: 5.4.0-122-generic
	Compiler: gcc 8.3.0-6

Fedora 38
	Kernel: Depends on container host
	Compiler: gcc 13.1.1

To view detailed results, visit:
https://lab.dpdk.org/results/dashboard/patchsets/27601/

UNH-IOL DPDK Community Lab

To manage your email subscriptions, visit: 
https://lab.dpdk.org/results/dashboard/preferences/subscriptions/