From mboxrd@z Thu Jan  1 00:00:00 1970
Return-Path: <test-report-bounces@dpdk.org>
Received: from mails.dpdk.org (mails.dpdk.org [217.70.189.124])
	by inbox.dpdk.org (Postfix) with ESMTP id 9522742596
	for <public@inbox.dpdk.org>; Thu, 14 Sep 2023 12:57:37 +0200 (CEST)
Received: from mails.dpdk.org (localhost [127.0.0.1])
	by mails.dpdk.org (Postfix) with ESMTP id 90BE040289;
	Thu, 14 Sep 2023 12:57:37 +0200 (CEST)
Received: from mail-il1-f225.google.com (mail-il1-f225.google.com
 [209.85.166.225])
 by mails.dpdk.org (Postfix) with ESMTP id 6863E40289
 for <test-report@dpdk.org>; Thu, 14 Sep 2023 12:57:35 +0200 (CEST)
Received: by mail-il1-f225.google.com with SMTP id
 e9e14a558f8ab-34f6fd04fbeso2804595ab.1
 for <test-report@dpdk.org>; Thu, 14 Sep 2023 03:57:35 -0700 (PDT)
DKIM-Signature: v=1; a=rsa-sha256; c=relaxed/relaxed;
 d=iol.unh.edu; s=unh-iol; t=1694689054; x=1695293854; darn=dpdk.org;
 h=cc:to:from:subject:message-id:date:from:to:cc:subject:date
 :message-id:reply-to;
 bh=evqY7W4imzOWfYkEQPYdDWHdjmN9yCtwbu1K7hKUcL8=;
 b=Rb0CAR1AbSbLUXdTuj6dcOyXCbs4cnOMC6WSK6WfBv3FJnMxnd8esXN/Ar4Zu/CByH
 ABOsdLvTJhh0+Fn9V4prERjaR1kWpf83Xw0QWJfQaFiCEu5JcSEjM5Qex0EfqOQbWedx
 iTXuV9QDFfJ2mFrkgJw5tQhwuUqmYXdmDdSwc=
X-Google-DKIM-Signature: v=1; a=rsa-sha256; c=relaxed/relaxed;
 d=1e100.net; s=20230601; t=1694689054; x=1695293854;
 h=cc:to:from:subject:message-id:date:x-gm-message-state:from:to:cc
 :subject:date:message-id:reply-to;
 bh=evqY7W4imzOWfYkEQPYdDWHdjmN9yCtwbu1K7hKUcL8=;
 b=CZ2e+ZVg3Zyl0Polg/WL0U0WtzpMQ13w9R6TMDBBeQJuOMJWenLCbWR9wTGLV0Tk9G
 JT2Vxf5T1mxUGKIYdUhiUCz/1+X57qSSRE8QVtWD45anU9Ahz+AC3TMC1g8GSVVVlRtW
 VhawESUNQpAwwOagTQknIqpdDeInLUQ5PSy1H+oXYNwjQ89HxTN14hUM9zNoHw7my9OR
 bcsSh1Td3iP7gKFQAwaTldU2KYc6QbCMNeZQ0xOde31On/hwViXvnKLnreuGdeEa5C4p
 F4prmx8yqMYRm8iM2OP5vl2LSvZgcH4JmNX7ZE0MXnXqYizH08DJcYejCRWo1i/dD+gc
 /khA==
X-Gm-Message-State: AOJu0Yz9ol+gr3kj1JFM1iKTi3c3RJRI1e79tMoCCS6Bp4s5V1Fh39c+
 KJvrSxt75hnYxFoCtqfPoC1yzYPY2ekk0+tEzz8vLEFtrbU1GypY/icGjg==
X-Google-Smtp-Source: AGHT+IHL8EYk8OhSQ141zqyxH5hVUQnHM7vZlUgZ49jjcs/7k6xrUgkdyO3NP1REtVuK6SafGCjcnVTBba5U
X-Received: by 2002:a92:cd8b:0:b0:345:d4da:41d with SMTP id
 r11-20020a92cd8b000000b00345d4da041dmr6595702ilb.8.1694689054824; 
 Thu, 14 Sep 2023 03:57:34 -0700 (PDT)
Received: from postal.iol.unh.edu (postal.iol.unh.edu. [132.177.123.84])
 by smtp-relay.gmail.com with ESMTPS id
 x17-20020a92de11000000b0034f199b0752sm145061ilm.42.2023.09.14.03.57.34
 (version=TLS1_2 cipher=ECDHE-ECDSA-AES128-GCM-SHA256 bits=128/128);
 Thu, 14 Sep 2023 03:57:34 -0700 (PDT)
X-Relaying-Domain: iol.unh.edu
Date: Thu, 14 Sep 2023 03:57:34 -0700 (PDT)
Message-ID: <6502e71e.920a0220.e3634.3575SMTPIN_ADDED_MISSING@mx.google.com>
Received: from [172.21.0.2] (unknown [172.18.0.240])
 by postal.iol.unh.edu (Postfix) with ESMTP id 512E16052471;
 Thu, 14 Sep 2023 06:57:34 -0400 (EDT)
Subject: |SUCCESS| pw131409 [PATCH] maintainers: update for gro and gso
From: dpdklab@iol.unh.edu
To: Test Report <test-report@dpdk.org>
Cc: dpdk-test-reports@iol.unh.edu
Content-Type: text/plain
X-BeenThere: test-report@dpdk.org
X-Mailman-Version: 2.1.29
Precedence: list
List-Id: automatic DPDK test reports <test-report.dpdk.org>
List-Unsubscribe: <https://mails.dpdk.org/options/test-report>,
 <mailto:test-report-request@dpdk.org?subject=unsubscribe>
List-Archive: <http://mails.dpdk.org/archives/test-report/>
List-Post: <mailto:test-report@dpdk.org>
List-Help: <mailto:test-report-request@dpdk.org?subject=help>
List-Subscribe: <https://mails.dpdk.org/listinfo/test-report>,
 <mailto:test-report-request@dpdk.org?subject=subscribe>
Errors-To: test-report-bounces@dpdk.org

Test-Label: iol-compile-amd64-testing
Test-Status: SUCCESS
http://dpdk.org/patch/131409

_Testing PASS_

Submitter: None <hujiayu.hu@foxmail.com>
Date: Wednesday, September 13 2023 13:35:46 
DPDK git baseline: Repo:dpdk
  Branch: master
  CommitID:e92ba1426914db1d224dd5e9a1743657681b8814

131409 --> testing pass

Test environment and result as below:

+---------------------+--------------------+----------------------+
|     Environment     | dpdk_meson_compile | dpdk_mingw64_compile |
+=====================+====================+======================+
| CentOS Stream 9     | PASS               | SKIPPED              |
+---------------------+--------------------+----------------------+
| CentOS Stream 8     | PASS               | SKIPPED              |
+---------------------+--------------------+----------------------+
| Debian Buster       | PASS               | SKIPPED              |
+---------------------+--------------------+----------------------+
| Debian Bullseye     | PASS               | SKIPPED              |
+---------------------+--------------------+----------------------+
| Fedora 37           | PASS               | SKIPPED              |
+---------------------+--------------------+----------------------+
| FreeBSD 13          | PASS               | SKIPPED              |
+---------------------+--------------------+----------------------+
| Ubuntu 20.04        | PASS               | SKIPPED              |
+---------------------+--------------------+----------------------+
| RHEL8               | PASS               | SKIPPED              |
+---------------------+--------------------+----------------------+
| openSUSE Leap 15    | PASS               | SKIPPED              |
+---------------------+--------------------+----------------------+
| Fedora 38           | PASS               | SKIPPED              |
+---------------------+--------------------+----------------------+
| Ubuntu 22.04        | PASS               | SKIPPED              |
+---------------------+--------------------+----------------------+
| Alpine              | PASS               | SKIPPED              |
+---------------------+--------------------+----------------------+
| Windows Server 2019 | PASS               | PASS                 |
+---------------------+--------------------+----------------------+


CentOS Stream 9
	Kernel: 4.18.0-240.10.1.el8_3.x86_64
	Compiler: gcc 11.3.1 20220421

CentOS Stream 8
	Kernel: 4.18.0-240.10.1.el8_3.x86_64
	Compiler: gcc 8.4.1 20200928

Debian Buster
	Kernel: 5.4.0-122-generic
	Compiler: gcc 8.3.0-6

Debian Bullseye
	Kernel: 5.4.0-122-generic
	Compiler: gcc 10.2.1-6

Fedora 37
	Kernel: Depends on container host system
	Compiler: gcc 12.3.1

FreeBSD 13
	Kernel: 13.0
	Compiler: clang 11.0.1

Ubuntu 20.04
	Kernel: 5.4.0-153-generic
	Compiler: gcc 9.4.0-1ubuntu1~20.04.1

RHEL8
	Kernel: 4.18.0-240.10.1.el8_3.x86_64
	Compiler: gcc 8.3.1 20191121 (Red Hat 8.3.1-5)

openSUSE Leap 15
	Kernel: 4.18.0-240.10.1.el8_3.x86_64
	Compiler: gcc 7.5.0

Fedora 38
	Kernel: Depends on container host
	Compiler: gcc 13.1.1

Ubuntu 22.04
	Kernel: 4.18.0-240.10.1.el8_3.x86_64
	Compiler: gcc 11.3.0

Alpine
	Kernel: 5.4.0-73-generic
	Compiler: gcc (Alpine 10.3.1_git20210424) 10.3.1 20210424

Windows Server 2019
	Kernel: 10.0
	Compiler: clang 14.0 and gcc 8.1.0 (MinGW)

To view detailed results, visit:
https://lab.dpdk.org/results/dashboard/patchsets/27600/

UNH-IOL DPDK Community Lab

To manage your email subscriptions, visit: 
https://lab.dpdk.org/results/dashboard/preferences/subscriptions/