From mboxrd@z Thu Jan  1 00:00:00 1970
Return-Path: <test-report-bounces@dpdk.org>
Received: from mails.dpdk.org (mails.dpdk.org [217.70.189.124])
	by inbox.dpdk.org (Postfix) with ESMTP id 6DB5D42596
	for <public@inbox.dpdk.org>; Thu, 14 Sep 2023 13:16:05 +0200 (CEST)
Received: from mails.dpdk.org (localhost [127.0.0.1])
	by mails.dpdk.org (Postfix) with ESMTP id 6651D402AD;
	Thu, 14 Sep 2023 13:16:05 +0200 (CEST)
Received: from mail-qv1-f97.google.com (mail-qv1-f97.google.com
 [209.85.219.97]) by mails.dpdk.org (Postfix) with ESMTP id 1B167402AD
 for <test-report@dpdk.org>; Thu, 14 Sep 2023 13:16:04 +0200 (CEST)
Received: by mail-qv1-f97.google.com with SMTP id
 6a1803df08f44-6543d62e9a4so8823656d6.1
 for <test-report@dpdk.org>; Thu, 14 Sep 2023 04:16:04 -0700 (PDT)
DKIM-Signature: v=1; a=rsa-sha256; c=relaxed/relaxed;
 d=iol.unh.edu; s=unh-iol; t=1694690163; x=1695294963; darn=dpdk.org;
 h=cc:to:from:subject:message-id:date:from:to:cc:subject:date
 :message-id:reply-to;
 bh=7jHj/NS+0NT5sWOdaC8HM1xxmdF4wnX9+ZiF/5tFdHk=;
 b=BcklGQmPjKsANVbPPUmtFqWS5zZDlS7ArA2k70rcar/BLE1WlYYoXRRfyfjZKyjYCL
 H+ClQ61z8UvBjwzzl8FuirbqqvU63cREnG8VCsUu4C0q23ghyuxdEhd3dDs3WE9kTxjs
 O9KQQgUo8gF+Yk5s4VpyW+UY3zmduf5lPOFSI=
X-Google-DKIM-Signature: v=1; a=rsa-sha256; c=relaxed/relaxed;
 d=1e100.net; s=20230601; t=1694690163; x=1695294963;
 h=cc:to:from:subject:message-id:date:x-gm-message-state:from:to:cc
 :subject:date:message-id:reply-to;
 bh=7jHj/NS+0NT5sWOdaC8HM1xxmdF4wnX9+ZiF/5tFdHk=;
 b=PrzL5ubitmUVQ7M/JsihG/uYVDJLECOUrR03rz3x1f9HHBFfQwBXGZysG9ZW6RSnjH
 Zb+CQn6d9mLUad/eDMr7FfqqtzlxZX8K2Z0nBDUYpf9OCI2KHsxuok/cKqvh/rg3jcBb
 f0BMqAPi2p+ReQaWpkB56yWFDEZH8yBECujk0h57piofbZ9neted1LxIoJW5woLFiUMr
 ZqYNbgpve0Yy5UKaRQE81NiZnDPPzDQdCEN1U5pljY63PL7DoYdVeSB530GXSkbgblAn
 zwCxZr8uA8/WxLz5AxmnYs1EYcMPGD5thHkFeAwiw7oH88+cvzD5BfBuTkB5ELvKSkDW
 FfDA==
X-Gm-Message-State: AOJu0YxzV9YBLwdC3dMQ+oHdLkinddS4Xi9Fr4JGRnqoOum3zWlGThe1
 iJ7t0RhpahJnQbKyy1qNzKJmW2z9kNJ4IGTHQ6kkEMv2U8l/hn8i0FQ+hA==
X-Google-Smtp-Source: AGHT+IG8r95fNbcHEKnS8rZp3Cr+SPIdwK3FNIf4XayK2huh5mYidL3WS0Fi0UwpmVg3yxcIA4I8O4rekjn0
X-Received: by 2002:a05:6214:5290:b0:64b:6e2b:20f4 with SMTP id
 kj16-20020a056214529000b0064b6e2b20f4mr1607886qvb.10.1694690163540; 
 Thu, 14 Sep 2023 04:16:03 -0700 (PDT)
Received: from postal.iol.unh.edu (postal.iol.unh.edu. [132.177.123.84])
 by smtp-relay.gmail.com with ESMTPS id
 f8-20020a0cf3c8000000b0064716e7c5cfsm102605qvm.51.2023.09.14.04.16.03
 (version=TLS1_2 cipher=ECDHE-ECDSA-AES128-GCM-SHA256 bits=128/128);
 Thu, 14 Sep 2023 04:16:03 -0700 (PDT)
X-Relaying-Domain: iol.unh.edu
Date: Thu, 14 Sep 2023 04:16:03 -0700 (PDT)
Message-ID: <6502eb73.0c0a0220.89c50.248bSMTPIN_ADDED_MISSING@mx.google.com>
Received: from [172.21.0.2] (unknown [172.18.0.240])
 by postal.iol.unh.edu (Postfix) with ESMTP id 474336052471;
 Thu, 14 Sep 2023 07:16:03 -0400 (EDT)
Subject: |SUCCESS| pw131409 [PATCH] maintainers: update for gro and gso
From: dpdklab@iol.unh.edu
To: Test Report <test-report@dpdk.org>
Cc: None <hujiayu.hu@foxmail.com>
Content-Type: text/plain
X-BeenThere: test-report@dpdk.org
X-Mailman-Version: 2.1.29
Precedence: list
List-Id: automatic DPDK test reports <test-report.dpdk.org>
List-Unsubscribe: <https://mails.dpdk.org/options/test-report>,
 <mailto:test-report-request@dpdk.org?subject=unsubscribe>
List-Archive: <http://mails.dpdk.org/archives/test-report/>
List-Post: <mailto:test-report@dpdk.org>
List-Help: <mailto:test-report-request@dpdk.org?subject=help>
List-Subscribe: <https://mails.dpdk.org/listinfo/test-report>,
 <mailto:test-report-request@dpdk.org?subject=subscribe>
Errors-To: test-report-bounces@dpdk.org

Test-Label: iol-unit-amd64-testing
Test-Status: SUCCESS
http://dpdk.org/patch/131409

_Testing PASS_

Submitter: None <hujiayu.hu@foxmail.com>
Date: Wednesday, September 13 2023 13:35:46 
DPDK git baseline: Repo:dpdk
  Branch: master
  CommitID:e92ba1426914db1d224dd5e9a1743657681b8814

131409 --> testing pass

Test environment and result as below:

+---------------------+----------------+
|     Environment     | dpdk_unit_test |
+=====================+================+
| Windows Server 2019 | PASS           |
+---------------------+----------------+
| CentOS Stream 8     | PASS           |
+---------------------+----------------+
| Debian Buster       | PASS           |
+---------------------+----------------+
| Debian Bullseye     | PASS           |
+---------------------+----------------+


Windows Server 2019
	Kernel: 10.0
	Compiler: clang 14.0 and gcc 8.1.0 (MinGW)

CentOS Stream 8
	Kernel: 4.18.0-240.10.1.el8_3.x86_64
	Compiler: gcc 8.4.1 20200928

Debian Buster
	Kernel: 5.4.0-122-generic
	Compiler: gcc 8.3.0-6

Debian Bullseye
	Kernel: 5.4.0-122-generic
	Compiler: gcc 10.2.1-6

To view detailed results, visit:
https://lab.dpdk.org/results/dashboard/patchsets/27600/

UNH-IOL DPDK Community Lab

To manage your email subscriptions, visit: 
https://lab.dpdk.org/results/dashboard/preferences/subscriptions/