From mboxrd@z Thu Jan  1 00:00:00 1970
Return-Path: <test-report-bounces@dpdk.org>
Received: from mails.dpdk.org (mails.dpdk.org [217.70.189.124])
	by inbox.dpdk.org (Postfix) with ESMTP id 99E20425C4
	for <public@inbox.dpdk.org>; Sun, 17 Sep 2023 18:18:19 +0200 (CEST)
Received: from mails.dpdk.org (localhost [127.0.0.1])
	by mails.dpdk.org (Postfix) with ESMTP id 87D3A4025E;
	Sun, 17 Sep 2023 18:18:19 +0200 (CEST)
Received: from mail-qt1-f227.google.com (mail-qt1-f227.google.com
 [209.85.160.227])
 by mails.dpdk.org (Postfix) with ESMTP id 0243D4025E
 for <test-report@dpdk.org>; Sun, 17 Sep 2023 18:18:18 +0200 (CEST)
Received: by mail-qt1-f227.google.com with SMTP id
 d75a77b69052e-41368601e92so21984051cf.3
 for <test-report@dpdk.org>; Sun, 17 Sep 2023 09:18:17 -0700 (PDT)
DKIM-Signature: v=1; a=rsa-sha256; c=relaxed/relaxed;
 d=iol.unh.edu; s=unh-iol; t=1694967497; x=1695572297; darn=dpdk.org;
 h=cc:to:from:subject:message-id:date:from:to:cc:subject:date
 :message-id:reply-to;
 bh=mf3Ev6qzAO8zMkaiHLJgh+Tq/65xjdrnnmjRQNW5QFU=;
 b=MhXQVkZoO1e7fZdwQT4HsnWXjQobGGms6JnKja21d91wPE3QpWK7QaEgLfDoj2otyd
 yZ8vIZuNjAy6YuJixobnSn1HdbL1tDdPOk5zi48zHBNl9PjCGZHUPm5bwDo2Hp3E/8Pi
 7JigmNLJuKZOEb+Qa+oRi7WxustiwSdLEMVKk=
X-Google-DKIM-Signature: v=1; a=rsa-sha256; c=relaxed/relaxed;
 d=1e100.net; s=20230601; t=1694967497; x=1695572297;
 h=cc:to:from:subject:message-id:date:x-gm-message-state:from:to:cc
 :subject:date:message-id:reply-to;
 bh=mf3Ev6qzAO8zMkaiHLJgh+Tq/65xjdrnnmjRQNW5QFU=;
 b=vRhTNehK2eVWwbRm+annnYpAzIPiKGnhvJA8WvkFTYnRlx94W38nHnT70pC+3bm9hK
 5zwnWa/fNAJpkRjMmOcxI5BLaa/l1VvQ6afYBqBIw7mEx2rNEJshgND2X8QPXi15wgtu
 MmJIZYzmHvmwIAeiIlWjW5LxZf2vtaaEA3Dd3IBSP0d8UwhOBwDBGc0Hfer037OBjTKQ
 ZnAJBg/ZFijdRq7nIS6GqkodAsWRa2ylh1HbOGZ7ydkc4VuqFxMRWcHKLJ53Zx9MAEyE
 jcNgMGFPQ4++1ogj8+Xg7d2GqomPZwzsj3vvrM+qgON67bhJyVRjy2xNp+w0vfziGVqI
 AWfw==
X-Gm-Message-State: AOJu0Yw2An6imMBm9EKQfvAEZ7RyzUiPucVjEsJtUgu3pR427e5V6mB0
 ncC3HKutmXb3S3HIOYzy+/9XScfY7pCQEkyyPUYPGrPXgsluGnjYo19Zrn7HJ68stV4AlIb5Pw=
 =
X-Google-Smtp-Source: AGHT+IECPgOp4jNA/qdTXfokPHqirK8wWagZ9HTtQFor0LzXml1aQMl8uCkzG9HzYjmh3gfSwiW2OwKRs9LU
X-Received: by 2002:ac8:5a8c:0:b0:412:16ea:19ff with SMTP id
 c12-20020ac85a8c000000b0041216ea19ffmr6921316qtc.64.1694967497487; 
 Sun, 17 Sep 2023 09:18:17 -0700 (PDT)
Received: from postal.iol.unh.edu (postal.iol.unh.edu.
 [2606:4100:3880:1234::84]) by smtp-relay.gmail.com with ESMTPS id
 f6-20020ac84706000000b0040ff097d64fsm426535qtp.2.2023.09.17.09.18.17
 (version=TLS1_2 cipher=ECDHE-ECDSA-AES128-GCM-SHA256 bits=128/128);
 Sun, 17 Sep 2023 09:18:17 -0700 (PDT)
X-Relaying-Domain: iol.unh.edu
Date: Sun, 17 Sep 2023 09:18:17 -0700 (PDT)
Message-ID: <650726c9.c80a0220.3165f.ead7SMTPIN_ADDED_MISSING@mx.google.com>
Received: from [172.21.0.2] (unknown [172.18.0.240])
 by postal.iol.unh.edu (Postfix) with ESMTP id EC73D6052471;
 Sun, 17 Sep 2023 12:18:16 -0400 (EDT)
Subject: |SUCCESS| pw131514 [PATCH] crypto/qat: add sm2 ecdsa
From: dpdklab@iol.unh.edu
To: Test Report <test-report@dpdk.org>
Cc: dpdk-test-reports@iol.unh.edu
Content-Type: text/plain
X-BeenThere: test-report@dpdk.org
X-Mailman-Version: 2.1.29
Precedence: list
List-Id: automatic DPDK test reports <test-report.dpdk.org>
List-Unsubscribe: <https://mails.dpdk.org/options/test-report>,
 <mailto:test-report-request@dpdk.org?subject=unsubscribe>
List-Archive: <http://mails.dpdk.org/archives/test-report/>
List-Post: <mailto:test-report@dpdk.org>
List-Help: <mailto:test-report-request@dpdk.org?subject=help>
List-Subscribe: <https://mails.dpdk.org/listinfo/test-report>,
 <mailto:test-report-request@dpdk.org?subject=subscribe>
Errors-To: test-report-bounces@dpdk.org

Test-Label: iol-compile-amd64-testing
Test-Status: SUCCESS
http://dpdk.org/patch/131514

_Testing PASS_

Submitter: Kusztal, ArkadiuszX <arkadiuszx.kusztal@intel.com>
Date: Sunday, September 17 2023 15:44:49 
DPDK git baseline: Repo:dpdk
  Branch: master
  CommitID:d83fb967212efa19d272e7fa65d17c9ad94b17c1

131514 --> testing pass

Test environment and result as below:

+-----------------+--------------------+
|   Environment   | dpdk_meson_compile |
+=================+====================+
| FreeBSD 13      | PASS               |
+-----------------+--------------------+
| Debian Bullseye | PASS               |
+-----------------+--------------------+
| Debian Buster   | PASS               |
+-----------------+--------------------+
| CentOS Stream 8 | PASS               |
+-----------------+--------------------+
| CentOS Stream 9 | PASS               |
+-----------------+--------------------+
| Fedora 37       | PASS               |
+-----------------+--------------------+
| Fedora 38       | PASS               |
+-----------------+--------------------+
| Ubuntu 22.04    | PASS               |
+-----------------+--------------------+


FreeBSD 13
	Kernel: 13.0
	Compiler: clang 11.0.1

Debian Bullseye
	Kernel: 5.4.0-122-generic
	Compiler: gcc 10.2.1-6

Debian Buster
	Kernel: 5.4.0-122-generic
	Compiler: gcc 8.3.0-6

CentOS Stream 8
	Kernel: 4.18.0-240.10.1.el8_3.x86_64
	Compiler: gcc 8.4.1 20200928

CentOS Stream 9
	Kernel: 4.18.0-240.10.1.el8_3.x86_64
	Compiler: gcc 11.3.1 20220421

Fedora 37
	Kernel: Depends on container host system
	Compiler: gcc 12.3.1

Fedora 38
	Kernel: Depends on container host
	Compiler: gcc 13.1.1

Ubuntu 22.04
	Kernel: 4.18.0-240.10.1.el8_3.x86_64
	Compiler: gcc 11.3.0

To view detailed results, visit:
https://lab.dpdk.org/results/dashboard/patchsets/27625/

UNH-IOL DPDK Community Lab

To manage your email subscriptions, visit: 
https://lab.dpdk.org/results/dashboard/preferences/subscriptions/