From mboxrd@z Thu Jan  1 00:00:00 1970
Return-Path: <test-report-bounces@dpdk.org>
Received: from mails.dpdk.org (mails.dpdk.org [217.70.189.124])
	by inbox.dpdk.org (Postfix) with ESMTP id D9849425C4
	for <public@inbox.dpdk.org>; Sun, 17 Sep 2023 19:34:59 +0200 (CEST)
Received: from mails.dpdk.org (localhost [127.0.0.1])
	by mails.dpdk.org (Postfix) with ESMTP id C7FD54025E;
	Sun, 17 Sep 2023 19:34:59 +0200 (CEST)
Received: from mail-yw1-f226.google.com (mail-yw1-f226.google.com
 [209.85.128.226])
 by mails.dpdk.org (Postfix) with ESMTP id 057514025E
 for <test-report@dpdk.org>; Sun, 17 Sep 2023 19:34:57 +0200 (CEST)
Received: by mail-yw1-f226.google.com with SMTP id
 00721157ae682-59bdb3d03b1so37559957b3.3
 for <test-report@dpdk.org>; Sun, 17 Sep 2023 10:34:57 -0700 (PDT)
DKIM-Signature: v=1; a=rsa-sha256; c=relaxed/relaxed;
 d=iol.unh.edu; s=unh-iol; t=1694972097; x=1695576897; darn=dpdk.org;
 h=cc:to:from:subject:message-id:date:from:to:cc:subject:date
 :message-id:reply-to;
 bh=cJndstJ8LKHnA0lBCfbhrOdZiW7ZkT+gvVWJCmRWWXo=;
 b=D+t/zpW9jPf9Kv7giJHE+Py5EunN/WnkkrFlTip8WaMzQsPP7G/UY28u2KguR7iiST
 +kF3uP2f2FU4rt2/2DptSJvYCY/l3Uvni9e0tOgWI0wu8aAGn0WvSdsLO63SdkpL07ih
 DkWCgjz1zXadUlUjPEhxnhjg7p/LauQ7a/W2k=
X-Google-DKIM-Signature: v=1; a=rsa-sha256; c=relaxed/relaxed;
 d=1e100.net; s=20230601; t=1694972097; x=1695576897;
 h=cc:to:from:subject:message-id:date:x-gm-message-state:from:to:cc
 :subject:date:message-id:reply-to;
 bh=cJndstJ8LKHnA0lBCfbhrOdZiW7ZkT+gvVWJCmRWWXo=;
 b=FrqiNnL9Z0+DPkWnTqMtiXKIuyH60IP4G8Hmv70fpwASHYF2iB7lmTOstQ5ahP20Vs
 RGhjiEpi6yjMcCDupqSeIsWO1TnhYPSV3ux2C4qmMjeze7WuVLsYJ1bdgtgVMPry3FeT
 lwJ2fS1xzSi1FbLMSRiuvug1cgrJuJIZVhfNC0TCgQo1fCtlXQd0s3wPOx+Bau9nWQgD
 mArbrBt4mfafSS/owjjMMgZbfXJKwmpP+cxBMl8jqGOnJDjgNBvmak+dz/ouN38jlt7M
 5TEqKnYVcEpmP3ui3x234xDUyQQybMJ7ShLyRYMfrvPVWvY1VCbo85VGRUzA9JVXVZr9
 jjaQ==
X-Gm-Message-State: AOJu0YxAUdxXwQ7cNhPKJvWJipxClAfJvpfA8Qry+pmoEWJEXuQTeVIG
 WS9a6lv249MJoYwkzwYkJ6ltQkuNrZOxgzGAhjcyrE/y9JtwnQpWScpcz2TVJtEHSaMrkb1umg=
 =
X-Google-Smtp-Source: AGHT+IH2B7J8gOnencWTD4F9zFl5z/sa7zGeO7Ow4oWSH2ybfTIZ9abxUuWbFZaWuyUc3mqEqb/ach13Jo9A
X-Received: by 2002:a0d:d695:0:b0:59a:4898:8e13 with SMTP id
 y143-20020a0dd695000000b0059a48988e13mr7380673ywd.16.1694972097458; 
 Sun, 17 Sep 2023 10:34:57 -0700 (PDT)
Received: from postal.iol.unh.edu (postal.iol.unh.edu.
 [2606:4100:3880:1234::84]) by smtp-relay.gmail.com with ESMTPS id
 n204-20020a8172d5000000b005956b474eccsm929170ywc.65.2023.09.17.10.34.57
 (version=TLS1_2 cipher=ECDHE-ECDSA-AES128-GCM-SHA256 bits=128/128);
 Sun, 17 Sep 2023 10:34:57 -0700 (PDT)
X-Relaying-Domain: iol.unh.edu
Date: Sun, 17 Sep 2023 10:34:57 -0700 (PDT)
Message-ID: <650738c1.810a0220.c8eaa.65baSMTPIN_ADDED_MISSING@mx.google.com>
Received: from [172.21.0.2] (unknown [172.18.0.240])
 by postal.iol.unh.edu (Postfix) with ESMTP id 0FE806052471;
 Sun, 17 Sep 2023 13:34:57 -0400 (EDT)
Subject: |SUCCESS| pw131514 [PATCH] crypto/qat: add sm2 ecdsa
From: dpdklab@iol.unh.edu
To: Test Report <test-report@dpdk.org>
Cc: dpdk-test-reports@iol.unh.edu
Content-Type: text/plain
X-BeenThere: test-report@dpdk.org
X-Mailman-Version: 2.1.29
Precedence: list
List-Id: automatic DPDK test reports <test-report.dpdk.org>
List-Unsubscribe: <https://mails.dpdk.org/options/test-report>,
 <mailto:test-report-request@dpdk.org?subject=unsubscribe>
List-Archive: <http://mails.dpdk.org/archives/test-report/>
List-Post: <mailto:test-report@dpdk.org>
List-Help: <mailto:test-report-request@dpdk.org?subject=help>
List-Subscribe: <https://mails.dpdk.org/listinfo/test-report>,
 <mailto:test-report-request@dpdk.org?subject=subscribe>
Errors-To: test-report-bounces@dpdk.org

Test-Label: iol-compile-arm64-testing
Test-Status: SUCCESS
http://dpdk.org/patch/131514

_Testing PASS_

Submitter: Kusztal, ArkadiuszX <arkadiuszx.kusztal@intel.com>
Date: Sunday, September 17 2023 15:44:49 
DPDK git baseline: Repo:dpdk
  Branch: master
  CommitID:d83fb967212efa19d272e7fa65d17c9ad94b17c1

131514 --> testing pass

Test environment and result as below:

+----------------------------------------+--------------------+
|              Environment               | dpdk_meson_compile |
+========================================+====================+
| Ubuntu 20.04 ARM SVE                   | PASS               |
+----------------------------------------+--------------------+
| Debian 11 (Buster) (ARM)               | PASS               |
+----------------------------------------+--------------------+
| Fedora 37 (ARM)                        | PASS               |
+----------------------------------------+--------------------+
| Fedora 38 (ARM)                        | PASS               |
+----------------------------------------+--------------------+
| Ubuntu 20.04 (ARM)                     | PASS               |
+----------------------------------------+--------------------+
| CentOS Stream 9 (ARM)                  | PASS               |
+----------------------------------------+--------------------+
| Ubuntu 20.04 ARM GCC Cross Compile     | PASS               |
+----------------------------------------+--------------------+
| Ubuntu 20.04 aarch32 GCC Cross Compile | PASS               |
+----------------------------------------+--------------------+
| Ubuntu 20.04 ARM Clang Cross Compile   | PASS               |
+----------------------------------------+--------------------+
| Fedora 38 (ARM Clang)                  | PASS               |
+----------------------------------------+--------------------+


Ubuntu 20.04 ARM SVE
	Kernel: 5.4.0-80-generic
	Compiler: gcc 10.3.0 (Ubuntu 10.3.0-1ubuntu1~20.04)

Debian 11 (Buster) (ARM)
	Kernel: Container Host Kernel
	Compiler: gcc 10.2.1

Fedora 37 (ARM)
	Kernel: Depends on container host
	Compiler: gcc 12.3.1

Fedora 38 (ARM)
	Kernel: Depends on container host
	Compiler: gcc 13.1.1

Ubuntu 20.04 (ARM)
	Kernel: Container Host Kernel
	Compiler: gcc 9.4.0

CentOS Stream 9 (ARM)
	Kernel: Container Host Kernel
	Compiler: gcc 11.3.1

Ubuntu 20.04 ARM GCC Cross Compile
	Kernel: 5.4.0-72-generic
	Compiler: aarch64-linux-gnu-gcc (Ubuntu 9.3.0-17ubuntu1~20.04) 9.3.0

Ubuntu 20.04 aarch32 GCC Cross Compile
	Kernel: 5.4.0-72-generic
	Compiler: gcc 9.3.0

Ubuntu 20.04 ARM Clang Cross Compile
	Kernel: 5.4.0-72-generic
	Compiler: clang version 10.0.0-4ubuntu1

Fedora 38 (ARM Clang)
	Kernel: Depends on container host
	Compiler: clang 16.0.3

To view detailed results, visit:
https://lab.dpdk.org/results/dashboard/patchsets/27625/

UNH-IOL DPDK Community Lab

To manage your email subscriptions, visit: 
https://lab.dpdk.org/results/dashboard/preferences/subscriptions/