From mboxrd@z Thu Jan  1 00:00:00 1970
Return-Path: <test-report-bounces@dpdk.org>
Received: from mails.dpdk.org (mails.dpdk.org [217.70.189.124])
	by inbox.dpdk.org (Postfix) with ESMTP id A49E142603
	for <public@inbox.dpdk.org>; Tue, 19 Sep 2023 12:49:42 +0200 (CEST)
Received: from mails.dpdk.org (localhost [127.0.0.1])
	by mails.dpdk.org (Postfix) with ESMTP id A01A340276;
	Tue, 19 Sep 2023 12:49:42 +0200 (CEST)
Received: from mail-oa1-f100.google.com (mail-oa1-f100.google.com
 [209.85.160.100])
 by mails.dpdk.org (Postfix) with ESMTP id 1585040276
 for <test-report@dpdk.org>; Tue, 19 Sep 2023 12:49:39 +0200 (CEST)
Received: by mail-oa1-f100.google.com with SMTP id
 586e51a60fabf-1d544a4a315so3523624fac.3
 for <test-report@dpdk.org>; Tue, 19 Sep 2023 03:49:39 -0700 (PDT)
DKIM-Signature: v=1; a=rsa-sha256; c=relaxed/relaxed;
 d=iol.unh.edu; s=unh-iol; t=1695120578; x=1695725378; darn=dpdk.org;
 h=cc:to:from:subject:message-id:date:from:to:cc:subject:date
 :message-id:reply-to;
 bh=TDP9olazi2n22E2N9Z4zSkie0XWF8MESsqX6lrnBAQ4=;
 b=J3WinCUpvaCMXJ15YYhj9pB+4YRmU5DfB33f1TL7SluxuKhnco3Rlh3nNJ4kpZpLO0
 t5HRRpVHnp1c3LpTtwQyWKbA6IJS0fDiwJAaZbWlI8k96afY7iXLL8l3nNvDYPPWz/O3
 NEL6FT1eTl/sCt5f/WrEZPLw0spBnt5X48/Cw=
X-Google-DKIM-Signature: v=1; a=rsa-sha256; c=relaxed/relaxed;
 d=1e100.net; s=20230601; t=1695120578; x=1695725378;
 h=cc:to:from:subject:message-id:date:x-gm-message-state:from:to:cc
 :subject:date:message-id:reply-to;
 bh=TDP9olazi2n22E2N9Z4zSkie0XWF8MESsqX6lrnBAQ4=;
 b=p7CAgIVJ2m8cW0QyUCRHaRvKid7TJjDHXtSgvVRAxIG6BSk8mhPC/Ame4AoVswQtRD
 b5986+wZnb8zjupUcxFUGc5VS6VboFUADHCy+uXsttmUetZaSp2bv5KGvZoqyWsnjtRX
 umTHVVPLd8cnk+UatuVz3JfCQ0JFVR2JgkKSxKYqjl0Ptv1NTGI83aBdifoJtD9PDyzH
 /34z9xiuZkDn3ZEraBYNxjwQSGQyK5+2GkVM140i1WLDodAtNJ+ySQhG6t84AirpMtHg
 sPWw56dy9GHCQ6qMfxW2bQX0/mhKBpCkfnPlwkcXa0hWz9a4Desura5+agEFPoqG/VVV
 AOfg==
X-Gm-Message-State: AOJu0YySgdsKggHxrk3yvTsCHW9nEJrmLaeqCLq5JKSwE7Tg2pnp/eFk
 bPwlFU1te54C9EwXnCI8OPl60qjGAYesVTsylR2c3RkA3i4EyCDPdLnCUg==
X-Google-Smtp-Source: AGHT+IHSn8fqxicaIgWkQuJzrlwpvvF7Dn0aNc9qvE3Lmwp7eGv5Oc9ZzM96qadI+0ljhc5rX7GnAacKINMI
X-Received: by 2002:a05:6870:df47:b0:1d6:ef37:9416 with SMTP id
 ur7-20020a056870df4700b001d6ef379416mr5713501oab.22.1695120578477; 
 Tue, 19 Sep 2023 03:49:38 -0700 (PDT)
Received: from postal.iol.unh.edu (postal.iol.unh.edu. [132.177.123.84])
 by smtp-relay.gmail.com with ESMTPS id
 z20-20020a056871039400b001d135b91b94sm1141003oaf.47.2023.09.19.03.49.38
 (version=TLS1_2 cipher=ECDHE-ECDSA-AES128-GCM-SHA256 bits=128/128);
 Tue, 19 Sep 2023 03:49:38 -0700 (PDT)
X-Relaying-Domain: iol.unh.edu
Date: Tue, 19 Sep 2023 03:49:38 -0700 (PDT)
Message-ID: <65097cc2.050a0220.8044d.8f5dSMTPIN_ADDED_MISSING@mx.google.com>
Received: from [172.21.0.2] (unknown [172.18.0.240])
 by postal.iol.unh.edu (Postfix) with ESMTP id EE7596052514;
 Tue, 19 Sep 2023 06:49:37 -0400 (EDT)
Subject: |SUCCESS| pw131619 [PATCH] testpmd: add hairpin-map parameter
From: dpdklab@iol.unh.edu
To: Test Report <test-report@dpdk.org>
Cc: dpdk-test-reports@iol.unh.edu
Content-Type: text/plain
X-BeenThere: test-report@dpdk.org
X-Mailman-Version: 2.1.29
Precedence: list
List-Id: automatic DPDK test reports <test-report.dpdk.org>
List-Unsubscribe: <https://mails.dpdk.org/options/test-report>,
 <mailto:test-report-request@dpdk.org?subject=unsubscribe>
List-Archive: <http://mails.dpdk.org/archives/test-report/>
List-Post: <mailto:test-report@dpdk.org>
List-Help: <mailto:test-report-request@dpdk.org?subject=help>
List-Subscribe: <https://mails.dpdk.org/listinfo/test-report>,
 <mailto:test-report-request@dpdk.org?subject=subscribe>
Errors-To: test-report-bounces@dpdk.org

Test-Label: iol-compile-arm64-testing
Test-Status: SUCCESS
http://dpdk.org/patch/131619

_Testing PASS_

Submitter: Gregory Etelson <getelson@nvidia.com>
Date: Tuesday, September 19 2023 10:10:06 
DPDK git baseline: Repo:dpdk
  Branch: master
  CommitID:d83fb967212efa19d272e7fa65d17c9ad94b17c1

131619 --> testing pass

Test environment and result as below:

+----------------------------------------+--------------------+
|              Environment               | dpdk_meson_compile |
+========================================+====================+
| Ubuntu 20.04 ARM SVE                   | PASS               |
+----------------------------------------+--------------------+
| Ubuntu 20.04 aarch32 GCC Cross Compile | PASS               |
+----------------------------------------+--------------------+
| Debian 11 (Buster) (ARM)               | PASS               |
+----------------------------------------+--------------------+
| Fedora 37 (ARM)                        | PASS               |
+----------------------------------------+--------------------+
| Fedora 38 (ARM)                        | PASS               |
+----------------------------------------+--------------------+
| Ubuntu 20.04 ARM GCC Cross Compile     | PASS               |
+----------------------------------------+--------------------+
| Ubuntu 20.04 ARM Clang Cross Compile   | PASS               |
+----------------------------------------+--------------------+
| CentOS Stream 9 (ARM)                  | PASS               |
+----------------------------------------+--------------------+


Ubuntu 20.04 ARM SVE
	Kernel: 5.4.0-80-generic
	Compiler: gcc 10.3.0 (Ubuntu 10.3.0-1ubuntu1~20.04)

Ubuntu 20.04 aarch32 GCC Cross Compile
	Kernel: 5.4.0-72-generic
	Compiler: gcc 9.3.0

Debian 11 (Buster) (ARM)
	Kernel: Container Host Kernel
	Compiler: gcc 10.2.1

Fedora 37 (ARM)
	Kernel: Depends on container host
	Compiler: gcc 12.3.1

Fedora 38 (ARM)
	Kernel: Depends on container host
	Compiler: gcc 13.1.1

Ubuntu 20.04 ARM GCC Cross Compile
	Kernel: 5.4.0-72-generic
	Compiler: aarch64-linux-gnu-gcc (Ubuntu 9.3.0-17ubuntu1~20.04) 9.3.0

Ubuntu 20.04 ARM Clang Cross Compile
	Kernel: 5.4.0-72-generic
	Compiler: clang version 10.0.0-4ubuntu1

CentOS Stream 9 (ARM)
	Kernel: Container Host Kernel
	Compiler: gcc 11.3.1

To view detailed results, visit:
https://lab.dpdk.org/results/dashboard/patchsets/27645/

UNH-IOL DPDK Community Lab

To manage your email subscriptions, visit: 
https://lab.dpdk.org/results/dashboard/preferences/subscriptions/