From mboxrd@z Thu Jan  1 00:00:00 1970
Return-Path: <test-report-bounces@dpdk.org>
Received: from mails.dpdk.org (mails.dpdk.org [217.70.189.124])
	by inbox.dpdk.org (Postfix) with ESMTP id A97F6425F1
	for <public@inbox.dpdk.org>; Wed, 20 Sep 2023 16:09:18 +0200 (CEST)
Received: from mails.dpdk.org (localhost [127.0.0.1])
	by mails.dpdk.org (Postfix) with ESMTP id A38304029C;
	Wed, 20 Sep 2023 16:09:18 +0200 (CEST)
Received: from mail-oa1-f97.google.com (mail-oa1-f97.google.com
 [209.85.160.97]) by mails.dpdk.org (Postfix) with ESMTP id D987E4029C
 for <test-report@dpdk.org>; Wed, 20 Sep 2023 16:09:17 +0200 (CEST)
Received: by mail-oa1-f97.google.com with SMTP id
 586e51a60fabf-1d676732587so2990322fac.3
 for <test-report@dpdk.org>; Wed, 20 Sep 2023 07:09:17 -0700 (PDT)
DKIM-Signature: v=1; a=rsa-sha256; c=relaxed/relaxed;
 d=iol.unh.edu; s=unh-iol; t=1695218957; x=1695823757; darn=dpdk.org;
 h=cc:to:from:subject:message-id:date:from:to:cc:subject:date
 :message-id:reply-to;
 bh=1yPn8YH4lUuDCvXL375QuQpyAAVvQN2LNRUs5/oN0NY=;
 b=C/+ZBkkyY7MuybU8g0us67l/n97/F7WdBofP7latWHOyzArSZxqNJjF+A+yVyc2aTV
 gAZkMus0F7xCJhWNQYEb8VChCJeD4bMRMRHq3kUvm4T2v9s+/ZtXVth01LMUpyXNNwlH
 TCTFx6V9bKkkve1ZM6Z14DdOSsQCyW6TTGmok=
X-Google-DKIM-Signature: v=1; a=rsa-sha256; c=relaxed/relaxed;
 d=1e100.net; s=20230601; t=1695218957; x=1695823757;
 h=cc:to:from:subject:message-id:date:x-gm-message-state:from:to:cc
 :subject:date:message-id:reply-to;
 bh=1yPn8YH4lUuDCvXL375QuQpyAAVvQN2LNRUs5/oN0NY=;
 b=VwXRaP2nzCN05gLKae5M4WWHgBBPsu+B4KDvF6s+z9FmpQ2SqcanxeLVfYyQAR2KOU
 TqXrECCLj9I+lfpM9Co8LBdJNxGpWdBpTBHmRHcJFzuAt9IpVAyUefpZcrhBpQkikb+g
 GYB9nYW/nu6nyokBOdW9u1Uux8mujeFDq3g3aBc7Z8qIzc1bVWTlbBJIMUS28qi8sm3J
 oxaXImFltY/LJDuf7hKZdXYLiLhUFo8NhJQA6aZ/osBYmMKCPCmKvE1qqdbVzerplf4H
 MJLXbhJ27lcz17rKatwVxiuQoq5evN7qb6++Fyw+Vkgo1kwGaKunpmxFoDzfxQ2y6wW5
 pn9Q==
X-Gm-Message-State: AOJu0YwMB+kWPUfD7o85jcDIXjaTNPsvrvUU7IIY1VkPydcXNU98qkiE
 50TRA8gQI2nJr/3c81sMRUhv8JzuFtCPAO+8PlIXUzcqp0glcr4QhKS0PA==
X-Google-Smtp-Source: AGHT+IEmysc9+ZpGG1dcnqL+6/uKAWudExFNyciiDFzQEKHvG99RaUO75xJ3cDzNWZusuZi5iCYqHxV4tfTy
X-Received: by 2002:a05:6870:2155:b0:1d5:a58d:1317 with SMTP id
 g21-20020a056870215500b001d5a58d1317mr2493693oae.10.1695218956547; 
 Wed, 20 Sep 2023 07:09:16 -0700 (PDT)
Received: from postal.iol.unh.edu (postal.iol.unh.edu. [132.177.123.84])
 by smtp-relay.gmail.com with ESMTPS id
 dt2-20020a0568705a8200b001d700541252sm679988oab.46.2023.09.20.07.09.16
 (version=TLS1_2 cipher=ECDHE-ECDSA-AES128-GCM-SHA256 bits=128/128);
 Wed, 20 Sep 2023 07:09:16 -0700 (PDT)
X-Relaying-Domain: iol.unh.edu
Date: Wed, 20 Sep 2023 07:09:16 -0700 (PDT)
Message-ID: <650afd0c.050a0220.c9027.f66cSMTPIN_ADDED_MISSING@mx.google.com>
Received: from [172.21.0.2] (unknown [172.18.0.240])
 by postal.iol.unh.edu (Postfix) with ESMTP id 2984C6052514;
 Wed, 20 Sep 2023 10:09:16 -0400 (EDT)
Subject: |SUCCESS| pw131725 [PATCH] [v2] testpmd: add hairpin-map parameter
From: dpdklab@iol.unh.edu
To: Test Report <test-report@dpdk.org>
Cc: dpdk-test-reports@iol.unh.edu
Content-Type: text/plain
X-BeenThere: test-report@dpdk.org
X-Mailman-Version: 2.1.29
Precedence: list
List-Id: automatic DPDK test reports <test-report.dpdk.org>
List-Unsubscribe: <https://mails.dpdk.org/options/test-report>,
 <mailto:test-report-request@dpdk.org?subject=unsubscribe>
List-Archive: <http://mails.dpdk.org/archives/test-report/>
List-Post: <mailto:test-report@dpdk.org>
List-Help: <mailto:test-report-request@dpdk.org?subject=help>
List-Subscribe: <https://mails.dpdk.org/listinfo/test-report>,
 <mailto:test-report-request@dpdk.org?subject=subscribe>
Errors-To: test-report-bounces@dpdk.org

Test-Label: iol-compile-arm64-testing
Test-Status: SUCCESS
http://dpdk.org/patch/131725

_Testing PASS_

Submitter: Gregory Etelson <getelson@nvidia.com>
Date: Wednesday, September 20 2023 12:22:16 
DPDK git baseline: Repo:dpdk
  Branch: master
  CommitID:31e60e81f025e9fffa69b68bffe5cfaa22d5c098

131725 --> testing pass

Test environment and result as below:

+----------------------------------------+--------------------+
|              Environment               | dpdk_meson_compile |
+========================================+====================+
| Ubuntu 20.04 ARM SVE                   | PASS               |
+----------------------------------------+--------------------+
| Fedora 37 (ARM)                        | PASS               |
+----------------------------------------+--------------------+
| Fedora 38 (ARM)                        | PASS               |
+----------------------------------------+--------------------+
| CentOS Stream 9 (ARM)                  | PASS               |
+----------------------------------------+--------------------+
| Ubuntu 20.04 (ARM)                     | PASS               |
+----------------------------------------+--------------------+
| Ubuntu 20.04 ARM GCC Cross Compile     | PASS               |
+----------------------------------------+--------------------+
| Ubuntu 20.04 ARM Clang Cross Compile   | PASS               |
+----------------------------------------+--------------------+
| Ubuntu 20.04 aarch32 GCC Cross Compile | PASS               |
+----------------------------------------+--------------------+
| Debian 11 (Buster) (ARM)               | PASS               |
+----------------------------------------+--------------------+


Ubuntu 20.04 ARM SVE
	Kernel: 5.4.0-80-generic
	Compiler: gcc 10.3.0 (Ubuntu 10.3.0-1ubuntu1~20.04)

Fedora 37 (ARM)
	Kernel: Depends on container host
	Compiler: gcc 12.3.1

Fedora 38 (ARM)
	Kernel: Depends on container host
	Compiler: gcc 13.1.1

CentOS Stream 9 (ARM)
	Kernel: Container Host Kernel
	Compiler: gcc 11.3.1

Ubuntu 20.04 (ARM)
	Kernel: Container Host Kernel
	Compiler: gcc 9.4.0

Ubuntu 20.04 ARM GCC Cross Compile
	Kernel: 5.4.0-72-generic
	Compiler: aarch64-linux-gnu-gcc (Ubuntu 9.3.0-17ubuntu1~20.04) 9.3.0

Ubuntu 20.04 ARM Clang Cross Compile
	Kernel: 5.4.0-72-generic
	Compiler: clang version 10.0.0-4ubuntu1

Ubuntu 20.04 aarch32 GCC Cross Compile
	Kernel: 5.4.0-72-generic
	Compiler: gcc 9.3.0

Debian 11 (Buster) (ARM)
	Kernel: Container Host Kernel
	Compiler: gcc 10.2.1

To view detailed results, visit:
https://lab.dpdk.org/results/dashboard/patchsets/27668/

UNH-IOL DPDK Community Lab

To manage your email subscriptions, visit: 
https://lab.dpdk.org/results/dashboard/preferences/subscriptions/