From mboxrd@z Thu Jan  1 00:00:00 1970
Return-Path: <test-report-bounces@dpdk.org>
Received: from mails.dpdk.org (mails.dpdk.org [217.70.189.124])
	by inbox.dpdk.org (Postfix) with ESMTP id 53C74425FC
	for <public@inbox.dpdk.org>; Wed, 20 Sep 2023 20:24:26 +0200 (CEST)
Received: from mails.dpdk.org (localhost [127.0.0.1])
	by mails.dpdk.org (Postfix) with ESMTP id 4EF8D402BA;
	Wed, 20 Sep 2023 20:24:26 +0200 (CEST)
Received: from mail-yw1-f227.google.com (mail-yw1-f227.google.com
 [209.85.128.227])
 by mails.dpdk.org (Postfix) with ESMTP id 99892402BA
 for <test-report@dpdk.org>; Wed, 20 Sep 2023 20:24:25 +0200 (CEST)
Received: by mail-yw1-f227.google.com with SMTP id
 00721157ae682-59c00b5c8b2so1655757b3.1
 for <test-report@dpdk.org>; Wed, 20 Sep 2023 11:24:25 -0700 (PDT)
DKIM-Signature: v=1; a=rsa-sha256; c=relaxed/relaxed;
 d=iol.unh.edu; s=unh-iol; t=1695234265; x=1695839065; darn=dpdk.org;
 h=cc:to:from:subject:message-id:date:from:to:cc:subject:date
 :message-id:reply-to;
 bh=WfdBzCqOkqkAmr+Qa+IgzmONsEPdX/0CRod1OiKtHH8=;
 b=IzQCAuiuc5PCHPPoWrPJ6lO0lBmUqzbPb/7+sEdR7eDCKe8tWER9OtwGbbkN8bnETG
 B3UQhSKD+ClpaR3xoUCZIl5Wl8seKZDPjg5rzz2elWoUaVk+OsiST8s8qngMako1vThd
 o9VUaxQMtnYWH9eVaSlqOhqllT+8wuhaonhGY=
X-Google-DKIM-Signature: v=1; a=rsa-sha256; c=relaxed/relaxed;
 d=1e100.net; s=20230601; t=1695234265; x=1695839065;
 h=cc:to:from:subject:message-id:date:x-gm-message-state:from:to:cc
 :subject:date:message-id:reply-to;
 bh=WfdBzCqOkqkAmr+Qa+IgzmONsEPdX/0CRod1OiKtHH8=;
 b=iE4wQvJHt0g+UCpxRL+2iXPrF33QIXMUQsJXNtAePhYA5uCSJhFWdsKgsyJYWayyOX
 B1myKPRub7ionl7B6p58Z9MEkPJwGvmPd7oafQN1167BTC/NnCwSuEGfxZ9xTxtmGUVH
 uBFcc5HowDqH14vyRdnZH3sNIGcgvBld6Rqc370ZNuOV56bPgpj9LrPTHIHSKNHdUOm2
 F9zWBM8JCFysjo2rU/WtRGz/DLJqrBGnMRv81z8HBn0h14Q0TLbxk6jYQW+ujlWbq/YV
 a/baJ7EFYAVygPp2AfhYHFbTMQCc/ggWEDryiZImyr4/lhv4bFzjMyKmZ11uOnp0ERS7
 WzCg==
X-Gm-Message-State: AOJu0YwTcc6y69JIbIg0YQuASoEs5PY8ScRbHG2jR2E2/F2JhPWK9vQV
 knyc6/l6QY/RYllhyjrLecJuuEvhuwmUGNNAcWHbXexWVfv+f4B+nzcWUR82nDFeU3OuaKUHMQ=
 =
X-Google-Smtp-Source: AGHT+IGneX2zFnIWK1CYFgWrFn9jR8Qc3WMuT2Nmp9v8sgAJbaQfP+erlXjASXufvOv2UPs/NO2M11byRd/7
X-Received: by 2002:a0d:eb4f:0:b0:595:9770:6914 with SMTP id
 u76-20020a0deb4f000000b0059597706914mr3669151ywe.35.1695234264993; 
 Wed, 20 Sep 2023 11:24:24 -0700 (PDT)
Received: from postal.iol.unh.edu (postal.iol.unh.edu.
 [2606:4100:3880:1234::84]) by smtp-relay.gmail.com with ESMTPS id
 r84-20020a815d57000000b0059b5440a2e3sm1562144ywb.58.2023.09.20.11.24.24
 (version=TLS1_2 cipher=ECDHE-ECDSA-AES128-GCM-SHA256 bits=128/128);
 Wed, 20 Sep 2023 11:24:24 -0700 (PDT)
X-Relaying-Domain: iol.unh.edu
Date: Wed, 20 Sep 2023 11:24:24 -0700 (PDT)
Message-ID: <650b38d8.810a0220.fac36.14e7SMTPIN_ADDED_MISSING@mx.google.com>
Received: from [172.21.0.2] (unknown [172.18.0.240])
 by postal.iol.unh.edu (Postfix) with ESMTP id B23306052514;
 Wed, 20 Sep 2023 14:24:23 -0400 (EDT)
Subject: |SUCCESS| pw131744-131749 [PATCH] [6/6] Section 6: Glossary
From: dpdklab@iol.unh.edu
To: Test Report <test-report@dpdk.org>
Cc: dpdk-test-reports@iol.unh.edu
Content-Type: text/plain
X-BeenThere: test-report@dpdk.org
X-Mailman-Version: 2.1.29
Precedence: list
List-Id: automatic DPDK test reports <test-report.dpdk.org>
List-Unsubscribe: <https://mails.dpdk.org/options/test-report>,
 <mailto:test-report-request@dpdk.org?subject=unsubscribe>
List-Archive: <http://mails.dpdk.org/archives/test-report/>
List-Post: <mailto:test-report@dpdk.org>
List-Help: <mailto:test-report-request@dpdk.org?subject=help>
List-Subscribe: <https://mails.dpdk.org/listinfo/test-report>,
 <mailto:test-report-request@dpdk.org?subject=subscribe>
Errors-To: test-report-bounces@dpdk.org

Test-Label: iol-unit-amd64-testing
Test-Status: SUCCESS
http://dpdk.org/patch/131749

_Testing PASS_

Submitter: David Young <dave@youngcopy.com>
Date: Wednesday, September 20 2023 15:48:10 
DPDK git baseline: Repo:dpdk
  Branch: master
  CommitID:31e60e81f025e9fffa69b68bffe5cfaa22d5c098

131744-131749 --> testing pass

Test environment and result as below:

+---------------------+----------------+
|     Environment     | dpdk_unit_test |
+=====================+================+
| Windows Server 2019 | PASS           |
+---------------------+----------------+
| CentOS Stream 8     | PASS           |
+---------------------+----------------+
| CentOS Stream 9     | PASS           |
+---------------------+----------------+
| Debian Bullseye     | PASS           |
+---------------------+----------------+
| Fedora 37           | PASS           |
+---------------------+----------------+
| Debian Buster       | PASS           |
+---------------------+----------------+
| Fedora 38           | PASS           |
+---------------------+----------------+
| openSUSE Leap 15    | PASS           |
+---------------------+----------------+


Windows Server 2019
	Kernel: 10.0
	Compiler: clang 14.0 and gcc 8.1.0 (MinGW)

CentOS Stream 8
	Kernel: 4.18.0-240.10.1.el8_3.x86_64
	Compiler: gcc 8.4.1 20200928

CentOS Stream 9
	Kernel: 4.18.0-240.10.1.el8_3.x86_64
	Compiler: gcc 11.3.1 20220421

Debian Bullseye
	Kernel: 5.4.0-122-generic
	Compiler: gcc 10.2.1-6

Fedora 37
	Kernel: Depends on container host system
	Compiler: gcc 12.3.1

Debian Buster
	Kernel: 5.4.0-122-generic
	Compiler: gcc 8.3.0-6

Fedora 38
	Kernel: Depends on container host
	Compiler: gcc 13.1.1

openSUSE Leap 15
	Kernel: 4.18.0-240.10.1.el8_3.x86_64
	Compiler: gcc 7.5.0

To view detailed results, visit:
https://lab.dpdk.org/results/dashboard/patchsets/27674/

UNH-IOL DPDK Community Lab

To manage your email subscriptions, visit: 
https://lab.dpdk.org/results/dashboard/preferences/subscriptions/