From mboxrd@z Thu Jan  1 00:00:00 1970
Return-Path: <test-report-bounces@dpdk.org>
Received: from mails.dpdk.org (mails.dpdk.org [217.70.189.124])
	by inbox.dpdk.org (Postfix) with ESMTP id 092604260D
	for <public@inbox.dpdk.org>; Thu, 21 Sep 2023 21:29:12 +0200 (CEST)
Received: from mails.dpdk.org (localhost [127.0.0.1])
	by mails.dpdk.org (Postfix) with ESMTP id 04233400D5;
	Thu, 21 Sep 2023 21:29:12 +0200 (CEST)
Received: from mail-il1-f226.google.com (mail-il1-f226.google.com
 [209.85.166.226])
 by mails.dpdk.org (Postfix) with ESMTP id 8B952400D5
 for <test-report@dpdk.org>; Thu, 21 Sep 2023 21:29:10 +0200 (CEST)
Received: by mail-il1-f226.google.com with SMTP id
 e9e14a558f8ab-34fcc3ac97bso4416345ab.0
 for <test-report@dpdk.org>; Thu, 21 Sep 2023 12:29:10 -0700 (PDT)
DKIM-Signature: v=1; a=rsa-sha256; c=relaxed/relaxed;
 d=iol.unh.edu; s=unh-iol; t=1695324550; x=1695929350; darn=dpdk.org;
 h=cc:to:from:subject:message-id:date:from:to:cc:subject:date
 :message-id:reply-to;
 bh=pgBXsV4bXPEfqkbi4d0x/c57kXb9PiXHuTvUXkC/Qz8=;
 b=KfC9+3h9dkagzoaeX9Xj113mfP5PssKDrm/iqKWnwv32WpObMw2MWnfEPjBuArVSsa
 3bRswi6gABrsjefEHQ18FfHVUtNrY9N0xB2OCfBK21Qudjyt73n8Px6OzLTnYBA23EUV
 laV+EQp32DvKp2CAmuUUdyZ5CuXhUekAnyAp4=
X-Google-DKIM-Signature: v=1; a=rsa-sha256; c=relaxed/relaxed;
 d=1e100.net; s=20230601; t=1695324550; x=1695929350;
 h=cc:to:from:subject:message-id:date:x-gm-message-state:from:to:cc
 :subject:date:message-id:reply-to;
 bh=pgBXsV4bXPEfqkbi4d0x/c57kXb9PiXHuTvUXkC/Qz8=;
 b=bHJQyJrxNKukIwEJemY+8c5TNIaCztEzBABZ+gTKeSDn6Rw61VidUCIwOG+lqBadOC
 1xp2nqXIqO+62E8Mc9PIWvVNzjJIwuWzT7lJAPu8dyrj+19avBZ45rZWYVmz9nFNyDUV
 L8TJCKJvYIp+WOFj4fVvANWLLKtHO1pxpauIIfLldaznDtnjbtZ4gL5cSUGNN8+pMhbO
 bnakwruGipvm80pfGguDAXyDwaZO6PZg+tR+i7coXZAs3e650o/6x/KVpkyQXEPVboy/
 vfGRy3kbpQQJS0SS4uaTaNaecEab1DzvcyKNbR3q4OYfokDAFadIr+NIzMXPYOn15wDR
 i3pQ==
X-Gm-Message-State: AOJu0YzjbfuhUJh1UsODhtiiieUwC+ZnO8wOUZL5jpnwxu5Og6eaCsLW
 8CQbT3EjIiAst6Kd2TKkghYPDKmmESaTO3cyLT3ndtFQ2PPjgmh1OhHeQRu345KCoJxVORz27Q=
 =
X-Google-Smtp-Source: AGHT+IHzDk+qlpj/P/OB+S5yJZZP/gAYWwPK3xQq/FyCtEI90L3vUH4sFF+IlMPoOBMnFvbA4k4+8NjjJmk5
X-Received: by 2002:a05:6e02:b24:b0:34f:6fd3:f865 with SMTP id
 e4-20020a056e020b2400b0034f6fd3f865mr8399770ilu.18.1695324550014; 
 Thu, 21 Sep 2023 12:29:10 -0700 (PDT)
Received: from postal.iol.unh.edu (postal.iol.unh.edu.
 [2606:4100:3880:1234::84]) by smtp-relay.gmail.com with ESMTPS id
 o18-20020a92c692000000b0034f5746e371sm114352ilg.61.2023.09.21.12.29.09
 (version=TLS1_2 cipher=ECDHE-ECDSA-AES128-GCM-SHA256 bits=128/128);
 Thu, 21 Sep 2023 12:29:09 -0700 (PDT)
X-Relaying-Domain: iol.unh.edu
Date: Thu, 21 Sep 2023 12:29:09 -0700 (PDT)
Message-ID: <650c9985.920a0220.b4d7c.5675SMTPIN_ADDED_MISSING@mx.google.com>
Received: from [172.21.0.3] (unknown [172.18.0.240])
 by postal.iol.unh.edu (Postfix) with ESMTP id A85556052514;
 Thu, 21 Sep 2023 15:29:09 -0400 (EDT)
Subject: |SUCCESS| pw131804 [PATCH] [v1] app/testpmd: refine encap content
From: dpdklab@iol.unh.edu
To: Test Report <test-report@dpdk.org>
Cc: dpdk-test-reports@iol.unh.edu
Content-Type: text/plain
X-BeenThere: test-report@dpdk.org
X-Mailman-Version: 2.1.29
Precedence: list
List-Id: automatic DPDK test reports <test-report.dpdk.org>
List-Unsubscribe: <https://mails.dpdk.org/options/test-report>,
 <mailto:test-report-request@dpdk.org?subject=unsubscribe>
List-Archive: <http://mails.dpdk.org/archives/test-report/>
List-Post: <mailto:test-report@dpdk.org>
List-Help: <mailto:test-report-request@dpdk.org?subject=help>
List-Subscribe: <https://mails.dpdk.org/listinfo/test-report>,
 <mailto:test-report-request@dpdk.org?subject=subscribe>
Errors-To: test-report-bounces@dpdk.org

Test-Label: iol-unit-amd64-testing
Test-Status: SUCCESS
http://dpdk.org/patch/131804

_Testing PASS_

Submitter: Zhang, Yuying <yuying.zhang@intel.com>
Date: Tuesday, August 22 2023 01:13:06 
DPDK git baseline: Repo:dpdk
  Branch: master
  CommitID:31e60e81f025e9fffa69b68bffe5cfaa22d5c098

131804 --> testing pass

Test environment and result as below:

+---------------------+----------------+
|     Environment     | dpdk_unit_test |
+=====================+================+
| CentOS Stream 8     | PASS           |
+---------------------+----------------+
| Debian Bullseye     | PASS           |
+---------------------+----------------+
| CentOS Stream 9     | PASS           |
+---------------------+----------------+
| Debian Buster       | PASS           |
+---------------------+----------------+
| Fedora 37           | PASS           |
+---------------------+----------------+
| Windows Server 2019 | PASS           |
+---------------------+----------------+
| Fedora 38           | PASS           |
+---------------------+----------------+


CentOS Stream 8
	Kernel: 4.18.0-240.10.1.el8_3.x86_64
	Compiler: gcc 8.4.1 20200928

Debian Bullseye
	Kernel: 5.4.0-122-generic
	Compiler: gcc 10.2.1-6

CentOS Stream 9
	Kernel: 4.18.0-240.10.1.el8_3.x86_64
	Compiler: gcc 11.3.1 20220421

Debian Buster
	Kernel: 5.4.0-122-generic
	Compiler: gcc 8.3.0-6

Fedora 37
	Kernel: Depends on container host system
	Compiler: gcc 12.3.1

Windows Server 2019
	Kernel: 10.0
	Compiler: clang 14.0 and gcc 8.1.0 (MinGW)

Fedora 38
	Kernel: Depends on container host
	Compiler: gcc 13.1.1

To view detailed results, visit:
https://lab.dpdk.org/results/dashboard/patchsets/27689/

UNH-IOL DPDK Community Lab

To manage your email subscriptions, visit: 
https://lab.dpdk.org/results/dashboard/preferences/subscriptions/