From mboxrd@z Thu Jan  1 00:00:00 1970
Return-Path: <test-report-bounces@dpdk.org>
Received: from mails.dpdk.org (mails.dpdk.org [217.70.189.124])
	by inbox.dpdk.org (Postfix) with ESMTP id C1A3442617
	for <public@inbox.dpdk.org>; Fri, 22 Sep 2023 12:47:52 +0200 (CEST)
Received: from mails.dpdk.org (localhost [127.0.0.1])
	by mails.dpdk.org (Postfix) with ESMTP id A082540150;
	Fri, 22 Sep 2023 12:47:52 +0200 (CEST)
Received: from mail-io1-f99.google.com (mail-io1-f99.google.com
 [209.85.166.99]) by mails.dpdk.org (Postfix) with ESMTP id E85AA40150
 for <test-report@dpdk.org>; Fri, 22 Sep 2023 12:47:51 +0200 (CEST)
Received: by mail-io1-f99.google.com with SMTP id
 ca18e2360f4ac-79f915e5b47so51453639f.2
 for <test-report@dpdk.org>; Fri, 22 Sep 2023 03:47:51 -0700 (PDT)
DKIM-Signature: v=1; a=rsa-sha256; c=relaxed/relaxed;
 d=iol.unh.edu; s=unh-iol; t=1695379671; x=1695984471; darn=dpdk.org;
 h=cc:to:from:subject:message-id:date:from:to:cc:subject:date
 :message-id:reply-to;
 bh=iE4TLvmh1U+k63KychJm1Tc9iAiUiUjgxTh0yH1WUeI=;
 b=QXQPqyfeAy6tVpyHj4FZfArqfbspNpAPOz0DNZVeYx+87mpVNjR9YYGQ+vqmITP6zS
 bdSPmh1upl5aOkxtTEPRruKU6YdC0udmZQC6yGG0RzKjjALjFLraE6Dcm33KoM2vwEQT
 Vikcg6uBsK3xB+k3g8vbZuar4eEhJZ4UYSBtI=
X-Google-DKIM-Signature: v=1; a=rsa-sha256; c=relaxed/relaxed;
 d=1e100.net; s=20230601; t=1695379671; x=1695984471;
 h=cc:to:from:subject:message-id:date:x-gm-message-state:from:to:cc
 :subject:date:message-id:reply-to;
 bh=iE4TLvmh1U+k63KychJm1Tc9iAiUiUjgxTh0yH1WUeI=;
 b=e4PeTNEuTGBqzn72aicphLtqKFpIfUWd+pIDVKv78WVeW5cj2vIV5fRrYflq7wF12U
 IpUK/0obZxm6BLLBRJWH8KsEpI8alMaaAlohUO3gMvdqtLKmmIzMLbWUlmXhCrWwhqmR
 w1j5EXBIh+DFLCUv1B22qK6Qgop9OvEfeNb4gHjXFSqbHL3/o8p1XKppvwEbs8IdwMlL
 2qX8Y2D3oTaO+Ys5dhE/xj8zvXV8A6+svC7S+cEicANgwNuw04thFONKawS7QQIxdLVL
 k4TKgQYjTt1+ZJm/rc29fC4Pb1QvCFZbIawWor3c3Xi5sxgYXzYR+o/aX15R2ZGP3vXp
 y4QQ==
X-Gm-Message-State: AOJu0YxRnv0SaOGj204PWrhb0KJYU9vHALpxWTT7v6QRz4Wlr+fBqx8l
 /On773LF2kgIFLWfR61WDwNRLPbDE0tQvq8Xgf0Bzope7gAJc0YkDOgJlA==
X-Google-Smtp-Source: AGHT+IEunpZJHJdaGVS60odJlvVInx+1kbdKOkKgAZg1pBgWJVZN69DbRXxeKAs/D9QbUCa3gwtUmo2bjbWj
X-Received: by 2002:a5d:8b54:0:b0:794:efb0:83d6 with SMTP id
 c20-20020a5d8b54000000b00794efb083d6mr9723163iot.12.1695379671260; 
 Fri, 22 Sep 2023 03:47:51 -0700 (PDT)
Received: from postal.iol.unh.edu (postal.iol.unh.edu. [132.177.123.84])
 by smtp-relay.gmail.com with ESMTPS id
 y5-20020a6bd805000000b0078371c98146sm118980iob.33.2023.09.22.03.47.51
 (version=TLS1_2 cipher=ECDHE-ECDSA-AES128-GCM-SHA256 bits=128/128);
 Fri, 22 Sep 2023 03:47:51 -0700 (PDT)
X-Relaying-Domain: iol.unh.edu
Date: Fri, 22 Sep 2023 03:47:51 -0700 (PDT)
Message-ID: <650d70d7.6b0a0220.639b2.63c9SMTPIN_ADDED_MISSING@mx.google.com>
Received: from [172.21.0.2] (unknown [172.18.0.240])
 by postal.iol.unh.edu (Postfix) with ESMTP id B6B5E6052514;
 Fri, 22 Sep 2023 06:47:50 -0400 (EDT)
Subject: |SUCCESS| pw131816 [PATCH] common/idpf: fix Tx checksum offload
From: dpdklab@iol.unh.edu
To: Test Report <test-report@dpdk.org>
Cc: dpdk-test-reports@iol.unh.edu, Qi Zhang <qi.z.zhang@intel.com>
Content-Type: text/plain
X-BeenThere: test-report@dpdk.org
X-Mailman-Version: 2.1.29
Precedence: list
List-Id: automatic DPDK test reports <test-report.dpdk.org>
List-Unsubscribe: <https://mails.dpdk.org/options/test-report>,
 <mailto:test-report-request@dpdk.org?subject=unsubscribe>
List-Archive: <http://mails.dpdk.org/archives/test-report/>
List-Post: <mailto:test-report@dpdk.org>
List-Help: <mailto:test-report-request@dpdk.org?subject=help>
List-Subscribe: <https://mails.dpdk.org/listinfo/test-report>,
 <mailto:test-report-request@dpdk.org?subject=subscribe>
Errors-To: test-report-bounces@dpdk.org

Test-Label: iol-unit-amd64-testing
Test-Status: SUCCESS
http://dpdk.org/patch/131816

_Testing PASS_

Submitter: Xing, Beilei <beilei.xing@intel.com>
Date: Friday, September 22 2023 15:29:35 
DPDK git baseline: Repo:dpdk-next-net-intel
  Branch: master
  CommitID:5417d95f2851fc1239677ebd59cadf38f143f55e

131816 --> testing pass

Test environment and result as below:

+---------------------+----------------+
|     Environment     | dpdk_unit_test |
+=====================+================+
| CentOS Stream 8     | PASS           |
+---------------------+----------------+
| CentOS Stream 9     | PASS           |
+---------------------+----------------+
| Debian Bullseye     | PASS           |
+---------------------+----------------+
| Windows Server 2019 | PASS           |
+---------------------+----------------+
| Fedora 38           | PASS           |
+---------------------+----------------+
| Fedora 37           | PASS           |
+---------------------+----------------+
| Debian Buster       | PASS           |
+---------------------+----------------+
| openSUSE Leap 15    | PASS           |
+---------------------+----------------+
| Ubuntu 22.04        | PASS           |
+---------------------+----------------+
| Ubuntu 20.04        | PASS           |
+---------------------+----------------+
| RHEL8               | PASS           |
+---------------------+----------------+


CentOS Stream 8
	Kernel: 4.18.0-240.10.1.el8_3.x86_64
	Compiler: gcc 8.4.1 20200928

CentOS Stream 9
	Kernel: 4.18.0-240.10.1.el8_3.x86_64
	Compiler: gcc 11.3.1 20220421

Debian Bullseye
	Kernel: 5.4.0-122-generic
	Compiler: gcc 10.2.1-6

Windows Server 2019
	Kernel: 10.0
	Compiler: clang 14.0 and gcc 8.1.0 (MinGW)

Fedora 38
	Kernel: Depends on container host
	Compiler: gcc 13.1.1

Fedora 37
	Kernel: Depends on container host system
	Compiler: gcc 12.3.1

Debian Buster
	Kernel: 5.4.0-122-generic
	Compiler: gcc 8.3.0-6

openSUSE Leap 15
	Kernel: 4.18.0-240.10.1.el8_3.x86_64
	Compiler: gcc 7.5.0

Ubuntu 22.04
	Kernel: 4.18.0-240.10.1.el8_3.x86_64
	Compiler: gcc 11.3.0

Ubuntu 20.04
	Kernel: 5.4.0-153-generic
	Compiler: gcc 9.4.0-1ubuntu1~20.04.1

RHEL8
	Kernel: 4.18.0-240.10.1.el8_3.x86_64
	Compiler: gcc 8.3.1 20191121 (Red Hat 8.3.1-5)

To view detailed results, visit:
https://lab.dpdk.org/results/dashboard/patchsets/27694/

UNH-IOL DPDK Community Lab

To manage your email subscriptions, visit: 
https://lab.dpdk.org/results/dashboard/preferences/subscriptions/