From mboxrd@z Thu Jan  1 00:00:00 1970
Return-Path: <test-report-bounces@dpdk.org>
Received: from mails.dpdk.org (mails.dpdk.org [217.70.189.124])
	by inbox.dpdk.org (Postfix) with ESMTP id 33DF942646
	for <public@inbox.dpdk.org>; Tue, 26 Sep 2023 20:49:04 +0200 (CEST)
Received: from mails.dpdk.org (localhost [127.0.0.1])
	by mails.dpdk.org (Postfix) with ESMTP id 2D4BA40269;
	Tue, 26 Sep 2023 20:49:04 +0200 (CEST)
Received: from mail-il1-f225.google.com (mail-il1-f225.google.com
 [209.85.166.225])
 by mails.dpdk.org (Postfix) with ESMTP id 353D740269
 for <test-report@dpdk.org>; Tue, 26 Sep 2023 20:49:03 +0200 (CEST)
Received: by mail-il1-f225.google.com with SMTP id
 e9e14a558f8ab-351435e9fd4so13240155ab.1
 for <test-report@dpdk.org>; Tue, 26 Sep 2023 11:49:03 -0700 (PDT)
DKIM-Signature: v=1; a=rsa-sha256; c=relaxed/relaxed;
 d=iol.unh.edu; s=unh-iol; t=1695754142; x=1696358942; darn=dpdk.org;
 h=cc:to:from:subject:message-id:date:from:to:cc:subject:date
 :message-id:reply-to;
 bh=IMnMdtg+DJVjcDcO7rUsv9WxJ6LZqHyNU3j7d9L8KzA=;
 b=PbU0wJmOnJT3VAoOuQqe7DpcyzZJeoLITpSpvkDE3JXB0YtMxXe9Covx+HMDQaNXnk
 WyjIvrsVcyvSsJvw5Fa6c4sRYWCJtzC2bzbJuI8n709XxOalM0a2lWHrsTqu2c4+Nvk3
 hzQA2gV9DdcROoAVULCnMph361hzuQRAP3dXE=
X-Google-DKIM-Signature: v=1; a=rsa-sha256; c=relaxed/relaxed;
 d=1e100.net; s=20230601; t=1695754142; x=1696358942;
 h=cc:to:from:subject:message-id:date:x-gm-message-state:from:to:cc
 :subject:date:message-id:reply-to;
 bh=IMnMdtg+DJVjcDcO7rUsv9WxJ6LZqHyNU3j7d9L8KzA=;
 b=sEyeB3MnaITHFSEQUQ3Dw4qgM3Q+rDvJZthtYxRlgMJPtPFibCs75IMibNqNCAaX4t
 KdO6cO1igw06DIp83NFOX56/jux98ZXVr0r3VIV8r76ZU3scGdrsS6gFfGCRjT1bRwRb
 X5MyJL8rqNYcUlGkd672W/PBu+bFoQNYOAwTXhpVhipNRDSPtizklaFRguyg5TCqP1XL
 0h0AD1Fr296bpmlsnYNvdHSG762lFDXAy8i9Aic0jr7Fd5FdizQ3EbQxCEg58JtuKC9K
 bHec2XICUODDL/Old6NdddY5W4zgTnwPTIVL3wRsiAt8GD4T5vgl2JgYr2bIMFYvLOEw
 imrw==
X-Gm-Message-State: AOJu0YzWzHrg5N4LOIEbE/yjjmYTG7j1cAR9v/1TMz2aurQmz2MnkaZV
 Sa7+GjSj9Wl9P1Wm1gBSHXU8ptgnwY7C7mIUgmMeTSlSmhlIKpJvhWrhVA==
X-Google-Smtp-Source: AGHT+IE5jO4eG6xcsTUBhCuagC/9xgQjRsmRJGs6/plUongBYI3HHTR+YUJJ1WPVrFbau+YqRmqJba7Sf3Dh
X-Received: by 2002:a05:6e02:1288:b0:34f:2cb0:5d0 with SMTP id
 y8-20020a056e02128800b0034f2cb005d0mr10559195ilq.30.1695754142624; 
 Tue, 26 Sep 2023 11:49:02 -0700 (PDT)
Received: from postal.iol.unh.edu (postal.iol.unh.edu. [132.177.123.84])
 by smtp-relay.gmail.com with ESMTPS id
 k1-20020a056e021a8100b003512515dd22sm541997ilv.56.2023.09.26.11.49.02
 (version=TLS1_2 cipher=ECDHE-ECDSA-AES128-GCM-SHA256 bits=128/128);
 Tue, 26 Sep 2023 11:49:02 -0700 (PDT)
X-Relaying-Domain: iol.unh.edu
Date: Tue, 26 Sep 2023 11:49:02 -0700 (PDT)
Message-ID: <6513279e.050a0220.32e74.292cSMTPIN_ADDED_MISSING@mx.google.com>
Received: from [172.21.0.2] (unknown [172.18.0.240])
 by postal.iol.unh.edu (Postfix) with ESMTP id 43519605C351;
 Tue, 26 Sep 2023 14:49:02 -0400 (EDT)
Subject: |SUCCESS| pw131963 [PATCH] ethdev: add calculate hash function
From: dpdklab@iol.unh.edu
To: Test Report <test-report@dpdk.org>
Cc: dpdk-test-reports@iol.unh.edu
Content-Type: text/plain
X-BeenThere: test-report@dpdk.org
X-Mailman-Version: 2.1.29
Precedence: list
List-Id: automatic DPDK test reports <test-report.dpdk.org>
List-Unsubscribe: <https://mails.dpdk.org/options/test-report>,
 <mailto:test-report-request@dpdk.org?subject=unsubscribe>
List-Archive: <http://mails.dpdk.org/archives/test-report/>
List-Post: <mailto:test-report@dpdk.org>
List-Help: <mailto:test-report-request@dpdk.org?subject=help>
List-Subscribe: <https://mails.dpdk.org/listinfo/test-report>,
 <mailto:test-report-request@dpdk.org?subject=subscribe>
Errors-To: test-report-bounces@dpdk.org

Test-Label: iol-compile-arm64-testing
Test-Status: SUCCESS
http://dpdk.org/patch/131963

_Testing PASS_

Submitter: Ori Kam <orika@nvidia.com>
Date: Tuesday, September 26 2023 11:37:52 
DPDK git baseline: Repo:dpdk
  Branch: master
  CommitID:d58c97481a136ad5342c9d8717b22bdaa5eccd43

131963 --> testing pass

Test environment and result as below:

+----------------------------------------+--------------------+
|              Environment               | dpdk_meson_compile |
+========================================+====================+
| Ubuntu 20.04 ARM SVE                   | PASS               |
+----------------------------------------+--------------------+
| Ubuntu 20.04 aarch32 GCC Cross Compile | PASS               |
+----------------------------------------+--------------------+
| Ubuntu 20.04 ARM GCC Cross Compile     | PASS               |
+----------------------------------------+--------------------+
| Ubuntu 20.04 ARM Clang Cross Compile   | PASS               |
+----------------------------------------+--------------------+


Ubuntu 20.04 ARM SVE
	Kernel: 5.4.0-80-generic
	Compiler: gcc 10.3.0 (Ubuntu 10.3.0-1ubuntu1~20.04)

Ubuntu 20.04 aarch32 GCC Cross Compile
	Kernel: 5.4.0-72-generic
	Compiler: gcc 9.3.0

Ubuntu 20.04 ARM GCC Cross Compile
	Kernel: 5.4.0-72-generic
	Compiler: aarch64-linux-gnu-gcc (Ubuntu 9.3.0-17ubuntu1~20.04) 9.3.0

Ubuntu 20.04 ARM Clang Cross Compile
	Kernel: 5.4.0-72-generic
	Compiler: clang version 10.0.0-4ubuntu1

To view detailed results, visit:
https://lab.dpdk.org/results/dashboard/patchsets/27730/

UNH-IOL DPDK Community Lab

To manage your email subscriptions, visit: 
https://lab.dpdk.org/results/dashboard/preferences/subscriptions/