From mboxrd@z Thu Jan  1 00:00:00 1970
Return-Path: <test-report-bounces@dpdk.org>
Received: from mails.dpdk.org (mails.dpdk.org [217.70.189.124])
	by inbox.dpdk.org (Postfix) with ESMTP id 984DD42646
	for <public@inbox.dpdk.org>; Tue, 26 Sep 2023 20:58:50 +0200 (CEST)
Received: from mails.dpdk.org (localhost [127.0.0.1])
	by mails.dpdk.org (Postfix) with ESMTP id 9120140269;
	Tue, 26 Sep 2023 20:58:50 +0200 (CEST)
Received: from mail-io1-f100.google.com (mail-io1-f100.google.com
 [209.85.166.100])
 by mails.dpdk.org (Postfix) with ESMTP id C3E7240269
 for <test-report@dpdk.org>; Tue, 26 Sep 2023 20:58:49 +0200 (CEST)
Received: by mail-io1-f100.google.com with SMTP id
 ca18e2360f4ac-79fc3d32a2fso183882839f.1
 for <test-report@dpdk.org>; Tue, 26 Sep 2023 11:58:49 -0700 (PDT)
DKIM-Signature: v=1; a=rsa-sha256; c=relaxed/relaxed;
 d=iol.unh.edu; s=unh-iol; t=1695754729; x=1696359529; darn=dpdk.org;
 h=cc:to:from:subject:message-id:date:from:to:cc:subject:date
 :message-id:reply-to;
 bh=qv/ZJbN8cNLxA+RUA4yVkzndZRnpM1dXk5LRhdTqSmQ=;
 b=L3OmVsGWnwFrQQPimIqqP4IZPrfg1fT8hqW73+1zTqi3DZfTLbRoaJNvmA586DvusN
 3UOaIMqKs3LwabFhkn8R2oEl7ob7y1SWmhoL/gNjwaOOqbuOyyUH6qaJPLG627muMe2s
 0yo+cH7KkCTukuQ+iYVx//uCfU+7E+cV9NsZM=
X-Google-DKIM-Signature: v=1; a=rsa-sha256; c=relaxed/relaxed;
 d=1e100.net; s=20230601; t=1695754729; x=1696359529;
 h=cc:to:from:subject:message-id:date:x-gm-message-state:from:to:cc
 :subject:date:message-id:reply-to;
 bh=qv/ZJbN8cNLxA+RUA4yVkzndZRnpM1dXk5LRhdTqSmQ=;
 b=Oo6PllGJvrT62dBELKLVmETBxqYDVdUsE4a1O68kTyXqEKUsVAxVEe9divazZmxd5X
 hftZ/Aax4+yTSMMRF4J7MdMckkUKEhCHhwWCoD0Y6MIHSVc4nRuwYZTjtgEjCZ8oTzFB
 FLE/II6CoZSGaLiNpFk7QduerP+bd2ERe1CBZSgi7sx7V38QTnYMRhidpK3kDfv5WYWA
 AUHRovKGPkCQ5ASMsvpIlP/bxnAdQzikVj5+DbZKmmWcilP/QOcTTvS8JhHa+C+WqZqB
 k09JSX7H+MCbFAnuCPRddTCHNv7OlUbN070s5jC4S0SR4KzGl/6glc5ORZh0VMbcEFUV
 31EQ==
X-Gm-Message-State: AOJu0YzGsUj0DJjiJCVOyO2xfbxsTbNxY5Ch1m38ZteJKClqOsFMko+4
 g2apT4gIV95yKTqXEXX6tynDJP2Zt7H9ORNdtsSkhBOjKOlZCCac/gH0vhnsLcvSKztnC2UaCw=
 =
X-Google-Smtp-Source: AGHT+IHxVvj40SBv3sqvzYhGLCQ9KWPodVYBmNfGdmqeqeoe9GKq5D50Albf1+Y43+A2oh5nHLuilOaCGPe5
X-Received: by 2002:a5d:9306:0:b0:792:82f8:7402 with SMTP id
 l6-20020a5d9306000000b0079282f87402mr10604295ion.16.1695754729147; 
 Tue, 26 Sep 2023 11:58:49 -0700 (PDT)
Received: from postal.iol.unh.edu (postal.iol.unh.edu.
 [2606:4100:3880:1234::84]) by smtp-relay.gmail.com with ESMTPS id
 t17-20020a6b0911000000b007836030ff13sm647502ioi.35.2023.09.26.11.58.49
 (version=TLS1_2 cipher=ECDHE-ECDSA-AES128-GCM-SHA256 bits=128/128);
 Tue, 26 Sep 2023 11:58:49 -0700 (PDT)
X-Relaying-Domain: iol.unh.edu
Date: Tue, 26 Sep 2023 11:58:49 -0700 (PDT)
Message-ID: <651329e9.6b0a0220.67ba2.a2c3SMTPIN_ADDED_MISSING@mx.google.com>
Received: from [172.21.0.2] (unknown [172.18.0.240])
 by postal.iol.unh.edu (Postfix) with ESMTP id A7935605C351;
 Tue, 26 Sep 2023 14:58:48 -0400 (EDT)
Subject: |SUCCESS| pw131963 [PATCH] ethdev: add calculate hash function
From: dpdklab@iol.unh.edu
To: Test Report <test-report@dpdk.org>
Cc: dpdk-test-reports@iol.unh.edu
Content-Type: text/plain
X-BeenThere: test-report@dpdk.org
X-Mailman-Version: 2.1.29
Precedence: list
List-Id: automatic DPDK test reports <test-report.dpdk.org>
List-Unsubscribe: <https://mails.dpdk.org/options/test-report>,
 <mailto:test-report-request@dpdk.org?subject=unsubscribe>
List-Archive: <http://mails.dpdk.org/archives/test-report/>
List-Post: <mailto:test-report@dpdk.org>
List-Help: <mailto:test-report-request@dpdk.org?subject=help>
List-Subscribe: <https://mails.dpdk.org/listinfo/test-report>,
 <mailto:test-report-request@dpdk.org?subject=subscribe>
Errors-To: test-report-bounces@dpdk.org

Test-Label: iol-unit-arm64-testing
Test-Status: SUCCESS
http://dpdk.org/patch/131963

_Testing PASS_

Submitter: Ori Kam <orika@nvidia.com>
Date: Tuesday, September 26 2023 11:37:52 
DPDK git baseline: Repo:dpdk
  Branch: master
  CommitID:d58c97481a136ad5342c9d8717b22bdaa5eccd43

131963 --> testing pass

Test environment and result as below:

+----------------------+------------------------------+---------------------------+--------------+
|     Environment      | cryptodev_sw_snow3g_autotest | cryptodev_sw_zuc_autotest | lpm_autotest |
+======================+==============================+===========================+==============+
| Debian 11 (arm)      | PASS                         | PASS                      | SKIPPED      |
+----------------------+------------------------------+---------------------------+--------------+
| Ubuntu 20.04 ARM SVE | SKIPPED                      | SKIPPED                   | PASS         |
+----------------------+------------------------------+---------------------------+--------------+


Debian 11 (arm)
	Kernel: Container Host Kernel
	Compiler: gcc 10.2.1

Ubuntu 20.04 ARM SVE
	Kernel: 5.4.0-80-generic
	Compiler: gcc 10.3.0 (Ubuntu 10.3.0-1ubuntu1~20.04)

To view detailed results, visit:
https://lab.dpdk.org/results/dashboard/patchsets/27730/

UNH-IOL DPDK Community Lab

To manage your email subscriptions, visit: 
https://lab.dpdk.org/results/dashboard/preferences/subscriptions/