From mboxrd@z Thu Jan  1 00:00:00 1970
Return-Path: <test-report-bounces@dpdk.org>
Received: from mails.dpdk.org (mails.dpdk.org [217.70.189.124])
	by inbox.dpdk.org (Postfix) with ESMTP id 6E53742648
	for <public@inbox.dpdk.org>; Tue, 26 Sep 2023 21:12:00 +0200 (CEST)
Received: from mails.dpdk.org (localhost [127.0.0.1])
	by mails.dpdk.org (Postfix) with ESMTP id 5327F40269;
	Tue, 26 Sep 2023 21:12:00 +0200 (CEST)
Received: from mail-qt1-f226.google.com (mail-qt1-f226.google.com
 [209.85.160.226])
 by mails.dpdk.org (Postfix) with ESMTP id 7EEBF40269
 for <test-report@dpdk.org>; Tue, 26 Sep 2023 21:11:59 +0200 (CEST)
Received: by mail-qt1-f226.google.com with SMTP id
 d75a77b69052e-4135f3d1213so52249651cf.1
 for <test-report@dpdk.org>; Tue, 26 Sep 2023 12:11:59 -0700 (PDT)
DKIM-Signature: v=1; a=rsa-sha256; c=relaxed/relaxed;
 d=iol.unh.edu; s=unh-iol; t=1695755519; x=1696360319; darn=dpdk.org;
 h=cc:to:from:subject:message-id:date:from:to:cc:subject:date
 :message-id:reply-to;
 bh=b9AmeYfrdFqkxf3e8kQWklbh5ycCOTGEX8qZQr1pilQ=;
 b=E/4AjgIyb1kpGJwy8D41fzySP1x5NKzpl1rz091Za9pu+JS1k5gxhTNs057g0hIron
 GGTxwg8og21GC85jab7M4PX59S1CfgJHXo3Wph/PVG64N/Qe56CdKQxdf/1wFROMMyu2
 xmKlLNU3Ew8YDdd3NveXxfX93gv/0wWFhVoxw=
X-Google-DKIM-Signature: v=1; a=rsa-sha256; c=relaxed/relaxed;
 d=1e100.net; s=20230601; t=1695755519; x=1696360319;
 h=cc:to:from:subject:message-id:date:x-gm-message-state:from:to:cc
 :subject:date:message-id:reply-to;
 bh=b9AmeYfrdFqkxf3e8kQWklbh5ycCOTGEX8qZQr1pilQ=;
 b=ZiraVYM61LNFV2S9SGjegCt+2UYgRZWuL/r5Q+Z+tocN+r/i7pSGxqPxJnjmcSl3MH
 UYojv8nasw10P0c57Pbb2PSz8Ti/nRg+ILlG3XSCYhSBavka3tAGUAQjnRBGCq416azp
 pPkqCilyLQmfoWYmm8gm/SjlBY+Czd0iaftwkd8u+0+DXJVhGUN7fFK17XK5Vyd5ti9t
 DBlCU4+JXPXxOfGjwS2HZc8J0HIV+crjwbYp8uYNz++wIFEvidSuTCfjXFTNMgolhjkr
 yyVJ8hhysbt86ip21FZ2tnBPOrunabRB9bcfD3HXlfpMNEDvQa7lsTX+RNm4fVD34vcq
 imGA==
X-Gm-Message-State: AOJu0Yxaq73zDiBvJ0MSOLqStw8RTxdpF/8ZXf2Ajxw52+e91dCr1Zjj
 KWRFcIAGogSy4hnUIWqqABzr6sKfgMPugOJVLEOfQJRGqOCRmSRnwdQxCM/jW3jWFFYcITC6Hg=
 =
X-Google-Smtp-Source: AGHT+IEqLPWIlwc5iCQiN4k/7TldPX1slGDIcOpreu7fsPp9BqNRj62YUL1B3ptmJl+BfRZyDK1lzHCw9sey
X-Received: by 2002:a0c:df05:0:b0:65b:15bf:4f13 with SMTP id
 g5-20020a0cdf05000000b0065b15bf4f13mr4573677qvl.65.1695755518878; 
 Tue, 26 Sep 2023 12:11:58 -0700 (PDT)
Received: from postal.iol.unh.edu (postal.iol.unh.edu.
 [2606:4100:3880:1234::84]) by smtp-relay.gmail.com with ESMTPS id
 pa6-20020a056214480600b0065b1bcd0d3dsm369734qvb.11.2023.09.26.12.11.58
 (version=TLS1_2 cipher=ECDHE-ECDSA-AES128-GCM-SHA256 bits=128/128);
 Tue, 26 Sep 2023 12:11:58 -0700 (PDT)
X-Relaying-Domain: iol.unh.edu
Date: Tue, 26 Sep 2023 12:11:58 -0700 (PDT)
Message-ID: <65132cfe.050a0220.26c27.7473SMTPIN_ADDED_MISSING@mx.google.com>
Received: from [172.21.0.2] (unknown [172.18.0.240])
 by postal.iol.unh.edu (Postfix) with ESMTP id 8F0F6605C351;
 Tue, 26 Sep 2023 15:11:58 -0400 (EDT)
Subject: |SUCCESS| pw131963 [PATCH] ethdev: add calculate hash function
From: dpdklab@iol.unh.edu
To: Test Report <test-report@dpdk.org>
Cc: Ori Kam <orika@nvidia.com>
Content-Type: text/plain
X-BeenThere: test-report@dpdk.org
X-Mailman-Version: 2.1.29
Precedence: list
List-Id: automatic DPDK test reports <test-report.dpdk.org>
List-Unsubscribe: <https://mails.dpdk.org/options/test-report>,
 <mailto:test-report-request@dpdk.org?subject=unsubscribe>
List-Archive: <http://mails.dpdk.org/archives/test-report/>
List-Post: <mailto:test-report@dpdk.org>
List-Help: <mailto:test-report-request@dpdk.org?subject=help>
List-Subscribe: <https://mails.dpdk.org/listinfo/test-report>,
 <mailto:test-report-request@dpdk.org?subject=subscribe>
Errors-To: test-report-bounces@dpdk.org

Test-Label: iol-unit-amd64-testing
Test-Status: SUCCESS
http://dpdk.org/patch/131963

_Testing PASS_

Submitter: Ori Kam <orika@nvidia.com>
Date: Tuesday, September 26 2023 11:37:52 
DPDK git baseline: Repo:dpdk
  Branch: master
  CommitID:d58c97481a136ad5342c9d8717b22bdaa5eccd43

131963 --> testing pass

Test environment and result as below:

+---------------------+----------------+
|     Environment     | dpdk_unit_test |
+=====================+================+
| Windows Server 2019 | PASS           |
+---------------------+----------------+
| CentOS Stream 9     | PASS           |
+---------------------+----------------+
| CentOS Stream 8     | PASS           |
+---------------------+----------------+
| Ubuntu 22.04        | PASS           |
+---------------------+----------------+
| Fedora 37           | PASS           |
+---------------------+----------------+
| Fedora 38           | PASS           |
+---------------------+----------------+
| openSUSE Leap 15    | PASS           |
+---------------------+----------------+
| Debian Buster       | PASS           |
+---------------------+----------------+


Windows Server 2019
	Kernel: 10.0
	Compiler: clang 14.0 and gcc 8.1.0 (MinGW)

CentOS Stream 9
	Kernel: 4.18.0-240.10.1.el8_3.x86_64
	Compiler: gcc 11.3.1 20220421

CentOS Stream 8
	Kernel: 4.18.0-240.10.1.el8_3.x86_64
	Compiler: gcc 8.4.1 20200928

Ubuntu 22.04
	Kernel: 4.18.0-240.10.1.el8_3.x86_64
	Compiler: gcc 11.3.0

Fedora 37
	Kernel: Depends on container host system
	Compiler: gcc 12.3.1

Fedora 38
	Kernel: Depends on container host
	Compiler: gcc 13.1.1

openSUSE Leap 15
	Kernel: 4.18.0-240.10.1.el8_3.x86_64
	Compiler: gcc 7.5.0

Debian Buster
	Kernel: 5.4.0-122-generic
	Compiler: gcc 8.3.0-6

To view detailed results, visit:
https://lab.dpdk.org/results/dashboard/patchsets/27730/

UNH-IOL DPDK Community Lab

To manage your email subscriptions, visit: 
https://lab.dpdk.org/results/dashboard/preferences/subscriptions/